BEGIN:VCALENDAR
VERSION:2.0
PRODID:-//Subcontractors USA - ECPv6.15.20//NONSGML v1.0//EN
CALSCALE:GREGORIAN
METHOD:PUBLISH
X-WR-CALNAME:Subcontractors USA
X-ORIGINAL-URL:https://subcusa.com
X-WR-CALDESC:Events for Subcontractors USA
REFRESH-INTERVAL;VALUE=DURATION:PT1H
X-Robots-Tag:noindex
X-PUBLISHED-TTL:PT1H
BEGIN:VTIMEZONE
TZID:UTC
BEGIN:STANDARD
TZOFFSETFROM:+0000
TZOFFSETTO:+0000
TZNAME:UTC
DTSTART:20240101T000000
END:STANDARD
END:VTIMEZONE
BEGIN:VEVENT
DTSTART;TZID=UTC:20250806T113000
DTEND;TZID=UTC:20250806T130000
DTSTAMP:20260423T170539
CREATED:20250801T180659Z
LAST-MODIFIED:20250801T180659Z
UID:10000830-1754479800-1754485200@subcusa.com
SUMMARY:Houston\, TX - NAMC Lunch & Learn Opportunity
DESCRIPTION:  \nYou are invited! Event: Lunch & Learn…how to get certified and do business with Metro \nREGISTER HERE
URL:https://subcusa.com/event/houston-tx-namc-lunch-learn-opportunity/
LOCATION:HCC Southeast Center for Entrepreneurship\, 6815 Rustic Street\, Houston\, TX\, 77087\, United States
ATTACH;FMTTYPE=image/jpeg:https://subcusa.com/wp-content/uploads/2025/08/Screenshot-2025-08-01-130138.jpg
END:VEVENT
BEGIN:VEVENT
DTSTART;TZID=UTC:20250806T113000
DTEND;TZID=UTC:20250806T133000
DTSTAMP:20260423T170539
CREATED:20250801T185053Z
LAST-MODIFIED:20250801T185114Z
UID:10000834-1754479800-1754487000@subcusa.com
SUMMARY:Plano\, TX - AACPA Lunch & Learn | Mentorship & Networking  - RSVP Today!
DESCRIPTION:Unlock Your Potential with Expert Guidance! Join us for an invaluable opportunity to elevate your business through mentorship and networking. \nLearn from and connect with experts panel! \nDon’t miss out on the chance to gain critical knowledge\, expand your network\, and strategize for growth. \nREGISTER HERE
URL:https://subcusa.com/event/plano-tx-aacpa-lunch-learn-mentorship-networking-rsvp-today/
LOCATION:First United Bank\, 3930 Dallas Parkway\, 2nd Fl\, Plano\, TX\, United States
ATTACH;FMTTYPE=image/jpeg:https://subcusa.com/wp-content/uploads/2025/08/Screenshot-2025-08-01-134716.jpg
END:VEVENT
END:VCALENDAR