BEGIN:VCALENDAR
VERSION:2.0
PRODID:-//Subcontractors USA - ECPv6.15.20//NONSGML v1.0//EN
CALSCALE:GREGORIAN
METHOD:PUBLISH
X-WR-CALNAME:Subcontractors USA
X-ORIGINAL-URL:https://subcusa.com
X-WR-CALDESC:Events for Subcontractors USA
REFRESH-INTERVAL;VALUE=DURATION:PT1H
X-Robots-Tag:noindex
X-PUBLISHED-TTL:PT1H
BEGIN:VTIMEZONE
TZID:UTC
BEGIN:STANDARD
TZOFFSETFROM:+0000
TZOFFSETTO:+0000
TZNAME:UTC
DTSTART:20240101T000000
END:STANDARD
END:VTIMEZONE
BEGIN:VEVENT
DTSTART;TZID=UTC:20250811T110000
DTEND;TZID=UTC:20250811T133000
DTSTAMP:20260423T170536
CREATED:20250806T214108Z
LAST-MODIFIED:20250806T214108Z
UID:10000844-1754910000-1754919000@subcusa.com
SUMMARY:Houston\, TX - RHCA Small Business Certification Series
DESCRIPTION:Building Contractor Success \nThese seminars are tailored for small business owners and are designed to equip them with essential tools and strategies for growth and success in the market. \nREGISTER HERE \n  \n  \n 
URL:https://subcusa.com/event/houston-tx-rhca-small-business-certification-series/
LOCATION:RHCA\, 7047 Harrisburg Blvd.\, Houston\, TX\, 77011\, United States
ATTACH;FMTTYPE=image/jpeg:https://subcusa.com/wp-content/uploads/2025/08/Screenshot-2025-08-06-161127.jpg
END:VEVENT
END:VCALENDAR