BEGIN:VCALENDAR
VERSION:2.0
PRODID:-//Subcontractors USA - ECPv6.15.20//NONSGML v1.0//EN
CALSCALE:GREGORIAN
METHOD:PUBLISH
X-ORIGINAL-URL:https://subcusa.com
X-WR-CALDESC:Events for Subcontractors USA
REFRESH-INTERVAL;VALUE=DURATION:PT1H
X-Robots-Tag:noindex
X-PUBLISHED-TTL:PT1H
BEGIN:VTIMEZONE
TZID:UTC
BEGIN:STANDARD
TZOFFSETFROM:+0000
TZOFFSETTO:+0000
TZNAME:UTC
DTSTART:20240101T000000
END:STANDARD
END:VTIMEZONE
BEGIN:VEVENT
DTSTART;TZID=UTC:20250820T073000
DTEND;TZID=UTC:20250820T160000
DTSTAMP:20260423T170602
CREATED:20250325T204637Z
LAST-MODIFIED:20250325T204637Z
UID:10000752-1755675000-1755705600@subcusa.com
SUMMARY:Fort Worth\, TX - Build Fort Worth Construction Expo 2025
DESCRIPTION:Connecting MWDBEs and Industry Leaders \nFor the fifth year in a row\, were bringing together \nMWDBEs\, Hispanic contractors\, and business equity firms to stay connected and informed. \nJoin us for workshops\, networking and opportunities to \nlearn about the projects shaping Fort Worth’s skyline. \nEarly Bird Until May 2\, 2025
URL:https://subcusa.com/event/fort-worth-tx-build-fort-worth-construction-expo-2025/
LOCATION:Will Rogers Memorial  Center\, 3401 W. Lancaster Avenue\, Fort Worth\, TX\, 75107\, United States
ATTACH;FMTTYPE=image/png:https://subcusa.com/wp-content/uploads/2025/03/Screenshot-2025-03-25-153806.png
END:VEVENT
BEGIN:VEVENT
DTSTART;TZID=UTC:20250820T080000
DTEND;TZID=UTC:20250820T090000
DTSTAMP:20260423T170602
CREATED:20250806T210356Z
LAST-MODIFIED:20250806T210356Z
UID:10000843-1755676800-1755680400@subcusa.com
SUMMARY:Fort Worth\, TX - RHCA Design-Build Demystified: DBIA 101 for Winning Projects
DESCRIPTION:Join us at Build Fort Worth for an exclusive and focused session on understanding the design-build method and how it’s changing the game for contractors and the impacts it can have on your bottom line. \nWhat you’ll learn: \n·     The fundamentals of the design-build project delivery method \n·     How design-build differs from traditional construction approaches \n·     The benefits and challenges of using design-build for contractors \n·     How can this method impact your schedule\, costs\, and profits \n·     Key strategies to position your firm for success in design-build projects \nREGISTER HERE
URL:https://subcusa.com/event/fort-worth-tx-rhca-design-build-demystified-dbia-101-for-winning-projects/
LOCATION:Will Rogers Memorial Center\, 3401 W. Lancaster Avenue\, Fort Worth\, TX\, 76107\, United States
ATTACH;FMTTYPE=image/png:https://subcusa.com/wp-content/uploads/2025/08/Screenshot-2025-08-06-155729.png
END:VEVENT
BEGIN:VEVENT
DTSTART;TZID=UTC:20250820T080000
DTEND;TZID=UTC:20250820T140000
DTSTAMP:20260423T170602
CREATED:20250801T184317Z
LAST-MODIFIED:20250801T184419Z
UID:10000833-1755676800-1755698400@subcusa.com
SUMMARY:Fort Worth\, TX - Construction Highway Projects — Hear from TxDOT and NTTA Directly!
DESCRIPTION:Join the RHCA at the DFW Heavy Highway Forum during Build FW Expo! \nConnect with TxDOT leadership and industry experts as they share insights on the State of the Industry and upcoming project opportunities. \nWho Should Attend? \n\nContractors\nSubcontractors\nEngineers\nArchitects\nProfessional Service Providers\n\nWhy Attend? \n\nLearn about the $ Billions in Construction Project Opportunities.\n\n\nNetwork with TxDOT and NTTA Leadership\n\nREGISTER
URL:https://subcusa.com/event/fort-worth-tx-construction-highway-projects-hear-from-txdot-and-ntta-directly/
LOCATION:Will Rogers Memorial Center\, 3401 W. Lancaster Avenue\, Fort Worth\, TX\, 76107\, United States
ATTACH;FMTTYPE=image/jpeg:https://subcusa.com/wp-content/uploads/2025/08/Screenshot-2025-08-01-133740.jpg
END:VEVENT
BEGIN:VEVENT
DTSTART;TZID=UTC:20250820T093000
DTEND;TZID=UTC:20250820T103000
DTSTAMP:20260423T170602
CREATED:20250806T220703Z
LAST-MODIFIED:20250806T220703Z
UID:10000848-1755682200-1755685800@subcusa.com
SUMMARY:Fort Worth\, TX - RHCA Smarter Bids\, Bigger Wins: How AI Is Revolutionizing Construction Cost Estimating
DESCRIPTION:Build Fort Worth Breakout Session \nDiscover how AI tools are streamlining takeoffs\, reducing errors\, and helping you bid with precision. \nWhat you’ll learn: \n·     How AI-powered estimating tools are improving speed\, accuracy\, and consistency \n·     Ways AI can help reduce cost overruns and improve bid competitiveness \n·     Real-life examples of how companies are using AI for project planning and forecasting \n·     How to integrate AI into your current preconstruction workflows \n·     The future of AI in estimating and what it means for your business \nREGISTER HERE \n 
URL:https://subcusa.com/event/fort-worth-tx-rhca-smarter-bids-bigger-wins-how-ai-is-revolutionizing-construction-cost-estimating/
LOCATION:Will Rodgers Memorial Center\, 3401 W. Lancaster Avenue\, Fort Worth\, TX\, 76107\, United States
END:VEVENT
BEGIN:VEVENT
DTSTART;TZID=UTC:20250820T100000
DTEND;TZID=UTC:20250820T113000
DTSTAMP:20260423T170602
CREATED:20250801T183338Z
LAST-MODIFIED:20250801T183338Z
UID:10000832-1755684000-1755689400@subcusa.com
SUMMARY:Houston\, TX - Virtual Webinar - METRO's Online SBE Certification Workshop
DESCRIPTION:Come Learn: \n\nThe Importance of Certification\nMETRO’s Certification Requirements\nHow To Apply For METRO’s Certification\nAgencies that Accepts METRO’s Certifications\nHow To Access METRO’s Certification Portal\n\nClick Here to RSVP \n 
URL:https://subcusa.com/event/houston-tx-virtual-webinar-metros-online-sbe-certification-workshop/
LOCATION:TX
ATTACH;FMTTYPE=image/png:https://subcusa.com/wp-content/uploads/2025/08/Screenshot-2025-08-01-132054.png
END:VEVENT
BEGIN:VEVENT
DTSTART;TZID=UTC:20250820T113000
DTEND;TZID=UTC:20250820T123000
DTSTAMP:20260423T170602
CREATED:20250806T214657Z
LAST-MODIFIED:20250806T214657Z
UID:10000845-1755689400-1755693000@subcusa.com
SUMMARY:Fort Worth\, TX - RHCA Building the Future: Evans & Rosedale Capital Project Unveiled
DESCRIPTION:Event information \nJoin us at Build Fort Worth for an exclusive and focused session on exploring this historic redevelopment and how contractors can get involved with upcoming project opportunities. \nWhat you’ll learn: \n·     Insights into the historic redevelopment shaping the future of Fort Worth \n·     Upcoming project opportunities and scopes of work \n·     How contractors and subcontractors can get involved \n·     How to connect with decision makers and project stakeholders \nREGISTER HERE \n 
URL:https://subcusa.com/event/fort-worth-tx-rhca-building-the-future-evans-rosedale-capital-project-unveiled/
LOCATION:Will Rodgers Memorial Center\, 3401 W. Lancaster Avenue\, Fort Worth\, TX\, 76107\, United States
ATTACH;FMTTYPE=image/png:https://subcusa.com/wp-content/uploads/2025/08/Screenshot-2025-08-06-164301.png
END:VEVENT
END:VCALENDAR