BEGIN:VCALENDAR
VERSION:2.0
PRODID:-//Subcontractors USA - ECPv6.15.20//NONSGML v1.0//EN
CALSCALE:GREGORIAN
METHOD:PUBLISH
X-ORIGINAL-URL:https://subcusa.com
X-WR-CALDESC:Events for Subcontractors USA
REFRESH-INTERVAL;VALUE=DURATION:PT1H
X-Robots-Tag:noindex
X-PUBLISHED-TTL:PT1H
BEGIN:VTIMEZONE
TZID:UTC
BEGIN:STANDARD
TZOFFSETFROM:+0000
TZOFFSETTO:+0000
TZNAME:UTC
DTSTART:20240101T000000
END:STANDARD
END:VTIMEZONE
BEGIN:VEVENT
DTSTART;TZID=UTC:20250827T113000
DTEND;TZID=UTC:20250827T123000
DTSTAMP:20260423T170558
CREATED:20250807T224924Z
LAST-MODIFIED:20250807T224924Z
UID:10000853-1756294200-1756297800@subcusa.com
SUMMARY:San Antonio\, TX - Lone Star National Bank Lunch & Learn
DESCRIPTION:Curious about the South Texas Business Partnership and how your business or organization can benefit from being a part of our growing network? Join us for one of our Lunch & Learn sessions! \nThese engaging\, informative gatherings are designed for potential new partners and current members who want to dive deeper into the mission\, vision\, and impact of SoTX. Learn about the powerful work we’re doing across our 27-county region—from San Antonio to the Rio Grande Valley and beyond—and discover how we’re helping to shape a stronger South Texas through business\, advocacy\, and collaboration. \nAttendees will hear key highlights about SoTX and the many ways to get involved\, plus gain insights on timely and relevant topics presented by our incredible event sponsors. These sessions offer a chance to connect\, ask questions\, and explore how SoTX can help amplify your impact in the region. \nLunch is provided. Bring your appetite for both food and knowledge! \nRegister \n 
URL:https://subcusa.com/event/san-antonio-tx-lone-star-national-bank-lunch-learn/
LOCATION:Lonestar National Bank\, 3128 Sidney Brooks\, San Antonio\, TX\, 78235\, United States
ATTACH;FMTTYPE=image/jpeg:https://subcusa.com/wp-content/uploads/2025/08/Screenshot-2025-08-07-173934.jpg
END:VEVENT
END:VCALENDAR