BEGIN:VCALENDAR
VERSION:2.0
PRODID:-//Subcontractors USA - ECPv6.15.20//NONSGML v1.0//EN
CALSCALE:GREGORIAN
METHOD:PUBLISH
X-ORIGINAL-URL:https://subcusa.com
X-WR-CALDESC:Events for Subcontractors USA
REFRESH-INTERVAL;VALUE=DURATION:PT1H
X-Robots-Tag:noindex
X-PUBLISHED-TTL:PT1H
BEGIN:VTIMEZONE
TZID:UTC
BEGIN:STANDARD
TZOFFSETFROM:+0000
TZOFFSETTO:+0000
TZNAME:UTC
DTSTART:20240101T000000
END:STANDARD
END:VTIMEZONE
BEGIN:VEVENT
DTSTART;TZID=UTC:20250902T133000
DTEND;TZID=UTC:20250902T153000
DTSTAMP:20260423T151716
CREATED:20250807T201905Z
LAST-MODIFIED:20250807T201905Z
UID:10000850-1756819800-1756827000@subcusa.com
SUMMARY:Houston\, TX - JE Dunn Pre-bid and HUB Outreach Events
DESCRIPTION:JE Dunn Construction is leading the Design-Build Team for MD Anderson’s project in Sugar Land\, Texas. This new construction project will provide a full service ambulatory cancer care facility with a short stay bed unit. The building is design with 5 levels\, covering 472\,000 SF. The facility is planned to provide spaces for multidisciplinary clinics\, radiation oncology\, infusion therapy\, pharmacy services and much more. Site work and building structure construction has commenced. This final procurement package is mainly interior finishes\, but also includes metal wall\, soffit and roof panels\, along with landscaping and irrigation. \nRegister Here \n 
URL:https://subcusa.com/event/houston-tx-je-dunn-pre-bid-and-hub-outreach-events-2/
LOCATION:JE Dunn Construction\, 675 Bering Drive Suite 700\, Houston\, TX\, 77057\, United States
ATTACH;FMTTYPE=image/jpeg:https://subcusa.com/wp-content/uploads/2025/08/Screenshot-2025-08-07-150901-1.jpg
END:VEVENT
END:VCALENDAR