BEGIN:VCALENDAR
VERSION:2.0
PRODID:-//Subcontractors USA - ECPv6.15.20//NONSGML v1.0//EN
CALSCALE:GREGORIAN
METHOD:PUBLISH
X-WR-CALNAME:Subcontractors USA
X-ORIGINAL-URL:https://subcusa.com
X-WR-CALDESC:Events for Subcontractors USA
REFRESH-INTERVAL;VALUE=DURATION:PT1H
X-Robots-Tag:noindex
X-PUBLISHED-TTL:PT1H
BEGIN:VTIMEZONE
TZID:UTC
BEGIN:STANDARD
TZOFFSETFROM:+0000
TZOFFSETTO:+0000
TZNAME:UTC
DTSTART:20240101T000000
END:STANDARD
END:VTIMEZONE
BEGIN:VEVENT
DTSTART;TZID=UTC:20251001T113000
DTEND;TZID=UTC:20251001T123000
DTSTAMP:20260423T135233
CREATED:20250915T225055Z
LAST-MODIFIED:20250915T225055Z
UID:10000878-1759318200-1759321800@subcusa.com
SUMMARY:San Antonio\, TX - South Texas Business Partnership Lunch & Learn
DESCRIPTION:You’re invited to a Lunch & Learn with SoTX presented by Lone Star National Bank. Join us to learn more about the South Texas Business Partnership and hear directly from Lone Star National Bank as they share valuable insights on small business and commercial banking solutions designed to help your business thrive. \nREGISTRATION \n  \n 
URL:https://subcusa.com/event/san-antonio-tx-south-texas-business-partnership-lunch-learn/
LOCATION:University Health\, 3128 Sidney Brooks\, San Antonio\, TX\, 78235\, United States
ATTACH;FMTTYPE=image/jpeg:https://subcusa.com/wp-content/uploads/2025/09/Screenshot-2025-09-15-174439.jpg
END:VEVENT
END:VCALENDAR