BEGIN:VCALENDAR
VERSION:2.0
PRODID:-//Subcontractors USA - ECPv6.15.20//NONSGML v1.0//EN
CALSCALE:GREGORIAN
METHOD:PUBLISH
X-ORIGINAL-URL:https://subcusa.com
X-WR-CALDESC:Events for Subcontractors USA
REFRESH-INTERVAL;VALUE=DURATION:PT1H
X-Robots-Tag:noindex
X-PUBLISHED-TTL:PT1H
BEGIN:VTIMEZONE
TZID:UTC
BEGIN:STANDARD
TZOFFSETFROM:+0000
TZOFFSETTO:+0000
TZNAME:UTC
DTSTART:20240101T000000
END:STANDARD
END:VTIMEZONE
BEGIN:VEVENT
DTSTART;TZID=UTC:20251014T070000
DTEND;TZID=UTC:20251014T150000
DTSTAMP:20260423T135341
CREATED:20250918T192813Z
LAST-MODIFIED:20250918T192813Z
UID:10000889-1760425200-1760454000@subcusa.com
SUMMARY:Dallas\, TX - Regional Black Contractors Association (RBCA) - Golf Tournament 2025
DESCRIPTION:Our Annual Golf Tournament is right around the corner\, and we can’t do it without amazing volunteers like you. From greeting guests at registration to handing out refreshments on the course\, every role makes a difference in creating a fun and successful event. \nJoin us for a day of connection\, teamwork\, and impact. \nREGISTER
URL:https://subcusa.com/event/dallas-tx-regional-black-contractors-association-rbca-golf-tournament-2025/
LOCATION:Bear Creek\, 3500 Bear Creek Ct.\, Dallas\, TX\, United States
ATTACH;FMTTYPE=image/jpeg:https://subcusa.com/wp-content/uploads/2025/09/Screenshot-2025-09-18-123537.jpg
END:VEVENT
BEGIN:VEVENT
DTSTART;TZID=UTC:20251014T150000
DTEND;TZID=UTC:20251014T170000
DTSTAMP:20260423T135341
CREATED:20251013T162528Z
LAST-MODIFIED:20251013T162528Z
UID:10000922-1760454000-1760461200@subcusa.com
SUMMARY:Virtual - University of Texas at Austin - MCP Virtual Workshop Series
DESCRIPTION:Join us for an informative session designed to help HUB contractors navigate UT System’s Rolling Owner Controlled Insurance Program (ROCIP) and safety requirements. Learn how to reduce insurance costs\, meet compliance standards\, and implement best practices for jobsite safety. This workshop will also connect you with key support resources to help your business succeed on UT construction projects. \nRSVP \n 
URL:https://subcusa.com/event/virtual-university-of-texas-at-austin-mcp-virtual-workshop-series/
LOCATION:TX
ATTACH;FMTTYPE=image/png:https://subcusa.com/wp-content/uploads/2025/10/Screenshot-2025-10-13-112121.png
END:VEVENT
END:VCALENDAR