BEGIN:VCALENDAR
VERSION:2.0
PRODID:-//Subcontractors USA - ECPv6.15.20//NONSGML v1.0//EN
CALSCALE:GREGORIAN
METHOD:PUBLISH
X-WR-CALNAME:Subcontractors USA
X-ORIGINAL-URL:https://subcusa.com
X-WR-CALDESC:Events for Subcontractors USA
REFRESH-INTERVAL;VALUE=DURATION:PT1H
X-Robots-Tag:noindex
X-PUBLISHED-TTL:PT1H
BEGIN:VTIMEZONE
TZID:UTC
BEGIN:STANDARD
TZOFFSETFROM:+0000
TZOFFSETTO:+0000
TZNAME:UTC
DTSTART:20240101T000000
END:STANDARD
END:VTIMEZONE
BEGIN:VEVENT
DTSTART;TZID=UTC:20251015T073000
DTEND;TZID=UTC:20251016T160000
DTSTAMP:20260423T135402
CREATED:20250718T191525Z
LAST-MODIFIED:20250718T191525Z
UID:10000826-1760513400-1760630400@subcusa.com
SUMMARY:Houston\, TX - 2 DAY EVENT - HMSDC MARKETPLACE EXPO!
DESCRIPTION:About this event\nOctober 15th – October 16th\, 2025 \nEXPO is one of the most successful events of its kind and is Texas’ largest minority business trade fair\, supporting the advancement of the minority business community across its service territory area. The EXPO Business Marketplace is the premier event of the year for minority business development. We are committed to working with general attendees and exhibitors to make EXPO Marketplace 2024 our most successful ever! The intent of the EXPO Marketplace is to assist corporations\, prime suppliers\, educational institutions\, and government agencies in identifying minority business enterprises (MBEs) capable of meeting their product and service needs. From the MBE perspective\, the conference provides a forum whereby minority-owned businesses can identify current business opportunities\, processes\, and trends among major corporations and key governmental agencies and where they can be exposed to resources and people available to assist them. \nREGISTER HERE
URL:https://subcusa.com/event/houston-tx-2-day-event-hmsdc-marketplace-expo/
LOCATION:UHL Event Center\, 331 United Leuva Circle\, Houston\, TX\, 77060\, United States
ATTACH;FMTTYPE=image/jpeg:https://subcusa.com/wp-content/uploads/2025/07/Screenshot-2025-07-18-140900.jpg
END:VEVENT
BEGIN:VEVENT
DTSTART;TZID=UTC:20251015T080000
DTEND;TZID=UTC:20251015T180000
DTSTAMP:20260423T135402
CREATED:20250718T212423Z
LAST-MODIFIED:20250718T212454Z
UID:10000828-1760515200-1760551200@subcusa.com
SUMMARY:Houston\, TX - SUBC USA Celebrates Construction Inclusion Week - E.C.O. Summit & Expo
DESCRIPTION:Schedule of Events: \n\nRegistration  7:30 AM – 8:00 AM\nMain Stage Opening  8:00 AM – 8:50 AM\nExhibitor Breakout Sessions\, Workshops & Prime Panel  9:00 AM – 12:00 PM\nLunch/Networking  12:00 PM – 12:25 PM\nExhibitor Breakout Sessions\, Workshops & Prime Panel  12:25 PM – 2:55 PM\nSpecial Forum  3:00 PM – 4:00 PM\nNetworking/Happy Hour  4:00 PM – 6:00 PM\n\nWorkshop Topics Include: \n\nHow to Do Business with Agencies (METRO\, TXDOT\, PORT HOUSTON\, ETC.)\nHUB Certification Processes\nAccess to Capital\n\nREGISTER \nVIP REGISTRATION \nBECOME A SPONSOR
URL:https://subcusa.com/event/houston-tx-subc-usa-celebrates-construction-inclusion-week-e-c-o-summit-expo/
LOCATION:Bayou City Event Center\, 9401 Knight Rd\, Houston\, TX\, 77045\, United States
ATTACH;FMTTYPE=image/jpeg:https://subcusa.com/wp-content/uploads/2025/07/Screenshot-2025-07-18-161918.jpg
END:VEVENT
BEGIN:VEVENT
DTSTART;TZID=UTC:20251015T100000
DTEND;TZID=UTC:20251015T160000
DTSTAMP:20260423T135402
CREATED:20251007T170306Z
LAST-MODIFIED:20251007T170306Z
UID:10000920-1760522400-1760544000@subcusa.com
SUMMARY:Houston\, TX - RHCA Veteran-Owned Success: Navigating Certification & Federal Contracting
DESCRIPTION:Get step-by-step guidance on\nVOSB/SDVOSB certification and learn\nhow to secure federal contracts for\nyour Veteran-owned business! \nREGISTER \n  \n 
URL:https://subcusa.com/event/houston-tx-rhca-veteran-owned-success-navigating-certification-federal-contracting/
LOCATION:RHCA Greater Houston Office & Training Center\, 7047 Harrisburg Blvd.\, Houston\, TX\, United States
ATTACH;FMTTYPE=image/jpeg:https://subcusa.com/wp-content/uploads/2025/10/Screenshot-2025-10-07-115532.jpg
END:VEVENT
END:VCALENDAR