BEGIN:VCALENDAR
VERSION:2.0
PRODID:-//Subcontractors USA - ECPv6.15.20//NONSGML v1.0//EN
CALSCALE:GREGORIAN
METHOD:PUBLISH
X-ORIGINAL-URL:https://subcusa.com
X-WR-CALDESC:Events for Subcontractors USA
REFRESH-INTERVAL;VALUE=DURATION:PT1H
X-Robots-Tag:noindex
X-PUBLISHED-TTL:PT1H
BEGIN:VTIMEZONE
TZID:UTC
BEGIN:STANDARD
TZOFFSETFROM:+0000
TZOFFSETTO:+0000
TZNAME:UTC
DTSTART:20240101T000000
END:STANDARD
END:VTIMEZONE
BEGIN:VEVENT
DTSTART;TZID=UTC:20251030T113000
DTEND;TZID=UTC:20251030T123000
DTSTAMP:20260423T121704
CREATED:20251028T164240Z
LAST-MODIFIED:20251028T164240Z
UID:10000939-1761823800-1761827400@subcusa.com
SUMMARY:Virtual - Airport Minority Advisory Council (AMAC) - DBE/ACDBE Certifications Webinar
DESCRIPTION:WHY ATTEND? \nWe’ll discuss how to better understand the current DBE certification regulations related to non-presumptive eligibility and gain tips on reviewing social disadvantage personal narratives. \n·     Target Audience: This webinar is exclusively for Airport Representatives and DBE/ACDBE Certifying Bodies. \n·     Note: Registrations for this webinar are subject to review and approval by the AMAC National Office. The webinar link/access instructions will only be provided to approved registrants. \nREGISTER \n  \n 
URL:https://subcusa.com/event/virtual-airport-minority-advisory-council-amac-dbe-acdbe-certifications-webinar/
LOCATION:TX
ATTACH;FMTTYPE=image/png:https://subcusa.com/wp-content/uploads/2025/10/Screenshot-2025-10-28-114115.png
END:VEVENT
BEGIN:VEVENT
DTSTART;TZID=UTC:20251030T140000
DTEND;TZID=UTC:20251030T150000
DTSTAMP:20260423T121704
CREATED:20251027T220116Z
LAST-MODIFIED:20251027T220237Z
UID:10000938-1761832800-1761836400@subcusa.com
SUMMARY:Virtual - Harris Health The Community Internship\, Apprenticeship & Workforce Development Program
DESCRIPTION:You will receive key information about the program requirements\, processes and opportunities\nWe have something for every age group and committed to meeting you where you are in your journey for gainful employment\n\nREGISTER HERE
URL:https://subcusa.com/event/virtual-harris-health-the-community-internship-apprenticeship-workforce-development-program/
LOCATION:TX
ATTACH;FMTTYPE=image/jpeg:https://subcusa.com/wp-content/uploads/2025/10/Screenshot-2025-10-27-165418.jpg
END:VEVENT
END:VCALENDAR