BEGIN:VCALENDAR
VERSION:2.0
PRODID:-//Subcontractors USA - ECPv6.15.20//NONSGML v1.0//EN
CALSCALE:GREGORIAN
METHOD:PUBLISH
X-WR-CALNAME:Subcontractors USA
X-ORIGINAL-URL:https://subcusa.com
X-WR-CALDESC:Events for Subcontractors USA
REFRESH-INTERVAL;VALUE=DURATION:PT1H
X-Robots-Tag:noindex
X-PUBLISHED-TTL:PT1H
BEGIN:VTIMEZONE
TZID:UTC
BEGIN:STANDARD
TZOFFSETFROM:+0000
TZOFFSETTO:+0000
TZNAME:UTC
DTSTART:20240101T000000
END:STANDARD
END:VTIMEZONE
BEGIN:VEVENT
DTSTART;TZID=UTC:20251203T180000
DTEND;TZID=UTC:20251203T200000
DTSTAMP:20260423T105803
CREATED:20251202T220206Z
LAST-MODIFIED:20251202T220206Z
UID:10000958-1764784800-1764792000@subcusa.com
SUMMARY:Houston\, TX - Houston City College - Goal Scoring with DMCS
DESCRIPTION:Join us for an engaging panel discussion with representatives from DMCs and other major organizations as they share what they look for when selecting vendors\, supplies\, and business partners. \nWe will discuss: \n\nUnderstand what makes a business stand out.\nLearn how to meet company expectations and requirements.\nDiscover best practices for building strong industry relationships.\n\nFor any questions\, please contact: \nCarola Medina\, Office Manager \ncarola.medina@hccs.edu. \nRegister Today 
URL:https://subcusa.com/event/houston-tx-houston-city-college-goal-scoring-with-dmcs/
LOCATION:HCC Felix Fraga\, Room 360\, 301 N. Drennan Street\, Houston\, TX\, 77003\, United States
ATTACH;FMTTYPE=image/jpeg:https://subcusa.com/wp-content/uploads/2025/12/Screenshot-2025-12-02-155814.jpg
END:VEVENT
END:VCALENDAR