BEGIN:VCALENDAR
VERSION:2.0
PRODID:-//Subcontractors USA - ECPv6.15.20//NONSGML v1.0//EN
CALSCALE:GREGORIAN
METHOD:PUBLISH
X-WR-CALNAME:Subcontractors USA
X-ORIGINAL-URL:https://subcusa.com
X-WR-CALDESC:Events for Subcontractors USA
REFRESH-INTERVAL;VALUE=DURATION:PT1H
X-Robots-Tag:noindex
X-PUBLISHED-TTL:PT1H
BEGIN:VTIMEZONE
TZID:UTC
BEGIN:STANDARD
TZOFFSETFROM:+0000
TZOFFSETTO:+0000
TZNAME:UTC
DTSTART:20240101T000000
END:STANDARD
END:VTIMEZONE
BEGIN:VEVENT
DTSTART;TZID=UTC:20251208T110000
DTEND;TZID=UTC:20251208T133000
DTSTAMP:20260423T105732
CREATED:20251203T235903Z
LAST-MODIFIED:20251203T235903Z
UID:10000963-1765191600-1765200600@subcusa.com
SUMMARY:Houston\, TX - RHCA Building Blocks of Success
DESCRIPTION:These seminars are tailored for small business owners and are designed to equip them with essential tools and strategies for growth and success in the market. \nREGISTER HERE
URL:https://subcusa.com/event/houston-tx-rhca-building-blocks-of-success/
LOCATION:RHCA Headquarters\, 7047 Harrisburg Blvd.\, Houston\, TX\, United States
ATTACH;FMTTYPE=image/png:https://subcusa.com/wp-content/uploads/2025/12/Screenshot-2025-12-03-175515.png
END:VEVENT
END:VCALENDAR