BEGIN:VCALENDAR
VERSION:2.0
PRODID:-//Subcontractors USA - ECPv6.15.20//NONSGML v1.0//EN
CALSCALE:GREGORIAN
METHOD:PUBLISH
X-ORIGINAL-URL:https://subcusa.com
X-WR-CALDESC:Events for Subcontractors USA
REFRESH-INTERVAL;VALUE=DURATION:PT1H
X-Robots-Tag:noindex
X-PUBLISHED-TTL:PT1H
BEGIN:VTIMEZONE
TZID:UTC
BEGIN:STANDARD
TZOFFSETFROM:+0000
TZOFFSETTO:+0000
TZNAME:UTC
DTSTART:20240101T000000
END:STANDARD
END:VTIMEZONE
BEGIN:VEVENT
DTSTART;TZID=UTC:20251210T070000
DTEND;TZID=UTC:20251210T150000
DTSTAMP:20260423T105834
CREATED:20251120T221208Z
LAST-MODIFIED:20251120T221208Z
UID:10000953-1765350000-1765378800@subcusa.com
SUMMARY:San Antonio\, TX - Join us at the 2025 Bexar County Business Conference
DESCRIPTION:2025 BEXAR COUNTY BUSINESS CONFERENCE \n\n\n\n\nThe primary focus of this conference is how to effectively use technology while conducting business with public and private sector organizations\, featuring workshops\, vendor education\, and access to the CPS Energy Veterans Business & Resource Center. Over the past 24 years\, exhibitors have provided tremendous opportunities for vendors and buyers to connect. \n\n\n\n\n\n\n\n\nWHO SHOULD ATTEND\n\nBusiness owners ready and equipped to work with the public and private sectors.\nBusiness owners seeking help to build capacity for public and private sector work.\nEntrepreneurs in need of technical or financial assistance to grow or sustain their business.\nAspiring business owners\, including those currently employed\, looking to prepare\, connect\, and explore future opportunities.\nBuyers seeking to expand their supplier bases.\nPrime vendors looking for subcontractors/ subconsultants/ sub-suppliers.\nPublic Agencies & Organizations.\n\n\n\n\n\nREGISTER NOW
URL:https://subcusa.com/event/san-antonio-tx-join-us-at-the-2025-bexar-county-business-conference/
LOCATION:Freeman Expo Hall\, 3201 E. Houston Street\, San Antonio\, TX\, 78219\, United States
ATTACH;FMTTYPE=image/jpeg:https://subcusa.com/wp-content/uploads/2025/11/Screenshot-2025-11-20-161002.jpg
END:VEVENT
BEGIN:VEVENT
DTSTART;TZID=UTC:20251210T090000
DTEND;TZID=UTC:20251210T110000
DTSTAMP:20260423T105834
CREATED:20251204T162052Z
LAST-MODIFIED:20251204T162052Z
UID:10000966-1765357200-1765364400@subcusa.com
SUMMARY:Virtual - METRO Leveraging AI to Understand and Respond to METRO Solicitations
DESCRIPTION:REGISTER HERE
URL:https://subcusa.com/event/virtual-metro-leveraging-ai-to-understand-and-respond-to-metro-solicitations/
LOCATION:TX
ATTACH;FMTTYPE=image/png:https://subcusa.com/wp-content/uploads/2025/12/Screenshot-2025-12-04-101548.png
END:VEVENT
BEGIN:VEVENT
DTSTART;TZID=UTC:20251210T100000
DTEND;TZID=UTC:20251210T111500
DTSTAMP:20260423T105834
CREATED:20251204T164524Z
LAST-MODIFIED:20251204T164524Z
UID:10000969-1765360800-1765365300@subcusa.com
SUMMARY:Plano\, TX - NTTA Second-Wednesday Business Chat
DESCRIPTION:NTTA Business Chat\n\n\n\n\n\n\n\nJoin NTTA’s Business Development & Opportunities Department\, Procurement and Business Units to learn more about our upcoming opportunities and how to do business with us. Meet and connect with our advocacy partners\, contractor associations and certifying agencies to gain insight about their unique services and programs.\n\n\n\n  \nREGISTER HERE
URL:https://subcusa.com/event/plano-tx-ntta-second-wednesday-business-chat/
LOCATION:NTTA Boardroom\, 5900 W. Plano Pkwy. Suite 200\, Plano\, TX\, 75093\, United States
ATTACH;FMTTYPE=image/png:https://subcusa.com/wp-content/uploads/2025/12/Screenshot-2025-12-04-104400.png
END:VEVENT
BEGIN:VEVENT
DTSTART;TZID=UTC:20251210T113000
DTEND;TZID=UTC:20251210T130000
DTSTAMP:20260423T105834
CREATED:20251209T140032Z
LAST-MODIFIED:20251209T140542Z
UID:10000978-1765366200-1765371600@subcusa.com
SUMMARY:Houston\, TX - NAMC Lunch & Learn
DESCRIPTION:NAMC HOUSTON CHAPTER TOWN HALL MEETING\nBuilding Bridges & Crossing Barriers Together \nThe NAMC Greater Houston Chapter invites members\, future members\, stakeholders\, and supporters to join us for an important Town Hall Meeting & Community Listening Session. \nThis is your space to: \n\nShare how we can better support you and your business\nOffer your ideas and suggestions\nVoice your concerns and even your critiques\n\nWe truly want to hear from you. Your feedback will directly shape our programs\, advocacy\, and resources. \nAll attendees will also receive a follow-up survey\, so your input continues to guide our work even after the event. \nOur mission is to build bridges and cross barriers – and we can’t do that without you. Your voice matters\, and your perspective is essential to advancing minority contractors in our region\, all in alignment with our vision at www.namctexas.org. \nRegister Here
URL:https://subcusa.com/event/houston-tx-namc-lunch-learn-2/
LOCATION:HCC Southeast Center for Entrepreneurship\, 6815 Rustic Street\, Houston\, TX\, 77087\, United States
ATTACH;FMTTYPE=image/jpeg:https://subcusa.com/wp-content/uploads/2025/12/Screenshot-2025-12-09-075947.jpg
END:VEVENT
END:VCALENDAR