BEGIN:VCALENDAR
VERSION:2.0
PRODID:-//Subcontractors USA - ECPv6.15.20//NONSGML v1.0//EN
CALSCALE:GREGORIAN
METHOD:PUBLISH
X-WR-CALNAME:Subcontractors USA
X-ORIGINAL-URL:https://subcusa.com
X-WR-CALDESC:Events for Subcontractors USA
REFRESH-INTERVAL;VALUE=DURATION:PT1H
X-Robots-Tag:noindex
X-PUBLISHED-TTL:PT1H
BEGIN:VTIMEZONE
TZID:UTC
BEGIN:STANDARD
TZOFFSETFROM:+0000
TZOFFSETTO:+0000
TZNAME:UTC
DTSTART:20240101T000000
END:STANDARD
END:VTIMEZONE
BEGIN:VEVENT
DTSTART;TZID=UTC:20251211T080000
DTEND;TZID=UTC:20251211T090000
DTSTAMP:20260423T110747
CREATED:20251124T161830Z
LAST-MODIFIED:20251124T161830Z
UID:10000955-1765440000-1765443600@subcusa.com
SUMMARY:Houston\, TX - GHBPF and City of Houston OBO - 34th Annual Awards Ceremony
DESCRIPTION:The awards are to recognize and promote outstanding achievements of small businesses in 16 categories based on challenges overcome\, total revenues\, jobs created and economic impact the\nbusinesses brought to the community\, as well as individuals and organizations that have demonstrated leadership and commitment to the advancement of the small business community. \nFREE TO ATTEND – REGISTER HERE
URL:https://subcusa.com/event/houston-tx-ghbpf-and-city-of-houston-obo-34th-annual-awards-ceremony/
LOCATION:George R. Brown Convention Center\, 1001 Avenida De Las Americas\, Houston\, TX\, 77010\, United States
ATTACH;FMTTYPE=image/jpeg:https://subcusa.com/wp-content/uploads/2025/11/Screenshot-2025-11-24-101511.jpg
END:VEVENT
BEGIN:VEVENT
DTSTART;TZID=UTC:20251211T090000
DTEND;TZID=UTC:20251211T140000
DTSTAMP:20260423T110747
CREATED:20251107T163314Z
LAST-MODIFIED:20251107T163314Z
UID:10000946-1765443600-1765461600@subcusa.com
SUMMARY:Houston\, TX - Calling All Prime Contractors: Exhibit at Meet the Buyer 2025!
DESCRIPTION:Join the City of Houston Office of Business Opportunity for the 2025 Meet the Buyer Procurement Forum & Business Expo on Thursday\, December 11\, 2025\, at the George R. Brown Convention Center. This annual event connects small and certified firms with procurement agents\, prime contractors\, and resource partners to explore contracting and networking opportunities. \nREGISTER HERE
URL:https://subcusa.com/event/houston-tx-calling-all-prime-contractors-exhibit-at-meet-the-buyer-2025/
LOCATION:George R. Brown\, 1001 Avenida De Las Americas\, Houston\, TX\, 77010\, United States
ATTACH;FMTTYPE=image/jpeg:https://subcusa.com/wp-content/uploads/2025/11/Screenshot-2025-11-07-102930.jpg
END:VEVENT
BEGIN:VEVENT
DTSTART;TZID=UTC:20251211T090000
DTEND;TZID=UTC:20251211T160000
DTSTAMP:20260423T110747
CREATED:20251204T000350Z
LAST-MODIFIED:20251204T000350Z
UID:10000964-1765443600-1765468800@subcusa.com
SUMMARY:Houston\, TX - LiftFund - Cash Flow Like a Pro: QuickBooks for Business Success
DESCRIPTION:Join us IN-PERSON as we discuss how managing financial management through QuickBooks helps your business succeed! \n\n\nJoin us IN PERSON as we explore the multifaceted aspects of financial management and unlock a wealth of invaluable knowledge essential for business prosperity! \nThis comprehensive\, day-long workshop is designed to emphasize the critical importance of effective financial management in achieving sustainable business success. Throughout the workshop\, participants will gain invaluable insights into the intricate workings of financial management\, equipping them with the knowledge and skills necessary to navigate and optimize their business’s financial landscape. \n**LIGHT SNACKS AND LUNCH WILL BE PROVIDED** \n\n\n  \nRegister Here
URL:https://subcusa.com/event/houston-tx-liftfund-cash-flow-like-a-pro-quickbooks-for-business-success/
LOCATION:RHCA\, 7047 Harrisburg Blvd.\, Houston\, TX\, 77011\, United States
ATTACH;FMTTYPE=image/jpeg:https://subcusa.com/wp-content/uploads/2025/12/Screenshot-2025-12-03-180029.jpg
END:VEVENT
END:VCALENDAR