BEGIN:VCALENDAR
VERSION:2.0
PRODID:-//Subcontractors USA - ECPv6.15.20//NONSGML v1.0//EN
CALSCALE:GREGORIAN
METHOD:PUBLISH
X-ORIGINAL-URL:https://subcusa.com
X-WR-CALDESC:Events for Subcontractors USA
REFRESH-INTERVAL;VALUE=DURATION:PT1H
X-Robots-Tag:noindex
X-PUBLISHED-TTL:PT1H
BEGIN:VTIMEZONE
TZID:UTC
BEGIN:STANDARD
TZOFFSETFROM:+0000
TZOFFSETTO:+0000
TZNAME:UTC
DTSTART:20250101T000000
END:STANDARD
END:VTIMEZONE
BEGIN:VEVENT
DTSTART;TZID=UTC:20260114T100000
DTEND;TZID=UTC:20260114T111500
DTSTAMP:20260423T095037
CREATED:20260102T185321Z
LAST-MODIFIED:20260102T185321Z
UID:10000995-1768384800-1768389300@subcusa.com
SUMMARY:Plano\, TX - NTTA Business Chat
DESCRIPTION:Join NTTA’s Business Development & Opportunities Department\, Procurement and Business Units to learn more about our upcoming opportunities and how to do business with us. Meet and connect with our advocacy partners\, contractor associations and certifying agencies to gain insight about their unique services and programs.\n\n\n\n  \nREGISTER
URL:https://subcusa.com/event/plano-tx-ntta-business-chat/
LOCATION:NTTA Boardroom\, 5900 W. Plano Pkwy. Suite 200\, Plano\, TX\, 75093\, United States
ATTACH;FMTTYPE=image/jpeg:https://subcusa.com/wp-content/uploads/2026/01/Screenshot-2026-01-02-123530.jpg
END:VEVENT
END:VCALENDAR