BEGIN:VCALENDAR
VERSION:2.0
PRODID:-//Subcontractors USA - ECPv6.15.20//NONSGML v1.0//EN
CALSCALE:GREGORIAN
METHOD:PUBLISH
X-WR-CALNAME:Subcontractors USA
X-ORIGINAL-URL:https://subcusa.com
X-WR-CALDESC:Events for Subcontractors USA
REFRESH-INTERVAL;VALUE=DURATION:PT1H
X-Robots-Tag:noindex
X-PUBLISHED-TTL:PT1H
BEGIN:VTIMEZONE
TZID:UTC
BEGIN:STANDARD
TZOFFSETFROM:+0000
TZOFFSETTO:+0000
TZNAME:UTC
DTSTART:20250101T000000
END:STANDARD
END:VTIMEZONE
BEGIN:VEVENT
DTSTART;TZID=UTC:20260129T100000
DTEND;TZID=UTC:20260129T120000
DTSTAMP:20260423T082238
CREATED:20260114T191432Z
LAST-MODIFIED:20260114T191432Z
UID:10001004-1769680800-1769688000@subcusa.com
SUMMARY:Houston\, TX - PPG Global - How to Maximize Your Entrepreneurial Power - Taking Your Business to the Next Level
DESCRIPTION:Join this dynamic event to kick off 26: Hear directly from a panel of entrepreneurs leading their industries\, learn their best practices and tips\, have authentic dialogue with panelists and attendees and build your capacity by gaining first hand experiences and knowledge. \nREGISTER NOW \n  \n 
URL:https://subcusa.com/event/houston-tx-ppg-global-how-to-maximize-your-entrepreneurial-power-taking-your-business-to-the-next-level/
LOCATION:Kashmere Multi Service Center\, 4802 Lockwood Drive\, Houston\, TX\, 77026\, United States
ATTACH;FMTTYPE=image/jpeg:https://subcusa.com/wp-content/uploads/2026/01/Screenshot-2026-01-14-130608.jpg
END:VEVENT
END:VCALENDAR