BEGIN:VCALENDAR
VERSION:2.0
PRODID:-//Subcontractors USA - ECPv6.15.20//NONSGML v1.0//EN
CALSCALE:GREGORIAN
METHOD:PUBLISH
X-WR-CALNAME:Subcontractors USA
X-ORIGINAL-URL:https://subcusa.com
X-WR-CALDESC:Events for Subcontractors USA
REFRESH-INTERVAL;VALUE=DURATION:PT1H
X-Robots-Tag:noindex
X-PUBLISHED-TTL:PT1H
BEGIN:VTIMEZONE
TZID:UTC
BEGIN:STANDARD
TZOFFSETFROM:+0000
TZOFFSETTO:+0000
TZNAME:UTC
DTSTART:20250101T000000
END:STANDARD
END:VTIMEZONE
BEGIN:VEVENT
DTSTART;TZID=UTC:20260328T100000
DTEND;TZID=UTC:20260328T140000
DTSTAMP:20260423T070233
CREATED:20260326T173657Z
LAST-MODIFIED:20260326T173657Z
UID:10001033-1774692000-1774706400@subcusa.com
SUMMARY:Houston\, TX- HBDI PRESENTS BUSINESS FUNDING SATURDAY
DESCRIPTION:Unlock the secret to securing funding for your business and stop getting rejected. Our expert guidance and support will help you understand investor psychology\, access new capital streams\, and build a winning pitch. With our help\, you can unlock your business potential and achieve financial stability. You will learn what investors care about\, how to craft a compelling story\, and how to deploy capital to grow and dominate the market. Our goal is to empower entrepreneurs and help them secure the funding they deserve. \nREGISTER HERE
URL:https://subcusa.com/event/houston-tx-hbdi-presents-business-funding-saturday/
LOCATION:Houston Business Development\, Inc.\, 5330 Griggs Rd.\, Houston\, TX\, 77021\, United States
ATTACH;FMTTYPE=image/png:https://subcusa.com/wp-content/uploads/2026/03/Screenshot-2026-03-26-122720.png
END:VEVENT
END:VCALENDAR