BEGIN:VCALENDAR
VERSION:2.0
PRODID:-//Subcontractors USA - ECPv6.15.20//NONSGML v1.0//EN
CALSCALE:GREGORIAN
METHOD:PUBLISH
X-WR-CALNAME:Subcontractors USA
X-ORIGINAL-URL:https://subcusa.com
X-WR-CALDESC:Events for Subcontractors USA
REFRESH-INTERVAL;VALUE=DURATION:PT1H
X-Robots-Tag:noindex
X-PUBLISHED-TTL:PT1H
BEGIN:VTIMEZONE
TZID:UTC
BEGIN:STANDARD
TZOFFSETFROM:+0000
TZOFFSETTO:+0000
TZNAME:UTC
DTSTART:20250101T000000
END:STANDARD
END:VTIMEZONE
BEGIN:VEVENT
DTSTART;TZID=UTC:20260408T100000
DTEND;TZID=UTC:20260408T111500
DTSTAMP:20260423T054141
CREATED:20260331T161838Z
LAST-MODIFIED:20260406T214725Z
UID:10001034-1775642400-1775646900@subcusa.com
SUMMARY:Plano\, TX - Doing Business with NTTA
DESCRIPTION:Join NTTA’s Business Development & Opportunities Department\, Procurement and Business Units to learn more about our upcoming opportunities and how to do business with us. Meet and connect with our advocacy partners\, contractor associations and certifying agencies to gain insight about their unique services and programs. \nRegister Here NTTA Business Chat
URL:https://subcusa.com/event/plano-doing-business-with-ntta/
LOCATION:NTTA Boardroom\, 5900 W. Plano Pkwy. Suite 200\, Plano\, TX\, 75093\, United States
ATTACH;FMTTYPE=image/png:https://subcusa.com/wp-content/uploads/2026/03/Screenshot-2026-03-31-111341.png
END:VEVENT
BEGIN:VEVENT
DTSTART;TZID=UTC:20260408T100000
DTEND;TZID=UTC:20260408T113000
DTSTAMP:20260423T054141
CREATED:20260406T215822Z
LAST-MODIFIED:20260406T220138Z
UID:10001035-1775642400-1775647800@subcusa.com
SUMMARY:Virtual - Understanding METRO's Information Technology (IT) Process
DESCRIPTION:Register Here- Understanding METRO’s IT Process 
URL:https://subcusa.com/event/houston-tx-understanding-metros-information-technology-it-process/
LOCATION:TX
ATTACH;FMTTYPE=image/png:https://subcusa.com/wp-content/uploads/2026/04/Screenshot-2026-04-06-165520.png
END:VEVENT
END:VCALENDAR