BEGIN:VCALENDAR
VERSION:2.0
PRODID:-//Subcontractors USA - ECPv6.15.20//NONSGML v1.0//EN
CALSCALE:GREGORIAN
METHOD:PUBLISH
X-ORIGINAL-URL:https://subcusa.com
X-WR-CALDESC:Events for Subcontractors USA
REFRESH-INTERVAL;VALUE=DURATION:PT1H
X-Robots-Tag:noindex
X-PUBLISHED-TTL:PT1H
BEGIN:VTIMEZONE
TZID:UTC
BEGIN:STANDARD
TZOFFSETFROM:+0000
TZOFFSETTO:+0000
TZNAME:UTC
DTSTART:20250101T000000
END:STANDARD
END:VTIMEZONE
BEGIN:VEVENT
DTSTART;TZID=UTC:20260417T090000
DTEND;TZID=UTC:20260417T120000
DTSTAMP:20260423T054137
CREATED:20260310T155407Z
LAST-MODIFIED:20260310T155407Z
UID:10001026-1776416400-1776427200@subcusa.com
SUMMARY:Houston\, TX - Doing Business with TxDOT
DESCRIPTION:Attendees will have the opportunity to connect with: TxDOT representatives from Construction\, Maintenance\, and Professional Engineering Procurement Services (PEPS)\nPrime contractors and other small businesses Representatives from local support organizations and the Associated General Contractors of Texas \nContact Katrena.Plummer@txdot.gov
URL:https://subcusa.com/event/houston-tx-doing-business-with-txdot/
LOCATION:TxDOT Houston District\, 7600 Washington Avenue\, Houston\, TX\, 77007\, United States
ATTACH;FMTTYPE=image/jpeg:https://subcusa.com/wp-content/uploads/2026/03/Screenshot-2026-03-10-104854.jpg
END:VEVENT
END:VCALENDAR