BEGIN:VCALENDAR
VERSION:2.0
PRODID:-//Subcontractors USA - ECPv6.15.20//NONSGML v1.0//EN
CALSCALE:GREGORIAN
METHOD:PUBLISH
X-ORIGINAL-URL:https://subcusa.com
X-WR-CALDESC:Events for Subcontractors USA
REFRESH-INTERVAL;VALUE=DURATION:PT1H
X-Robots-Tag:noindex
X-PUBLISHED-TTL:PT1H
BEGIN:VTIMEZONE
TZID:UTC
BEGIN:STANDARD
TZOFFSETFROM:+0000
TZOFFSETTO:+0000
TZNAME:UTC
DTSTART:20250101T000000
END:STANDARD
END:VTIMEZONE
BEGIN:VEVENT
DTSTART;TZID=UTC:20260427T080000
DTEND;TZID=UTC:20260427T150000
DTSTAMP:20260423T054136
CREATED:20260413T193901Z
LAST-MODIFIED:20260413T193901Z
UID:10001042-1777276800-1777302000@subcusa.com
SUMMARY:Houston\,TX - NAMC 6th Annual Golf Classic
DESCRIPTION:Monday\, April 27\, 2026\nRiverbend Country Club \nThis highly anticipated event brings together contractors\, developers\, corporate partners\, and construction industry leaders for a day of golf\, networking\, and relationship building. \nParticipants will enjoy a full day of activities including golf\, breakfast\, lunch\, and an awards networking reception. \nPlayer Registration \nIndividual Player – $250\nIncludes tournament participation\, golfer cooler gift\, breakfast\, lunch\, and networking reception. \nFoursome Team – $1\,000\nIncludes four players\, golfer coolers\, breakfast\, lunch\, and networking opportunities. \nSponsorship Opportunities \nPresenting Sponsor – $15\,000\nTitle Sponsor – $10\,000\nPlatinum Sponsor – $7\,500\nGold Sponsor – $5\,000\nBronze Sponsor – $2\,000 \n⭐ Golfer Cooler Sponsor – $3\,000Exclusive branding opportunity with your company logo prominently displayed on 150 official golfer coolers provided to all participants. \nIncludes:\n• High-visibility brand placement throughout the tournament• Recognition in event materials and announcements• Opportunity to include a promotional item inside each cooler \nThis is a premium\, take-home branding opportunity that keeps your company top-of-mind well beyond the event. \nAdditional sponsorship opportunities include golf carts\, beverage stations\, breakfast\, lunch\, golfer coolers\, contest sponsorships\, and hole signage. \nCompanies may also participate through corporate networking tables\, awards luncheon tickets\, or promotional items placed inside golfer coolers distributed to all players. \nGolfer Cooler Marketing Insert – $50 \nCompanies may place a promotional item or marketing material inside the official golfer coolers distributed to all participants\, providing direct exposure to approximately 150–200 construction industry professionals and decision-makers. \nSponsors must provide 150–200 items by April 22\, 2026. \nTo view full details and register\, please visit: \nhttps://members.namctexas.org/ap/Events/Register/DgFjVgQC1CQCW \nSpots for teams and sponsorships are limited\, so early registration is encouraged. \nWe look forward to seeing you on the course for a great day of golf\, networking\, and supporting the mission of NAMC. \nRegister Here: NAMC 6th Annual Golf Classic – Event Registration
URL:https://subcusa.com/event/houstontx-namc-6th-annual-golf-classic/
LOCATION:Riverbend Country Club\, 1214 Dulles Avenue\, Sugar Land\, TX\, 77478\, United States
ATTACH;FMTTYPE=image/jpeg:https://subcusa.com/wp-content/uploads/2026/04/Screenshot-2026-04-13-143051.jpg
END:VEVENT
END:VCALENDAR