BEGIN:VCALENDAR
VERSION:2.0
PRODID:-//Subcontractors USA - ECPv6.15.20//NONSGML v1.0//EN
CALSCALE:GREGORIAN
METHOD:PUBLISH
X-WR-CALNAME:Subcontractors USA
X-ORIGINAL-URL:https://subcusa.com
X-WR-CALDESC:Events for Subcontractors USA
REFRESH-INTERVAL;VALUE=DURATION:PT1H
X-Robots-Tag:noindex
X-PUBLISHED-TTL:PT1H
BEGIN:VTIMEZONE
TZID:UTC
BEGIN:STANDARD
TZOFFSETFROM:+0000
TZOFFSETTO:+0000
TZNAME:UTC
DTSTART:20240101T000000
END:STANDARD
END:VTIMEZONE
BEGIN:VEVENT
DTSTART;TZID=UTC:20260128T090000
DTEND;TZID=UTC:20260128T120000
DTSTAMP:20260423T105459
CREATED:20251216T162110Z
LAST-MODIFIED:20251216T162110Z
UID:10000982-1769590800-1769601600@subcusa.com
SUMMARY:Houston\, TX - Harris Health How to Successfully Submit a Bid
DESCRIPTION:Register Here
URL:https://subcusa.com/event/houston-tx-harris-health-how-to-successfully-submit-a-bid/
LOCATION:Harris County Department of Education\, 6.00 Irvington Blvd\, Houston\, TX\, 77022\, United States
ATTACH;FMTTYPE=image/jpeg:https://subcusa.com/wp-content/uploads/2025/12/Screenshot-2025-12-16-101703.jpg
END:VEVENT
BEGIN:VEVENT
DTSTART;TZID=UTC:20260128T090000
DTEND;TZID=UTC:20260128T110000
DTSTAMP:20260423T105459
CREATED:20251229T201838Z
LAST-MODIFIED:20251229T201838Z
UID:10000992-1769590800-1769598000@subcusa.com
SUMMARY:Virtual - Navigating Through METRO’s RFPs\, RFQs & IFBs: Learn Their Importance and Differences
DESCRIPTION:In this workshop you will learn how to respond to METRO’s various types of solicitations: RFPs\, RFQs & IFBs. We will discuss reviewing the opportunity\, their differences\, compliance vs. responsiveness and creating winning content. \nNOTE: You must be registered in order to attend. \nREGISTER NOW
URL:https://subcusa.com/event/virtual-navigating-through-metros-rfps-rfqs-ifbs-learn-their-importance-and-differences/
LOCATION:TX
END:VEVENT
BEGIN:VEVENT
DTSTART;TZID=UTC:20260123T090000
DTEND;TZID=UTC:20260123T150000
DTSTAMP:20260423T105459
CREATED:20251204T222608Z
LAST-MODIFIED:20251204T222608Z
UID:10000973-1769158800-1769180400@subcusa.com
SUMMARY:Houston\, TX - HCC Small Business Success - Vet the Venture - Are My Ideas Lucrative?
DESCRIPTION:Developed by the Glenda & David Regenbaum Center for Entrepreneurship – HCC Northwest\, the HCC Small Business Success Series is a 5-Module program that offers an opportunity for hands-on learning and interaction with faculty\, guest entrepreneurs\, business experts\, and peer delegates. \nThis series is specifically developed for proposed\, startup and existing entrepreneurs who are actively pursuing launch and growth of your specific business concept. \nA Certificate of Completion will be awarded to those students who fully attend all 5 modules to graduate from the series. \nRegister Here
URL:https://subcusa.com/event/houston-tx-hcc-small-business-success-vet-the-venture-are-my-ideas-lucrative/
LOCATION:HCC South Campus\, 1990 Airport Blvd.\, Houston\, TX\, 7705\, United States
ATTACH;FMTTYPE=image/jpeg:https://subcusa.com/wp-content/uploads/2025/12/Screenshot-2025-12-04-153800-1.jpg
END:VEVENT
BEGIN:VEVENT
DTSTART;TZID=UTC:20260122T160000
DTEND;TZID=UTC:20260122T170000
DTSTAMP:20260423T105459
CREATED:20260114T190106Z
LAST-MODIFIED:20260114T190106Z
UID:10001003-1769097600-1769101200@subcusa.com
SUMMARY:San Antonio\, TX - Layton Construction Trade Partner Outreach Event
DESCRIPTION:University Hospital Medical Office Space Build-Out \nRSVP \nClick here to prequalify
URL:https://subcusa.com/event/san-antonio-tx-layton-construction-trade-partner-outreach-event/
LOCATION:Medical Office Space Build Out at Two University Health Community Hospitals\, 11102 S. Zarzamora Street\, San Antonio\, TX\, 78224\, United States
ATTACH;FMTTYPE=image/jpeg:https://subcusa.com/wp-content/uploads/2026/01/Screenshot-2026-01-14-125222.jpg
END:VEVENT
BEGIN:VEVENT
DTSTART;TZID=UTC:20260122T140000
DTEND;TZID=UTC:20260122T160000
DTSTAMP:20260423T105459
CREATED:20260106T183909Z
LAST-MODIFIED:20260106T183909Z
UID:10000996-1769090400-1769097600@subcusa.com
SUMMARY:Sugarland\, TX - FBISD SMALL BUSINESS ENTERPRISE PROGRAM ‌ ‌ ‌ ‌ ‌ ‌ ‌ ‌ ‌
DESCRIPTION:RESERVEYOURSEAT\n\n\n\n\n\n\n\n\nNo Cost To Attend – You are Invited to attend FBISD Small Business Enterprise Program Workshop\n\n\n  \n\n\n\n\n\n\nREGISTER HERE \n 
URL:https://subcusa.com/event/sugarland-tx-fbisd-small-business-enterprise-program/
LOCATION:James Reese Career & Technical Center\, 12300 University Blvd.\, Sugarland\, TX\, 77479\, United States
ATTACH;FMTTYPE=image/jpeg:https://subcusa.com/wp-content/uploads/2026/01/Screenshot-2026-01-06-123823.jpg
END:VEVENT
BEGIN:VEVENT
DTSTART;TZID=UTC:20260122T090000
DTEND;TZID=UTC:20260122T150000
DTSTAMP:20260423T105459
CREATED:20251229T193509Z
LAST-MODIFIED:20251229T200211Z
UID:10000988-1769072400-1769094000@subcusa.com
SUMMARY:Houston\, TX - Get On the Bus 🚍 Join Harris Health’s Community Onboarding Tour
DESCRIPTION:This onboarding session is designed for Contractors/Project Team Leadership to gain insights into the community.\n\n\n  \nREGISTER NOW
URL:https://subcusa.com/event/houston-tx-get-on-the-bus-%f0%9f%9a%8d-join-harris-healths-community-onboarding-tour/
LOCATION:Carl Walker Jr. Multi-Purpose Center\, 4300 Noble Street #B\, Houston\, TX\, 77020\, United States
ATTACH;FMTTYPE=image/jpeg:https://subcusa.com/wp-content/uploads/2025/12/Screenshot-2025-12-29-133504.jpg
END:VEVENT
BEGIN:VEVENT
DTSTART;TZID=UTC:20260122T090000
DTEND;TZID=UTC:20260122T100000
DTSTAMP:20260423T105459
CREATED:20260106T190546Z
LAST-MODIFIED:20260106T190546Z
UID:10000997-1769072400-1769076000@subcusa.com
SUMMARY:Vitrual - Harris Health Coffee & Conversations Doing Business with The Port
DESCRIPTION:Join us for our January Coffee & Conversations as The Port presents a brief overview of the certifications they hold and accept\, guidance on how to do business with The Port\, and an update on upcoming first-quarter projects.\nThis session is designed to help vendors and suppliers gain valuable insights into partnership opportunities and prepare for future engagements.\nKey Highlights\n✅ Certifications The Port has and accepts\n✅ Guidance on how to do business with The Port\n✅ Updates on upcoming first-quarter projects\n✅ Q&A with The Port team \nREGISTER \n 
URL:https://subcusa.com/event/vitrual-harris-health-coffee-conversations-doing-business-with-the-port/
LOCATION:TX
ATTACH;FMTTYPE=image/png:https://subcusa.com/wp-content/uploads/2026/01/Screenshot-2026-01-06-124224.png
END:VEVENT
BEGIN:VEVENT
DTSTART;TZID=UTC:20260121T173000
DTEND;TZID=UTC:20260121T203000
DTSTAMP:20260423T105459
CREATED:20260121T212847Z
LAST-MODIFIED:20260121T212847Z
UID:10001008-1769016600-1769027400@subcusa.com
SUMMARY:Houston\, TX - Provoke Luck with NAMC - VIP Mixer
DESCRIPTION:REGISTRATION
URL:https://subcusa.com/event/houston-tx-provoke-luck-with-namc-vip-mixer/
LOCATION:White Oak Social\, 313 E. Woodland Street\, Houston\, TX\, 77009\, United States
ATTACH;FMTTYPE=image/jpeg:https://subcusa.com/wp-content/uploads/2026/01/Screenshot-2026-01-21-152557.jpg
END:VEVENT
BEGIN:VEVENT
DTSTART;TZID=UTC:20260121T090000
DTEND;TZID=UTC:20260121T110000
DTSTAMP:20260423T105459
CREATED:20251229T201633Z
LAST-MODIFIED:20251229T201633Z
UID:10000991-1768986000-1768993200@subcusa.com
SUMMARY:Virtual - METRO Solicitation - Understanding & Dissecting Small Business Compliance Requirements and Forms
DESCRIPTION:This workshop is designed to educate both Primes and Subcontractors by making sure they are in compliance with METRO’s Small Business Program rules and regulations\, do’s and don’ts when a goal is placed on a METRO solicitation\, etc. \nNOTE: You must be registered in order to attend. \nREGISTER NOW
URL:https://subcusa.com/event/virtual-metro-solicitation-understanding-dissecting-small-business-compliance-requirements-and-forms/
LOCATION:TX
END:VEVENT
BEGIN:VEVENT
DTSTART;TZID=UTC:20260120T080000
DTEND;TZID=UTC:20260120T110000
DTSTAMP:20260423T105459
CREATED:20260114T180311Z
LAST-MODIFIED:20260114T180311Z
UID:10001002-1768896000-1768906800@subcusa.com
SUMMARY:Houston\, TX - Greater Houston Business Procurement Forum - Houston 2026 An Economic Forecast
DESCRIPTION:The Forum will present Industry Experts and Leaders who will discuss the various areas of growth complemented by \n\n\nRepresentatives of major Projects and Initiatives targeted for the Houston area in 2026. \n\n\n\n\n\nThe Program is chalked full of information and business opportunities as you plan your business focus in the new year so \n\n\nplease attend and don’t hesitate to forward the attached Event Flyer to your database/contacts and others you feel might \n\n\nbenefit from such an Event. \n\n\n\n\n\nThere is no Pre-registration; however\, we would suggest you complete the QR Code on the Flyer to continue to receive \n\n\nupdates of future Breakfast Forums and notices of new Projects and Initiatives in the Houston area. \n\n\n\n\n\nYou may Park in the Red Lot directly across the street from The ion (Fannin St. side of the building).  The first 3 hours are \n\n\nfree. \nREGISTER HERE
URL:https://subcusa.com/event/houston-tx-greater-houston-business-procurement-forum-houston-2026-an-economic-forecast/
LOCATION:The ION Houston\, 4201 Main Street\, Houston\, TX\, 77002\, United States
ATTACH;FMTTYPE=image/jpeg:https://subcusa.com/wp-content/uploads/2026/01/Screenshot-2026-01-14-115442.jpg
END:VEVENT
BEGIN:VEVENT
DTSTART;TZID=UTC:20260116T110000
DTEND;TZID=UTC:20260116T120000
DTSTAMP:20260423T105459
CREATED:20251229T181116Z
LAST-MODIFIED:20251229T181116Z
UID:10000987-1768561200-1768564800@subcusa.com
SUMMARY:Virtual - AMAC 360: Navigating Change: Mboya Charts Course for SSP America
DESCRIPTION:A period of increasing economic and political headwinds isn’t the ideal time to transition into the CEO role\, but it can present opportunities. Since joining SSP America in 2017\, George Mboya has quickly transitioned from CFO to Interim CEO and\, as of fall 2025\, was named the permanent CEO. During his tenure\, George has experienced significant growth at SSP\, the substantial impact of the COVID-19 pandemic\, the post-pandemic recovery\, and the current readjustment. \nWe’ll discuss the industry’s challenges and opportunities\, explore what lies ahead and examine how SSP America is positioned to meet the moment. \nREGISTER NOW \n  \n 
URL:https://subcusa.com/event/virtual-amac-360-navigating-change-mboya-charts-course-for-ssp-america/
LOCATION:TX
ATTACH;FMTTYPE=image/png:https://subcusa.com/wp-content/uploads/2025/12/Screenshot-2025-12-29-121023.png
END:VEVENT
BEGIN:VEVENT
DTSTART;TZID=UTC:20260116T090000
DTEND;TZID=UTC:20260116T150000
DTSTAMP:20260423T105459
CREATED:20260123T213933Z
LAST-MODIFIED:20251204T214133Z
UID:10000971-1768554000-1768575600@subcusa.com
SUMMARY:Houston\, TX - HCC Small Business Success Series
DESCRIPTION:Developed by the Glenda & David Regenbaum Center for Entrepreneurship – HCC Northwest\, the HCC Small Business Success Series is a 5-Module program that offers an opportunity for hands-on learning and interaction with faculty\, guest entrepreneurs\, business experts\, and peer delegates. \nThis series is specifically developed for proposed\, startup and existing entrepreneurs who are actively pursuing launch and growth of your specific business concept. \nA Certificate of Completion will be awarded to those students who fully attend all 5 modules to graduate from the series. \nRegister Here
URL:https://subcusa.com/event/houston-tx-hcc-small-business-success-series/
LOCATION:HCC South Campus\, 1990 Airport Blvd.\, Houston\, TX\, 7705\, United States
ATTACH;FMTTYPE=image/jpeg:https://subcusa.com/wp-content/uploads/2025/12/Screenshot-2025-12-04-153800.jpg
END:VEVENT
BEGIN:VEVENT
DTSTART;TZID=UTC:20260116T090000
DTEND;TZID=UTC:20260116T150000
DTSTAMP:20260423T105459
CREATED:20251204T214215Z
LAST-MODIFIED:20251204T214215Z
UID:10000972-1768554000-1768575600@subcusa.com
SUMMARY:Houston\, TX - HCC Small Business Success Series
DESCRIPTION:Developed by the Glenda & David Regenbaum Center for Entrepreneurship – HCC Northwest\, the HCC Small Business Success Series is a 5-Module program that offers an opportunity for hands-on learning and interaction with faculty\, guest entrepreneurs\, business experts\, and peer delegates. \nThis series is specifically developed for proposed\, startup and existing entrepreneurs who are actively pursuing launch and growth of your specific business concept. \nA Certificate of Completion will be awarded to those students who fully attend all 5 modules to graduate from the series. \nRegister Here
URL:https://subcusa.com/event/houston-tx-hcc-small-business-success-series-2/
LOCATION:HCC South Campus\, 1990 Airport Blvd.\, Houston\, TX\, 7705\, United States
ATTACH;FMTTYPE=image/jpeg:https://subcusa.com/wp-content/uploads/2025/12/Screenshot-2025-12-04-153800.jpg
END:VEVENT
BEGIN:VEVENT
DTSTART;TZID=UTC:20260116T080000
DTEND;TZID=UTC:20260116T170000
DTSTAMP:20260423T105459
CREATED:20260114T195103Z
LAST-MODIFIED:20260114T195103Z
UID:10001007-1768550400-1768582800@subcusa.com
SUMMARY:Houston\, TX - Women In Construction (WIC) Week - 2026 Shoot for NAWIC
DESCRIPTION:REGISTER
URL:https://subcusa.com/event/houston-tx-women-in-construction-wic-week-2026-shoot-for-nawic/
LOCATION:Greater Houston Sports Club\, 6700 McHard Rd.\, Houston\, TX\, 77053\, United States
ATTACH;FMTTYPE=image/jpeg:https://subcusa.com/wp-content/uploads/2026/01/Screenshot-2026-01-14-134922.jpg
END:VEVENT
BEGIN:VEVENT
DTSTART;TZID=UTC:20260115T090000
DTEND;TZID=UTC:20260115T110000
DTSTAMP:20260423T105459
CREATED:20251204T165215Z
LAST-MODIFIED:20251204T165215Z
UID:10000970-1768467600-1768474800@subcusa.com
SUMMARY:Houston\, TX - Houston City College Growth by Design
DESCRIPTION:Business owners aim for more growth and profits every year. Focusing your money and energy on the right customers and prospects amplifies your impact and drives stronger growth. \nThis workshop will teach SMB owners how to create a simple\, step-by-step process to develop their own precision growth framework. \nWhat You’ll Learn \n·     How to use your business plan to drive your revenue generation efforts and budget. \n·     Learn how to focus on the most profitable growth – Customer\, products\, prospects \n·     Understand the distinction between New Customers\, Growth\, and Retention pipelines\, and where to spend money and energy. \n·     Plan and manage the revenue generation budget to book revenue today while building your Growth Engine infrastructure for tomorrow. \nStop guessing where to invest your time and budget—sign up and get a real plan \nREGISTER HERE
URL:https://subcusa.com/event/houston-tx-houston-city-college-growth-by-design/
LOCATION:West Houston Institute Auditorium\, 2811 Hayes Rd.\, Houston\, TX\, 77082\, United States
ATTACH;FMTTYPE=image/jpeg:https://subcusa.com/wp-content/uploads/2025/12/Screenshot-2025-12-04-104811.jpg
END:VEVENT
BEGIN:VEVENT
DTSTART;TZID=UTC:20260114T100000
DTEND;TZID=UTC:20260114T111500
DTSTAMP:20260423T105459
CREATED:20260102T185321Z
LAST-MODIFIED:20260102T185321Z
UID:10000995-1768384800-1768389300@subcusa.com
SUMMARY:Plano\, TX - NTTA Business Chat
DESCRIPTION:Join NTTA’s Business Development & Opportunities Department\, Procurement and Business Units to learn more about our upcoming opportunities and how to do business with us. Meet and connect with our advocacy partners\, contractor associations and certifying agencies to gain insight about their unique services and programs.\n\n\n\n  \nREGISTER
URL:https://subcusa.com/event/plano-tx-ntta-business-chat/
LOCATION:NTTA Boardroom\, 5900 W. Plano Pkwy. Suite 200\, Plano\, TX\, 75093\, United States
ATTACH;FMTTYPE=image/jpeg:https://subcusa.com/wp-content/uploads/2026/01/Screenshot-2026-01-02-123530.jpg
END:VEVENT
BEGIN:VEVENT
DTSTART;TZID=UTC:20260113T143000
DTEND;TZID=UTC:20260113T160000
DTSTAMP:20260423T105459
CREATED:20260112T143046Z
LAST-MODIFIED:20260112T143046Z
UID:10000999-1768314600-1768320000@subcusa.com
SUMMARY:Arlington\, TX - Annual General Meeting for DFW Contractors Growth Alliance
DESCRIPTION:  \nTo RSVP email demetria@consultantsdlb.com.
URL:https://subcusa.com/event/arlington-tx-annual-general-meeting-for-dfw-contractors-growth-alliance/
LOCATION:DFW Contractors Growth Alliance\, 1000 Ballpark Way\, Suite 310\, Arlington\, TX\, 76011\, United States
ATTACH;FMTTYPE=image/jpeg:https://subcusa.com/wp-content/uploads/2026/01/Screenshot-2026-01-12-082644.jpg
END:VEVENT
BEGIN:VEVENT
DTSTART;TZID=UTC:20260113T113000
DTEND;TZID=UTC:20260113T133000
DTSTAMP:20260423T105459
CREATED:20251229T201409Z
LAST-MODIFIED:20251229T201409Z
UID:10000990-1768303800-1768311000@subcusa.com
SUMMARY:Houston\, TX - How To Do Business with METRO
DESCRIPTION:Learn about Upcoming Opportunities & METRO SBE Certifications. In Partnership with Old Spanish Trail Community Partners. \nThis workshop is designed to inform certified and non-certified businesses on how to do business with METRO. You will learn about METRO’s Small Business Enterprise (SBE) online certification process and requirements; how to navigate through METRO’s Procurement website\, how to find contracting opportunities and how to find METRO’s past and present Prime contractors. \nNOTE: You must be registered in order to attend. \nREGISTER NOW
URL:https://subcusa.com/event/houston-tx-how-to-do-business-with-metro/
LOCATION:Houston Business Development Inc.\, 5330 Griggs Rd.\, Houston\, TX\, 77021\, United States
END:VEVENT
BEGIN:VEVENT
DTSTART;TZID=UTC:20260113T110000
DTEND;TZID=UTC:20260113T133000
DTSTAMP:20260423T105459
CREATED:20260112T234446Z
LAST-MODIFIED:20260112T234446Z
UID:10001001-1768302000-1768311000@subcusa.com
SUMMARY:Houston\, TX - RHCA Building Blocks for Success
DESCRIPTION:  \nThese seminars are aimed at small business owners and entrepreneurs\, providing them with key tools\, knowledge\, and strategies to drive growth and development in a competitive market. \nREGISTER HERE
URL:https://subcusa.com/event/houston-tx-rhca-building-blocks-for-success/
LOCATION:RHCA Houston HQ & Training Center\, 7047 Harrisburg Blvd.\, Houston\, TX\, 77011\, United States
ATTACH;FMTTYPE=image/jpeg:https://subcusa.com/wp-content/uploads/2026/01/Screenshot-2026-01-12-173838.jpg
END:VEVENT
BEGIN:VEVENT
DTSTART;TZID=UTC:20260108T100000
DTEND;TZID=UTC:20260108T113000
DTSTAMP:20260423T105459
CREATED:20251229T201128Z
LAST-MODIFIED:20251229T201128Z
UID:10000989-1767866400-1767871800@subcusa.com
SUMMARY:Virtual - METRO's Online SBE Certification Workshop
DESCRIPTION:In this workshop you will learn about METRO’s Small Business Enterprise (SBE) online certification process and requirements. \nNOTE: You must be registered in order to attend \nREGISTER
URL:https://subcusa.com/event/virtual-metros-online-sbe-certification-workshop-5/
LOCATION:TX
END:VEVENT
BEGIN:VEVENT
DTSTART;TZID=UTC:20260106T130000
DTEND;TZID=UTC:20260106T140000
DTSTAMP:20260423T105459
CREATED:20251223T230133Z
LAST-MODIFIED:20251223T230133Z
UID:10000986-1767704400-1767708000@subcusa.com
SUMMARY:Virtual - Small Business University - Affordable\, Hardware-Agnostic POS For Small Business
DESCRIPTION:Rhombus POS frees small businesses from costly contracts\, hardware lock-ins\, and hidden fees. Run on devices you own\, support multilingual teams\, and grow with simple\, transparent pricing. \nRegister
URL:https://subcusa.com/event/virtual-small-business-university-affordable-hardware-agnostic-pos-for-small-business/
LOCATION:TX
ATTACH;FMTTYPE=image/jpeg:https://subcusa.com/wp-content/uploads/2025/12/Screenshot-2025-12-23-165819.jpg
END:VEVENT
BEGIN:VEVENT
DTSTART;TZID=UTC:20260105T130000
DTEND;TZID=UTC:20260105T140000
DTSTAMP:20260423T105459
CREATED:20251223T225128Z
LAST-MODIFIED:20251223T225720Z
UID:10000985-1767618000-1767621600@subcusa.com
SUMMARY:Virtual - Small Business University - The SMB Guide to Video Platforms: Zoom\, Teams\, Google\, and Beyond
DESCRIPTION:As your SMB grows\, so do your video needs. Join Neat to learn the difference between BYOD and purpose-built video room software\, and how to scale simply\, without compromising on quality. Great meetings should be easy for SMBs too. \nRegister
URL:https://subcusa.com/event/virtual-small-business-university-the-smb-guide-to-video-platforms-zoom-teams-google-and-beyond/
LOCATION:TX
ATTACH;FMTTYPE=image/jpeg:https://subcusa.com/wp-content/uploads/2025/12/Screenshot-2025-12-23-164904.jpg
END:VEVENT
BEGIN:VEVENT
DTSTART;TZID=UTC:20251229T120000
DTEND;TZID=UTC:20251229T130000
DTSTAMP:20260423T105459
CREATED:20251223T224326Z
LAST-MODIFIED:20251223T224326Z
UID:10000984-1767009600-1767013200@subcusa.com
SUMMARY:Virtual - Small Business University - If You're Not Using AI\, You're Going Out of Business
DESCRIPTION:AI is changing how we work\, scale\, and stay competitive. This webinar breaks down why adopting AI isn’t optional—and how to start integrating it smartly\, securely\, and strategically. \nRegister
URL:https://subcusa.com/event/virtual-small-business-university-if-youre-not-using-ai-youre-going-out-of-business/
LOCATION:TX
ATTACH;FMTTYPE=image/jpeg:https://subcusa.com/wp-content/uploads/2025/12/Screenshot-2025-12-23-161421.jpg
END:VEVENT
BEGIN:VEVENT
DTSTART;TZID=UTC:20251219T113000
DTEND;TZID=UTC:20251219T133000
DTSTAMP:20260423T105459
CREATED:20250929T193535Z
LAST-MODIFIED:20250929T193535Z
UID:10000915-1766143800-1766151000@subcusa.com
SUMMARY:Houston\, TX - Get to Know HBDI Orientation Workshop Series
DESCRIPTION:At HBDi\, we are dedicated to empowering small businesses\, and our success stories speak volumes about the transformative impact of our products and services. Entrepreneurs just like you have harnessed our resources to elevate their businesses and achieve remarkable growth. We invite you to discover the wealth of opportunities that await you by exploring how our tailored resources and personalized coaching can pave your path to success. Think of HBDi as your trusted help desk for all things business—your go-to partner for navigating the complexities of starting and growing your venture in Houston. Don’t miss out on the chance to join a community of thriving business owners; let us guide you toward your own success story! \nReserve Your Seat
URL:https://subcusa.com/event/houston-tx-get-to-know-hbdi-orientation-workshop-series-3/
LOCATION:The Palm Center\, 5330 Griggs Rd.\, Houston\, TX\, 77021\, United States
ATTACH;FMTTYPE=image/jpeg:https://subcusa.com/wp-content/uploads/2025/09/Screenshot-2025-09-29-141916.jpg
END:VEVENT
BEGIN:VEVENT
DTSTART;TZID=UTC:20251218T180000
DTEND;TZID=UTC:20251218T213000
DTSTAMP:20260423T105459
CREATED:20251209T163834Z
LAST-MODIFIED:20251209T163834Z
UID:10000980-1766080800-1766093400@subcusa.com
SUMMARY:Houston\, TX - NAMC Holiday Celebration Building Bridges of Joy
DESCRIPTION:Giving Back: Honoring Our 2025 Benefactor\nThis year\, NAMC is proud to designate the Community Foundation of the Hill Country as the benefactor of our net event proceeds. \nCommunity Foundation of the Hill Country241 Earl Garrett StreetKerrville\, Texas 78028Website: communityfoundation.net | rebuildkerr.org \nFunds raised through this event will directly support reconstruction efforts in Kerrville and surrounding areas following the severe infrastructure damage caused by this summer’s devastating floods. \nYour attendance and support help extend the spirit of Building Bridges of Joy far beyond our celebration—impacting families\, businesses\, and critical community needs. \nRegister
URL:https://subcusa.com/event/houston-tx-namc-holiday-celebration-building-bridges-of-joy/
LOCATION:Woodland Social\, 313 E. Woodland Street\, Houston\, TX\, 77009\, United States
ATTACH;FMTTYPE=image/jpeg:https://subcusa.com/wp-content/uploads/2025/12/Screenshot-2025-12-09-103356.jpg
END:VEVENT
BEGIN:VEVENT
DTSTART;TZID=UTC:20251217T100000
DTEND;TZID=UTC:20251217T113000
DTSTAMP:20260423T105459
CREATED:20251204T162631Z
LAST-MODIFIED:20251204T162631Z
UID:10000968-1765965600-1765971000@subcusa.com
SUMMARY:Virtual - METRO Learn How To Create A Strong Capability Statement
DESCRIPTION:Click Here to RSVP
URL:https://subcusa.com/event/virtual-metro-learn-how-to-create-a-strong-capability-statement/
LOCATION:TX
ATTACH;FMTTYPE=image/png:https://subcusa.com/wp-content/uploads/2025/12/Screenshot-2025-12-04-102437.png
END:VEVENT
BEGIN:VEVENT
DTSTART;TZID=UTC:20251216T140000
DTEND;TZID=UTC:20251216T150000
DTSTAMP:20260423T105459
CREATED:20251126T191241Z
LAST-MODIFIED:20251126T191241Z
UID:10000957-1765893600-1765897200@subcusa.com
SUMMARY:Virtual - Harris Health Community Internship\, Apprenticeship & Workforce Development Program
DESCRIPTION:Overview\n\n\n\n\n\nThe Community Internship\, Apprenticeship & Workforce Development Program is looking for applicants seeking career changes.\n\n\nReserve A Spot
URL:https://subcusa.com/event/virtual-harris-health-community-internship-apprenticeship-workforce-development-program/
LOCATION:TX
ATTACH;FMTTYPE=image/jpeg:https://subcusa.com/wp-content/uploads/2025/11/Screenshot-2025-11-26-130832.jpg
END:VEVENT
BEGIN:VEVENT
DTSTART;TZID=UTC:20251215T120000
DTEND;TZID=UTC:20251215T130000
DTSTAMP:20260423T105459
CREATED:20251120T223547Z
LAST-MODIFIED:20251120T223547Z
UID:10000954-1765800000-1765803600@subcusa.com
SUMMARY:Virtual - Odigo Learning CEO Leadership - Learn. Elevate. Achieve. Develop.
DESCRIPTION:A 1-Hour Virtual Lunch & Learn for Small Business Owners \n\nGet ready to level up your business—gain practical insights to grow\, lead with confidence\, and achieve lasting success! Join us Dec. 15th\n\n\n\nReady to grow your business and lead with confidence?\nJoin us for CEO LEADership: Learn. Elevate. Achieve. Develop.\, an empowering session designed for small business owners who want to strengthen their leadership\, strategy\, and growth mindset. \nThis interactive experience blends practical business insights with real-world leadership tools to help you step fully into your role as CEO—not just operator. Whether you’re building a team\, managing projects\, or scaling your business\, this session will give you actionable steps to move forward with clarity and confidence. \nWhat to Expect: \n\nReal conversations about business growth\, leadership\, and decision-making\nActionable tools and strategies to apply immediately in your company\nNetworking and connection with like-minded entrepreneurs\nInspiration to help you lead with purpose and achieve lasting success\n\nWho Should Attend:\nSmall business owners\, contractors\, and entrepreneurs ready to grow\, refine their leadership approach\, and gain momentum in their business journey. \nGet Tickets
URL:https://subcusa.com/event/virtual-odigo-learning-ceo-leadership-learn-elevate-achieve-develop/
LOCATION:TX
ATTACH;FMTTYPE=image/jpeg:https://subcusa.com/wp-content/uploads/2025/11/Screenshot-2025-11-20-163140.jpg
END:VEVENT
BEGIN:VEVENT
DTSTART;TZID=UTC:20251215T100000
DTEND;TZID=UTC:20251215T140000
DTSTAMP:20260423T105459
CREATED:20251124T185305Z
LAST-MODIFIED:20251124T185305Z
UID:10000956-1765792800-1765807200@subcusa.com
SUMMARY:Missouri City\, TX - Career Fair & Education Expo - Employers & Job Seekers Welcome
DESCRIPTION:Are you hiring or recruiting for training programs in 2025—or do you know someone looking for a new opportunity? Join us for the Missouri City Chamber Career Fair & Continuing Education Expo and help connect our community to real jobs\, training\, and next steps. \n\n\n\n\nFor Employers & Education Vendors \n\n\n\n\nWe’re inviting: \n·         Businesses currently hiring (full-time\, part-time\, seasonal\, internships) \n·         Colleges\, trade schools\, and training providers with certification or degree programs \n·         Community organizations that support employment\, skills training\, or career readiness \n\n\n\n\nThere is no vendor fee. We simply ask that vendors: \n·         Bring their own table and chairs \n·         Provide any signage\, table coverings\, handouts\, or giveaways \n·         Arrive between 8:30–9:45 AM for check-in and setup \n  \nREGISTER AS EMPLOYER/EDUCATION PARTNER
URL:https://subcusa.com/event/missouri-city-tx-career-fair-education-expo-employers-job-seekers-welcome/
LOCATION:Shell Hebert Career & Technical Academy\, 2714 Cypress Point Drive\, Missouri City\, TX\, 77459\, United States
ATTACH;FMTTYPE=image/jpeg:https://subcusa.com/wp-content/uploads/2025/11/Screenshot-2025-11-24-125100.jpg
END:VEVENT
BEGIN:VEVENT
DTSTART;TZID=UTC:20251212T100000
DTEND;TZID=UTC:20251212T113000
DTSTAMP:20260423T105459
CREATED:20251204T162346Z
LAST-MODIFIED:20251204T162346Z
UID:10000967-1765533600-1765539000@subcusa.com
SUMMARY:Virtual - METRO's Online SBE Certification Workshop
DESCRIPTION:Click Here to RSVP
URL:https://subcusa.com/event/virtual-metros-online-sbe-certification-workshop-4/
LOCATION:TX
ATTACH;FMTTYPE=image/png:https://subcusa.com/wp-content/uploads/2025/12/Screenshot-2025-12-04-102142.png
END:VEVENT
END:VCALENDAR