BEGIN:VCALENDAR
VERSION:2.0
PRODID:-//Subcontractors USA - ECPv6.15.20//NONSGML v1.0//EN
CALSCALE:GREGORIAN
METHOD:PUBLISH
X-WR-CALNAME:Subcontractors USA
X-ORIGINAL-URL:https://subcusa.com
X-WR-CALDESC:Events for Subcontractors USA
REFRESH-INTERVAL;VALUE=DURATION:PT1H
X-Robots-Tag:noindex
X-PUBLISHED-TTL:PT1H
BEGIN:VTIMEZONE
TZID:UTC
BEGIN:STANDARD
TZOFFSETFROM:+0000
TZOFFSETTO:+0000
TZNAME:UTC
DTSTART:20240101T000000
END:STANDARD
END:VTIMEZONE
BEGIN:VEVENT
DTSTART;TZID=UTC:20250818T080000
DTEND;TZID=UTC:20250818T170000
DTSTAMP:20260423T212544
CREATED:20250818T200608Z
LAST-MODIFIED:20250818T200608Z
UID:10000857-1755504000-1755536400@subcusa.com
SUMMARY:Houston\, TX -
DESCRIPTION:
URL:https://subcusa.com/event/houston-tx/
LOCATION:TX
ATTACH;FMTTYPE=image/png:https://subcusa.com/wp-content/uploads/2025/08/Screenshot-2025-08-18-144854.png
END:VEVENT
BEGIN:VEVENT
DTSTART;TZID=UTC:20250818T100000
DTEND;TZID=UTC:20250818T113000
DTSTAMP:20260423T212544
CREATED:20250801T214045Z
LAST-MODIFIED:20250801T214045Z
UID:10000840-1755511200-1755516600@subcusa.com
SUMMARY:Dallas\, TX - McCarthy Vaughn Partnership - Outreach & Connections Event
DESCRIPTION:McCarthy Vaughn invites you to a dedicated outreach and networking\nsession for HUB and M/WBE trade partners interested in opportunities\non the New Pediatric Campus project in Dallas. This transformative\ncampus will deliver critical pediatric health services to the region\,\nand we’re committed to building it with diverse\, local expertise.\nCome meet our team\, hear about specific scopes of work\navailable\, and learn how your firm can play a vital role in\nbringing this vision to life \nRegister Here
URL:https://subcusa.com/event/dallas-tx-mccarthy-vaughn-partnership-outreach-connections-event/
LOCATION:The Conference Center at Pegasus Park\, 3000 Pegasus Park Drive Rm. 104 A-C\, Dallas\, TX\, 75247\, United States
ATTACH;FMTTYPE=image/jpeg:https://subcusa.com/wp-content/uploads/2025/08/Screenshot-2025-08-01-163930.jpg
END:VEVENT
BEGIN:VEVENT
DTSTART;TZID=UTC:20250818T180000
DTEND;TZID=UTC:20250818T200000
DTSTAMP:20260423T212544
CREATED:20250814T175934Z
LAST-MODIFIED:20250814T175934Z
UID:10000856-1755540000-1755547200@subcusa.com
SUMMARY:Houston\, TX - City of Houston Office of OBO - Disparity Study Community Engagement Session
DESCRIPTION:Join us for a Community Engagement Session hosted\nby the Office of Business Opportunity with District H\nCouncil Member Mario Castillo.\nShare your insights on upcoming changes from the 2023\nDisparity Study and learn how they will enhance opportunities\nfor underrepresented groups. Your participation is vital for\ncreating a more equitable business environment! \nREGISTER HERE \n 
URL:https://subcusa.com/event/houston-tx-city-of-houston-office-of-obo-disparity-study-community-engagement-session/
LOCATION:Alamo Tamales La Maison\, 809 Berry Road\, Houston\, TX\, 77022\, United States
ATTACH;FMTTYPE=image/png:https://subcusa.com/wp-content/uploads/2025/08/Screenshot-2025-08-14-125423.png
END:VEVENT
BEGIN:VEVENT
DTSTART;TZID=UTC:20250819T130000
DTEND;TZID=UTC:20250819T173000
DTSTAMP:20260423T212544
CREATED:20250813T155517Z
LAST-MODIFIED:20250813T155517Z
UID:10000854-1755608400-1755624600@subcusa.com
SUMMARY:Houston\, TX - Invitation to Attend Harris County Precinct 4 Industry Day
DESCRIPTION:Industry Day is a professional event designed to inform and engage businesses in the Architectural\, Engineering\, and Construction (AEC) industries. Participants will gain insight into upcoming projects and procurement opportunities\, connect directly with government buyers\, and engage in workshops led by  County departments. These sessions will provide best practices\, guidance\, and strategies for successfully navigating the public contracting process and strengthening partnerships with government entities. \nREGISTER HERE \n 
URL:https://subcusa.com/event/houston-tx-invitation-to-attend-harris-county-precinct-4-industry-day/
LOCATION:West Houston Institute\, 2811 Hayes Rd\, Houston\, TX\, 77082\, United States
ATTACH;FMTTYPE=image/jpeg:https://subcusa.com/wp-content/uploads/2025/08/Screenshot-2025-08-13-104814.jpg
END:VEVENT
BEGIN:VEVENT
DTSTART;TZID=UTC:20250820T073000
DTEND;TZID=UTC:20250820T160000
DTSTAMP:20260423T212544
CREATED:20250325T204637Z
LAST-MODIFIED:20250325T204637Z
UID:10000752-1755675000-1755705600@subcusa.com
SUMMARY:Fort Worth\, TX - Build Fort Worth Construction Expo 2025
DESCRIPTION:Connecting MWDBEs and Industry Leaders \nFor the fifth year in a row\, were bringing together \nMWDBEs\, Hispanic contractors\, and business equity firms to stay connected and informed. \nJoin us for workshops\, networking and opportunities to \nlearn about the projects shaping Fort Worth’s skyline. \nEarly Bird Until May 2\, 2025
URL:https://subcusa.com/event/fort-worth-tx-build-fort-worth-construction-expo-2025/
LOCATION:Will Rogers Memorial  Center\, 3401 W. Lancaster Avenue\, Fort Worth\, TX\, 75107\, United States
ATTACH;FMTTYPE=image/png:https://subcusa.com/wp-content/uploads/2025/03/Screenshot-2025-03-25-153806.png
END:VEVENT
BEGIN:VEVENT
DTSTART;TZID=UTC:20250820T080000
DTEND;TZID=UTC:20250820T090000
DTSTAMP:20260423T212544
CREATED:20250806T210356Z
LAST-MODIFIED:20250806T210356Z
UID:10000843-1755676800-1755680400@subcusa.com
SUMMARY:Fort Worth\, TX - RHCA Design-Build Demystified: DBIA 101 for Winning Projects
DESCRIPTION:Join us at Build Fort Worth for an exclusive and focused session on understanding the design-build method and how it’s changing the game for contractors and the impacts it can have on your bottom line. \nWhat you’ll learn: \n·     The fundamentals of the design-build project delivery method \n·     How design-build differs from traditional construction approaches \n·     The benefits and challenges of using design-build for contractors \n·     How can this method impact your schedule\, costs\, and profits \n·     Key strategies to position your firm for success in design-build projects \nREGISTER HERE
URL:https://subcusa.com/event/fort-worth-tx-rhca-design-build-demystified-dbia-101-for-winning-projects/
LOCATION:Will Rogers Memorial Center\, 3401 W. Lancaster Avenue\, Fort Worth\, TX\, 76107\, United States
ATTACH;FMTTYPE=image/png:https://subcusa.com/wp-content/uploads/2025/08/Screenshot-2025-08-06-155729.png
END:VEVENT
BEGIN:VEVENT
DTSTART;TZID=UTC:20250820T080000
DTEND;TZID=UTC:20250820T140000
DTSTAMP:20260423T212544
CREATED:20250801T184317Z
LAST-MODIFIED:20250801T184419Z
UID:10000833-1755676800-1755698400@subcusa.com
SUMMARY:Fort Worth\, TX - Construction Highway Projects — Hear from TxDOT and NTTA Directly!
DESCRIPTION:Join the RHCA at the DFW Heavy Highway Forum during Build FW Expo! \nConnect with TxDOT leadership and industry experts as they share insights on the State of the Industry and upcoming project opportunities. \nWho Should Attend? \n\nContractors\nSubcontractors\nEngineers\nArchitects\nProfessional Service Providers\n\nWhy Attend? \n\nLearn about the $ Billions in Construction Project Opportunities.\n\n\nNetwork with TxDOT and NTTA Leadership\n\nREGISTER
URL:https://subcusa.com/event/fort-worth-tx-construction-highway-projects-hear-from-txdot-and-ntta-directly/
LOCATION:Will Rogers Memorial Center\, 3401 W. Lancaster Avenue\, Fort Worth\, TX\, 76107\, United States
ATTACH;FMTTYPE=image/jpeg:https://subcusa.com/wp-content/uploads/2025/08/Screenshot-2025-08-01-133740.jpg
END:VEVENT
BEGIN:VEVENT
DTSTART;TZID=UTC:20250820T093000
DTEND;TZID=UTC:20250820T103000
DTSTAMP:20260423T212544
CREATED:20250806T220703Z
LAST-MODIFIED:20250806T220703Z
UID:10000848-1755682200-1755685800@subcusa.com
SUMMARY:Fort Worth\, TX - RHCA Smarter Bids\, Bigger Wins: How AI Is Revolutionizing Construction Cost Estimating
DESCRIPTION:Build Fort Worth Breakout Session \nDiscover how AI tools are streamlining takeoffs\, reducing errors\, and helping you bid with precision. \nWhat you’ll learn: \n·     How AI-powered estimating tools are improving speed\, accuracy\, and consistency \n·     Ways AI can help reduce cost overruns and improve bid competitiveness \n·     Real-life examples of how companies are using AI for project planning and forecasting \n·     How to integrate AI into your current preconstruction workflows \n·     The future of AI in estimating and what it means for your business \nREGISTER HERE \n 
URL:https://subcusa.com/event/fort-worth-tx-rhca-smarter-bids-bigger-wins-how-ai-is-revolutionizing-construction-cost-estimating/
LOCATION:Will Rodgers Memorial Center\, 3401 W. Lancaster Avenue\, Fort Worth\, TX\, 76107\, United States
END:VEVENT
BEGIN:VEVENT
DTSTART;TZID=UTC:20250820T100000
DTEND;TZID=UTC:20250820T113000
DTSTAMP:20260423T212544
CREATED:20250801T183338Z
LAST-MODIFIED:20250801T183338Z
UID:10000832-1755684000-1755689400@subcusa.com
SUMMARY:Houston\, TX - Virtual Webinar - METRO's Online SBE Certification Workshop
DESCRIPTION:Come Learn: \n\nThe Importance of Certification\nMETRO’s Certification Requirements\nHow To Apply For METRO’s Certification\nAgencies that Accepts METRO’s Certifications\nHow To Access METRO’s Certification Portal\n\nClick Here to RSVP \n 
URL:https://subcusa.com/event/houston-tx-virtual-webinar-metros-online-sbe-certification-workshop/
LOCATION:TX
ATTACH;FMTTYPE=image/png:https://subcusa.com/wp-content/uploads/2025/08/Screenshot-2025-08-01-132054.png
END:VEVENT
BEGIN:VEVENT
DTSTART;TZID=UTC:20250820T113000
DTEND;TZID=UTC:20250820T123000
DTSTAMP:20260423T212544
CREATED:20250806T214657Z
LAST-MODIFIED:20250806T214657Z
UID:10000845-1755689400-1755693000@subcusa.com
SUMMARY:Fort Worth\, TX - RHCA Building the Future: Evans & Rosedale Capital Project Unveiled
DESCRIPTION:Event information \nJoin us at Build Fort Worth for an exclusive and focused session on exploring this historic redevelopment and how contractors can get involved with upcoming project opportunities. \nWhat you’ll learn: \n·     Insights into the historic redevelopment shaping the future of Fort Worth \n·     Upcoming project opportunities and scopes of work \n·     How contractors and subcontractors can get involved \n·     How to connect with decision makers and project stakeholders \nREGISTER HERE \n 
URL:https://subcusa.com/event/fort-worth-tx-rhca-building-the-future-evans-rosedale-capital-project-unveiled/
LOCATION:Will Rodgers Memorial Center\, 3401 W. Lancaster Avenue\, Fort Worth\, TX\, 76107\, United States
ATTACH;FMTTYPE=image/png:https://subcusa.com/wp-content/uploads/2025/08/Screenshot-2025-08-06-164301.png
END:VEVENT
BEGIN:VEVENT
DTSTART;TZID=UTC:20250821T163000
DTEND;TZID=UTC:20250821T193000
DTSTAMP:20260423T212544
CREATED:20250806T205431Z
LAST-MODIFIED:20250806T205431Z
UID:10000842-1755793800-1755804600@subcusa.com
SUMMARY:Dallas\, TX - DFW MSDC Super Networking Interactive Nexus
DESCRIPTION:Where Connections Lead to Opportunities \nThe Super Networking Interactive Nexus  is the ultimate opportunity to engage with corporate representatives\, business leaders\,  and certified MBEs in a relaxed\, welcoming environment. This isn’t a formal program or seated luncheon. It’s a space designed for meaningful conversation\, genuine relationship-building\, a new business opportunities. Enjoy great food\, music and an atmosphere that encourages real connection. If your’ looking to strengthen partnerships and expand your network\, this is where you need to be! \nREGISTER HERE
URL:https://subcusa.com/event/dallas-tx-dfw-msdc-super-networking-interactive-nexus/
LOCATION:HALL Arts Hotel Dallas\, 1717 Leonard Street\, Dallas\, TX\, 75201\, United States
ATTACH;FMTTYPE=image/jpeg:https://subcusa.com/wp-content/uploads/2025/08/Screenshot-2025-08-06-153609.jpg
END:VEVENT
BEGIN:VEVENT
DTSTART;TZID=UTC:20250826T080000
DTEND;TZID=UTC:20250826T110000
DTSTAMP:20260423T212544
CREATED:20250818T210339Z
LAST-MODIFIED:20250818T211131Z
UID:10000858-1756195200-1756206000@subcusa.com
SUMMARY:Houston\, TX - Doing Business within our Transportation Industry-Tourism and Travel
DESCRIPTION:Hear from Representatives of some\nof our most active Transportation\nAgencies and Institutions as well as\nthe Tourism and Travel Industry as\nthey discuss how to do business\nwithin the Transportation Industry\nwhile reviewing upcoming Projects\,\nInitiatives and related business\nopportunities. \nRegister Here
URL:https://subcusa.com/event/houston-tx-doing-business-within-our-transportation-industry-tourism-and-travel/
LOCATION:HCC West Loop Campus Auditorium\, 5601 West Loop South\, Houston\, TX\, 77081\, United States
ATTACH;FMTTYPE=image/png:https://subcusa.com/wp-content/uploads/2025/08/Screenshot-2025-08-18-144854-2.png
END:VEVENT
BEGIN:VEVENT
DTSTART;TZID=UTC:20250827T113000
DTEND;TZID=UTC:20250827T123000
DTSTAMP:20260423T212544
CREATED:20250807T224924Z
LAST-MODIFIED:20250807T224924Z
UID:10000853-1756294200-1756297800@subcusa.com
SUMMARY:San Antonio\, TX - Lone Star National Bank Lunch & Learn
DESCRIPTION:Curious about the South Texas Business Partnership and how your business or organization can benefit from being a part of our growing network? Join us for one of our Lunch & Learn sessions! \nThese engaging\, informative gatherings are designed for potential new partners and current members who want to dive deeper into the mission\, vision\, and impact of SoTX. Learn about the powerful work we’re doing across our 27-county region—from San Antonio to the Rio Grande Valley and beyond—and discover how we’re helping to shape a stronger South Texas through business\, advocacy\, and collaboration. \nAttendees will hear key highlights about SoTX and the many ways to get involved\, plus gain insights on timely and relevant topics presented by our incredible event sponsors. These sessions offer a chance to connect\, ask questions\, and explore how SoTX can help amplify your impact in the region. \nLunch is provided. Bring your appetite for both food and knowledge! \nRegister \n 
URL:https://subcusa.com/event/san-antonio-tx-lone-star-national-bank-lunch-learn/
LOCATION:Lonestar National Bank\, 3128 Sidney Brooks\, San Antonio\, TX\, 78235\, United States
ATTACH;FMTTYPE=image/jpeg:https://subcusa.com/wp-content/uploads/2025/08/Screenshot-2025-08-07-173934.jpg
END:VEVENT
BEGIN:VEVENT
DTSTART;TZID=UTC:20250828T110000
DTEND;TZID=UTC:20250828T130000
DTSTAMP:20260423T212544
CREATED:20250806T215339Z
LAST-MODIFIED:20250806T215339Z
UID:10000846-1756378800-1756386000@subcusa.com
SUMMARY:Houston\, TX - RHCA Houston Luncheon Mixer
DESCRIPTION:Join the RHCA Houston Team and Leadership for an exclusive Luncheon Mixer – a dynamic networking event designed to bring together the leading contractors\, industry professionals\, and community stakeholders from across the Greater Houston Area. \nREGISTER HERE
URL:https://subcusa.com/event/houston-tx-rhca-houston-luncheon-mixer/
LOCATION:Felix Fraga Academic Campus 3rd Floor\, 301 North Drennan Street\, Houston\, TX\, 77003\, United States
ATTACH;FMTTYPE=image/jpeg:https://subcusa.com/wp-content/uploads/2025/08/Screenshot-2025-08-06-164852.jpg
END:VEVENT
BEGIN:VEVENT
DTSTART;TZID=UTC:20250902T133000
DTEND;TZID=UTC:20250902T153000
DTSTAMP:20260423T212544
CREATED:20250807T201905Z
LAST-MODIFIED:20250807T201905Z
UID:10000850-1756819800-1756827000@subcusa.com
SUMMARY:Houston\, TX - JE Dunn Pre-bid and HUB Outreach Events
DESCRIPTION:JE Dunn Construction is leading the Design-Build Team for MD Anderson’s project in Sugar Land\, Texas. This new construction project will provide a full service ambulatory cancer care facility with a short stay bed unit. The building is design with 5 levels\, covering 472\,000 SF. The facility is planned to provide spaces for multidisciplinary clinics\, radiation oncology\, infusion therapy\, pharmacy services and much more. Site work and building structure construction has commenced. This final procurement package is mainly interior finishes\, but also includes metal wall\, soffit and roof panels\, along with landscaping and irrigation. \nRegister Here \n 
URL:https://subcusa.com/event/houston-tx-je-dunn-pre-bid-and-hub-outreach-events-2/
LOCATION:JE Dunn Construction\, 675 Bering Drive Suite 700\, Houston\, TX\, 77057\, United States
ATTACH;FMTTYPE=image/jpeg:https://subcusa.com/wp-content/uploads/2025/08/Screenshot-2025-08-07-150901-1.jpg
END:VEVENT
BEGIN:VEVENT
DTSTART;TZID=UTC:20250904T080000
DTEND;TZID=UTC:20250920T170000
DTSTAMP:20260423T212544
CREATED:20250904T223021Z
LAST-MODIFIED:20250904T223021Z
UID:10000869-1756972800-1758387600@subcusa.com
SUMMARY:Dallas\, TX - Save The Date - Quarterly Supply Chain Professionals Luncheon
DESCRIPTION:SAVE THE DATE!!!! QUARTERLY SUPPLY CHAIN PROFESSIONALS LUNCHEON
URL:https://subcusa.com/event/dallas-tx-save-the-date-quarterly-supply-chain-professionals-luncheon/
LOCATION:Hilton Dallas Lincoln Centre\, 5410 Lyndon B Johnson Fwy\, Dallas\, TX\, 75240\, United States
ATTACH;FMTTYPE=image/jpeg:https://subcusa.com/wp-content/uploads/2025/09/Screenshot-2025-09-02-174925-1.jpg
END:VEVENT
BEGIN:VEVENT
DTSTART;TZID=UTC:20250904T113000
DTEND;TZID=UTC:20250904T130000
DTSTAMP:20260423T212544
CREATED:20250903T214931Z
LAST-MODIFIED:20250903T214931Z
UID:10000860-1756985400-1756990800@subcusa.com
SUMMARY:Houston\, TX - Join Us in Honoring Female City Council Members – Former & Current
DESCRIPTION:Join us as we honor women whose courage\, vision\, and commitment have helped shape a more inclusive Houston. \nREGISTER HERE
URL:https://subcusa.com/event/houston-tx-join-us-in-honoring-female-city-council-members-former-current/
LOCATION:The Legacy Room – Houston City Hall\, 900 Bagby Street\, Houston\, TX\, 77002\, United States
ATTACH;FMTTYPE=image/jpeg:https://subcusa.com/wp-content/uploads/2025/09/Screenshot-2025-09-03-164135.jpg
END:VEVENT
BEGIN:VEVENT
DTSTART;TZID=UTC:20250905T110000
DTEND;TZID=UTC:20250905T130000
DTSTAMP:20260423T212544
CREATED:20250801T191925Z
LAST-MODIFIED:20250801T191925Z
UID:10000835-1757070000-1757077200@subcusa.com
SUMMARY:Dallas\, TX - DFW MSDC - Securing Federal Contracting with GSA
DESCRIPTION:Position your business to be a part of the $50B federal contracting market. \nJoin us for an insightful session led by a seasoned GSA federal expert\, where you will: \n\nLearn about new federal opportunities through GSA\nGet a step-by-step guide to becoming a GSA Schedule contractor\nLearn helpful hints to help your business stand out and win federal contracts\n\nSign Up \n 
URL:https://subcusa.com/event/dallas-tx-dfw-msdc-securing-federal-contracting-with-gsa/
LOCATION:DFW MSDC Office\, 8585 N. Stemmons Freeway\, Ste. 1150N\, Dallas\, TX\, 75247\, United States
ATTACH;FMTTYPE=image/jpeg:https://subcusa.com/wp-content/uploads/2025/08/Screenshot-2025-08-01-135219-1.jpg
END:VEVENT
BEGIN:VEVENT
DTSTART;TZID=UTC:20250908T090000
DTEND;TZID=UTC:20250908T120000
DTSTAMP:20260423T212544
CREATED:20250904T215703Z
LAST-MODIFIED:20250904T215703Z
UID:10000868-1757322000-1757332800@subcusa.com
SUMMARY:U.S. DOT Gulf Region SBTRC - Virtual - Bonding & Business Capacity Building Program
DESCRIPTION:This program is for transportation infrastructure contractors. Please fill out this application form to be considered for participation in the U.S. DOT Bonding & Capacity-Building Program. Lead Stakeholders: Texas Department of Transportation\, New Mexico Department of Transportation\, Oklahoma Department of Transportation and the Louisiana Department of Transportation \nREGISTER HERE
URL:https://subcusa.com/event/u-s-dot-gulf-region-sbtrc-virtual-bonding-business-capacity-building-program-3/
LOCATION:TX
ATTACH;FMTTYPE=image/jpeg:https://subcusa.com/wp-content/uploads/2025/09/Screenshot-2025-09-04-164120.jpg
END:VEVENT
BEGIN:VEVENT
DTSTART;TZID=UTC:20250908T110000
DTEND;TZID=UTC:20250908T133000
DTSTAMP:20260423T212544
CREATED:20250908T152052Z
LAST-MODIFIED:20250908T152052Z
UID:10000870-1757329200-1757338200@subcusa.com
SUMMARY:Houston\, TX - RHCA Building Blocks of Business Success
DESCRIPTION:Building Small Business Contractor Success\nThese seminars are tailored for small business\nowners to equip them with essential tools and\nstrategies for growth and success in the market. \nREGISTER HERE \n 
URL:https://subcusa.com/event/houston-tx-rhca-building-blocks-of-business-success/
LOCATION:RHCA Houston Office\, 7047 Harrisburg Blvd.\, Houston\, TX\, 77011\, United States
ATTACH;FMTTYPE=image/jpeg:https://subcusa.com/wp-content/uploads/2025/09/Screenshot-2025-09-08-101818.jpg
END:VEVENT
BEGIN:VEVENT
DTSTART;TZID=UTC:20250909T100000
DTEND;TZID=UTC:20250909T111500
DTSTAMP:20260423T212544
CREATED:20250904T212649Z
LAST-MODIFIED:20250904T212649Z
UID:10000861-1757412000-1757416500@subcusa.com
SUMMARY:Plano\, TX - Connect with NTTA: Future Business Opportunities
DESCRIPTION:Join NTTA’s Business Development & Opportunities Department\, Procurement and Business Units to learn more about our upcoming opportunities and how to do business with us. Meet and connect with our advocacy partners\, contractor associations and certifying agencies to gain insight about their unique services and programs. \n  \nREGISTER HERE
URL:https://subcusa.com/event/plano-tx-connect-with-ntta-future-business-opportunities/
LOCATION:NTTA Boardroom\, 5900 W. Plano Pkwy. Suite 200\, Plano\, TX\, 75093\, United States
ATTACH;FMTTYPE=image/png:https://subcusa.com/wp-content/uploads/2025/09/Screenshot-2025-09-04-162145.png
END:VEVENT
BEGIN:VEVENT
DTSTART;TZID=UTC:20250910T090000
DTEND;TZID=UTC:20250910T120000
DTSTAMP:20260423T212544
CREATED:20250904T215406Z
LAST-MODIFIED:20250904T215502Z
UID:10000863-1757494800-1757505600@subcusa.com
SUMMARY:U.S. DOT Gulf Region SBTRC - Virtual - Bonding & Business Capacity Building Program
DESCRIPTION:This program is for transportation infrastructure contractors. Please fill out this application form to be considered for participation in the U.S. DOT Bonding & Capacity-Building Program. Lead Stakeholders: Texas Department of Transportation\, New Mexico Department of Transportation\, Oklahoma Department of Transportation and the Louisiana Department of Transportation \nREGISTER HERE
URL:https://subcusa.com/event/u-s-dot-gulf-region-sbtrc-virtual-bonding-business-capacity-building-program/
LOCATION:TX
ATTACH;FMTTYPE=image/jpeg:https://subcusa.com/wp-content/uploads/2025/09/Screenshot-2025-09-04-164120.jpg
END:VEVENT
BEGIN:VEVENT
DTSTART;TZID=UTC:20250910T180000
DTEND;TZID=UTC:20250910T193000
DTSTAMP:20260423T212544
CREATED:20250904T213503Z
LAST-MODIFIED:20250904T213503Z
UID:10000862-1757527200-1757532600@subcusa.com
SUMMARY:Houston\, TX - Join Us! Harris Health Town Hall Meeting - Harris County Precinct 3
DESCRIPTION:  \nREGISTER HERE \n 
URL:https://subcusa.com/event/houston-tx-join-us-harris-health-town-hall-meeting-harris-county-precinct-3/
LOCATION:Trini Mendenhall Community Center\, 1414 Wirt Road\, Houston\, TX\, 77055\, United States
ATTACH;FMTTYPE=image/jpeg:https://subcusa.com/wp-content/uploads/2025/09/Screenshot-2025-09-04-162903.jpg
END:VEVENT
BEGIN:VEVENT
DTSTART;TZID=UTC:20250912T090000
DTEND;TZID=UTC:20250912T130000
DTSTAMP:20260423T212544
CREATED:20250904T215558Z
LAST-MODIFIED:20250904T215558Z
UID:10000866-1757667600-1757682000@subcusa.com
SUMMARY:U.S. DOT Gulf Region SBTRC - Virtual - Bonding & Business Capacity Building Program
DESCRIPTION:This program is for transportation infrastructure contractors. Please fill out this application form to be considered for participation in the U.S. DOT Bonding & Capacity-Building Program. Lead Stakeholders: Texas Department of Transportation\, New Mexico Department of Transportation\, Oklahoma Department of Transportation and the Louisiana Department of Transportation \nREGISTER HERE
URL:https://subcusa.com/event/u-s-dot-gulf-region-sbtrc-virtual-bonding-business-capacity-building-program-2/
LOCATION:TX
ATTACH;FMTTYPE=image/jpeg:https://subcusa.com/wp-content/uploads/2025/09/Screenshot-2025-09-04-164120.jpg
END:VEVENT
BEGIN:VEVENT
DTSTART;TZID=UTC:20250912T110000
DTEND;TZID=UTC:20250912T130000
DTSTAMP:20260423T212544
CREATED:20250801T192821Z
LAST-MODIFIED:20250801T192821Z
UID:10000837-1757674800-1757682000@subcusa.com
SUMMARY:Dallas\, TX - DFW MSDC - Securing Federal Contracting with GSA
DESCRIPTION:Position your business to be a part of the $50B federal contracting market. \nJoin us for an insightful session led by a seasoned GSA federal expert\, where you will: \n\nLearn about new federal opportunities through GSA\nGet a step-by-step guide to becoming a GSA Schedule contractor\nLearn helpful hints to help your business stand out and win federal contracts\n\nSign Up 
URL:https://subcusa.com/event/dallas-tx-dfw-msdc-securing-federal-contracting-with-gsa-2/
LOCATION:DFW MSDC Office\, 8585 N. Stemmons Freeway\, Ste. 1150N\, Dallas\, TX\, 75247\, United States
ATTACH;FMTTYPE=image/jpeg:https://subcusa.com/wp-content/uploads/2025/08/Screenshot-2025-08-01-135219-2.jpg
END:VEVENT
BEGIN:VEVENT
DTSTART;TZID=UTC:20250916T080000
DTEND;TZID=UTC:20250916T170000
DTSTAMP:20260423T212544
CREATED:20250916T171436Z
LAST-MODIFIED:20250916T171436Z
UID:10000880-1758009600-1758042000@subcusa.com
SUMMARY:Virtual Event - HarrisHealth - Kickstart Your Career: Internships & Apprenticeships That Open Doors
DESCRIPTION:The Community Internship\, Apprenticeship & Workforce Development Program is looking for applicants seeking career changes. \nREGISTER TODAY
URL:https://subcusa.com/event/virtual-event-harrishealth-kickstart-your-career-internships-apprenticeships-that-open-doors-2/
LOCATION:TX
ATTACH;FMTTYPE=image/jpeg:https://subcusa.com/wp-content/uploads/2025/09/Screenshot-2025-09-16-111840.jpg
END:VEVENT
BEGIN:VEVENT
DTSTART;TZID=UTC:20250916T140000
DTEND;TZID=UTC:20250927T150000
DTSTAMP:20260423T212544
CREATED:20250916T171720Z
LAST-MODIFIED:20250916T171720Z
UID:10000881-1758031200-1758985200@subcusa.com
SUMMARY:Virtual Event - HarrisHealth - Kickstart Your Career: Internships & Apprenticeships That Open Doors
DESCRIPTION:The Community Internship\, Apprenticeship & Workforce Development Program is looking for applicants seeking career changes. \nREGISTER TODAY
URL:https://subcusa.com/event/virtual-event-harrishealth-kickstart-your-career-internships-apprenticeships-that-open-doors-3/
LOCATION:TX
ATTACH;FMTTYPE=image/jpeg:https://subcusa.com/wp-content/uploads/2025/09/Screenshot-2025-09-16-111840.jpg
END:VEVENT
BEGIN:VEVENT
DTSTART;TZID=UTC:20250916T173000
DTEND;TZID=UTC:20250916T203000
DTSTAMP:20260423T212544
CREATED:20250813T160150Z
LAST-MODIFIED:20250813T160150Z
UID:10000855-1758043800-1758054600@subcusa.com
SUMMARY:Houston\, TX - Join Us & Our Special Guest - Jim "Mattress Mack" McIngvale
DESCRIPTION:BIG ANNOUNCEMENT: REGISTRATION OPEN! 🎉 \n📢 NAWIC Houston Industry Appreciation Night 2025 just got legendary… \n🔥 Jim “Mattress Mack” McIngvale 🔥 — the heart of Houston\, champion of trades\, and advocate for education — is taking the stage as our keynote speaker! \n📚 Mack isn’t just a furniture icon. He’s a fierce supporter of workforce development\, vocational training\, and the power of a strong work ethic. His unwavering dedication to the trades\, education\, and giving back makes him the perfect voice for a night honoring the very heartbeat of our industry — YOU. \n🛠️ From building a business with grit to building up our community with generosity\, Mack inspires action. \n🌟 Get ready for a message you’ll never forget. \nREGISTER HERE
URL:https://subcusa.com/event/houston-tx-join-us-our-special-guest-jim-mattress-mack-mcingvale/
LOCATION:Bayou City Event Center\, 9401 Knight Rd\, Houston\, TX\, 77045\, United States
ATTACH;FMTTYPE=image/jpeg:https://subcusa.com/wp-content/uploads/2025/08/Screenshot-2025-08-13-105659.jpg
END:VEVENT
BEGIN:VEVENT
DTSTART;TZID=UTC:20250917T100000
DTEND;TZID=UTC:20250917T113000
DTSTAMP:20260423T212545
CREATED:20250912T154717Z
LAST-MODIFIED:20250912T154717Z
UID:10000873-1758103200-1758108600@subcusa.com
SUMMARY:Virtual - METRO's Online SBE Certification Workshop
DESCRIPTION:Learn the Following: \nThe Importance of Certification! \nMETRO’s Certification Requirements \nHow To Apply for METRO’s Certification \nAgencies that Accepts METRO’s Certifications \nHow To Access METRO’s Certification Portal \nCLICK HERE TO RSVP
URL:https://subcusa.com/event/virtual-metros-online-sbe-certification-workshop/
LOCATION:TX
ATTACH;FMTTYPE=image/png:https://subcusa.com/wp-content/uploads/2025/09/Screenshot-2025-09-12-103932.png
END:VEVENT
BEGIN:VEVENT
DTSTART;TZID=UTC:20250917T140000
DTEND;TZID=UTC:20250917T150000
DTSTAMP:20260423T212545
CREATED:20250915T194611Z
LAST-MODIFIED:20250915T194611Z
UID:10000876-1758117600-1758121200@subcusa.com
SUMMARY:Virtual - AMAC’s State of the Industry Virtual Town Hall
DESCRIPTION:WHY ATTEND? \nThis member-exclusive webinar will feature: \n·     Insights on the current political and policy environment (elected officials invited) \n·     Updates on AMAC’s latest advocacy efforts \n·     AMAC Advocacy Member Call to Action \nREGISTER HERE \nJOIN AMAC/RENEW MEMBERSHIP
URL:https://subcusa.com/event/virtual-amacs-state-of-the-industry-virtual-town-hall/
LOCATION:TX
ATTACH;FMTTYPE=image/png:https://subcusa.com/wp-content/uploads/2025/09/Screenshot-2025-09-15-142642.png
END:VEVENT
END:VCALENDAR