BEGIN:VCALENDAR
VERSION:2.0
PRODID:-//Subcontractors USA - ECPv6.15.20//NONSGML v1.0//EN
CALSCALE:GREGORIAN
METHOD:PUBLISH
X-WR-CALNAME:Subcontractors USA
X-ORIGINAL-URL:https://subcusa.com
X-WR-CALDESC:Events for Subcontractors USA
REFRESH-INTERVAL;VALUE=DURATION:PT1H
X-Robots-Tag:noindex
X-PUBLISHED-TTL:PT1H
BEGIN:VTIMEZONE
TZID:UTC
BEGIN:STANDARD
TZOFFSETFROM:+0000
TZOFFSETTO:+0000
TZNAME:UTC
DTSTART:20240101T000000
END:STANDARD
END:VTIMEZONE
BEGIN:VEVENT
DTSTART;TZID=UTC:20250724T100000
DTEND;TZID=UTC:20250724T120000
DTSTAMP:20260423T225707
CREATED:20250627T225702Z
LAST-MODIFIED:20250627T225702Z
UID:10000812-1753351200-1753358400@subcusa.com
SUMMARY:Houston\, TX - How to Get Your Company Certified Stress & Frustration Free
DESCRIPTION:Properly prepare their company for certification\, identify and gather essential documents. Learn the different types of certifications. \nREGISTER NOW
URL:https://subcusa.com/event/houston-tx-how-to-get-your-company-certified-stress-frustration-free/
LOCATION:Kashmere Multi-Service Center\, 4802 Lockwood Drive\, Houston\, TX\, 77026\, United States
ATTACH;FMTTYPE=image/jpeg:https://subcusa.com/wp-content/uploads/2025/06/Screenshot-2025-06-27-175556.jpg
END:VEVENT
BEGIN:VEVENT
DTSTART;TZID=UTC:20250723T090000
DTEND;TZID=UTC:20250723T130000
DTSTAMP:20260423T225707
CREATED:20250702T225754Z
LAST-MODIFIED:20250702T225754Z
UID:10000815-1753261200-1753275600@subcusa.com
SUMMARY:Houston\, TX - METRO MBU - Virtual Come Discover the Added Value of METRO's Certification Partners
DESCRIPTION:Come Discover the Added Value of METRO’s Certification Partners \nClick Here to RSVP
URL:https://subcusa.com/event/houston-tx-metro-mbu-virtual-come-discover-the-added-value-of-metros-certification-partners/
LOCATION:TX
ATTACH;FMTTYPE=image/jpeg:https://subcusa.com/wp-content/uploads/2025/07/Screenshot-2025-07-02-175620.jpg
END:VEVENT
BEGIN:VEVENT
DTSTART;TZID=UTC:20250722T180000
DTEND;TZID=UTC:20250722T193000
DTSTAMP:20260423T225707
CREATED:20250619T203337Z
LAST-MODIFIED:20250619T203337Z
UID:10000806-1753207200-1753212600@subcusa.com
SUMMARY:Houston\, TX - Harris Health Town Hall Meeting - Harris County Precinct 1-July 22nd
DESCRIPTION:Please join Harris Health and Commissioner Rodney Ellis as they host a special Town Hall Meeting in Precinct 1 on \nJuly 22\, 2025 from 6:00-7:30pm at the \nKashmere Multi-Service Center \n4802 Lockwood Drive Houston\, TX 77026 \n\nHarris Health and Harris County Precinct 1 will share community services updates and events. Participants will discuss emerging health topic \nREGISTER HERE
URL:https://subcusa.com/event/houston-tx-harris-health-town-hall-meeting-harris-county-precinct-1-july-22nd/
LOCATION:Kashmere Multi-Service Center\, 4802 Lockwood Drive\, Houston\, TX\, 77026\, United States
ATTACH;FMTTYPE=image/jpeg:https://subcusa.com/wp-content/uploads/2025/06/Screenshot-2025-06-19-152955.jpg
END:VEVENT
BEGIN:VEVENT
DTSTART;TZID=UTC:20250722T080000
DTEND;TZID=UTC:20250722T110000
DTSTAMP:20260423T225707
CREATED:20250711T170106Z
LAST-MODIFIED:20250711T170106Z
UID:10000822-1753171200-1753182000@subcusa.com
SUMMARY:Houston\, TX - Greater Houston Business Procurement Forum - Doing Business With the City of Houston
DESCRIPTION:No Cost to Attend\nBreakfast Served 7:30AM- 9:00AM\nRegistration: No Pre-Registration Required but\nplease complete the attendance Form below to\nreceive future Forum Announcements.\nParking: The Parking is free up to 3 hours in the\nRed Lot across the street (Fannin Street side) from\nthe building. \nREGISTER HERE \n 
URL:https://subcusa.com/event/houston-tx-greater-houston-business-procurement-forum-doing-business-with-the-city-of-houston/
LOCATION:The ION Houston\, 4201 Main Street\, Houston\, TX\, 77002\, United States
ATTACH;FMTTYPE=image/jpeg:https://subcusa.com/wp-content/uploads/2025/07/Screenshot-2025-07-11-114614.jpg
END:VEVENT
BEGIN:VEVENT
DTSTART;TZID=UTC:20250721T100000
DTEND;TZID=UTC:20250721T120000
DTSTAMP:20260423T225707
CREATED:20250627T230605Z
LAST-MODIFIED:20250627T230605Z
UID:10000813-1753092000-1753099200@subcusa.com
SUMMARY:Houston\, TX - Contractor Diversity Program presents Coffee & Conversations with Harris Health and HCC
DESCRIPTION:Highlights:\n• Understanding AI: Learn how AI can transform your business operations and drive growth.\n• Innovation Strategies: Discover innovative ways to integrate AI into your business model.\n• Practical Insights: Gain practical tips and real-world examples from industry expert Jha Allen.\nJoin us for an engaging session of Coffee & Conversations where Jha Allen will share valuable insights on leveraging AI to boost business growth and innovation. Don’t miss this opportunity to network and learn! \nREGISTER HERE
URL:https://subcusa.com/event/houston-tx-contractor-diversity-program-presents-coffee-conversations-with-harris-health-and-hcc/
LOCATION:Houston Community College\, 2811 Hayes Road\, Houston\, TX\, 77082\, United States
ATTACH;FMTTYPE=image/jpeg:https://subcusa.com/wp-content/uploads/2025/06/Screenshot-2025-06-27-180243.jpg
END:VEVENT
BEGIN:VEVENT
DTSTART;TZID=UTC:20250717T100000
DTEND;TZID=UTC:20250717T113000
DTSTAMP:20260423T225707
CREATED:20250716T203343Z
LAST-MODIFIED:20250716T203343Z
UID:10000824-1752746400-1752751800@subcusa.com
SUMMARY:Houston\, TX - Virtual Webinar METRO's Office of Economic Business Opportunity Presents: METRO's Online SBE Certification Workshop
DESCRIPTION:Virtual Webinar METRO’s Office of Economic Business Opportunity Presents: METRO’s Online SBE Certification Workshop \n  \nREGISTER HERE \n 
URL:https://subcusa.com/event/houston-tx-virtual-webinar-metros-office-of-economic-business-opportunity-presents-metros-online-sbe-certification-workshop/
LOCATION:TX
ATTACH;FMTTYPE=image/png:https://subcusa.com/wp-content/uploads/2025/07/Screenshot-2025-07-16-152841.png
END:VEVENT
BEGIN:VEVENT
DTSTART;TZID=UTC:20250716T123000
DTEND;TZID=UTC:20250716T153000
DTSTAMP:20260423T225707
CREATED:20250715T212550Z
LAST-MODIFIED:20250715T212758Z
UID:10000823-1752669000-1752679800@subcusa.com
SUMMARY:Fort Worth\, TX - Fort Worth ISD + DFW MSDC: The 13th Annual ISD Buyer & Vendor Mixer
DESCRIPTION:Fort Worth ISD and the Dallas Fort Worth Minority Supplier Development Council are hosting the 13th Annual ISD Buyer and Vendor Mixer.  This free event provides an excellent opportunity for minority and small business owners to learn more about how to do business with participating ISDs in the area\, as well as find procurement related information and opportunities.
URL:https://subcusa.com/event/fort-worth-tx-fort-worth-isd-dfw-msdc-the-13th-annual-isd-buyer-vendor-mixer/
LOCATION:Fort Worth ISD – Teachers Learning Center (TLC)\, 1050 Bridgewood Drive\, Fort Worth\, TX\, 76112\, United States
ATTACH;FMTTYPE=image/jpeg:https://subcusa.com/wp-content/uploads/2025/07/Screenshot-2025-07-15-161831.jpg
END:VEVENT
END:VCALENDAR