BEGIN:VCALENDAR
VERSION:2.0
PRODID:-//Subcontractors USA - ECPv6.15.20//NONSGML v1.0//EN
CALSCALE:GREGORIAN
METHOD:PUBLISH
X-ORIGINAL-URL:https://subcusa.com
X-WR-CALDESC:Events for Subcontractors USA
REFRESH-INTERVAL;VALUE=DURATION:PT1H
X-Robots-Tag:noindex
X-PUBLISHED-TTL:PT1H
BEGIN:VTIMEZONE
TZID:UTC
BEGIN:STANDARD
TZOFFSETFROM:+0000
TZOFFSETTO:+0000
TZNAME:UTC
DTSTART:20250101T000000
END:STANDARD
END:VTIMEZONE
BEGIN:VEVENT
DTSTART;TZID=UTC:20260428T080000
DTEND;TZID=UTC:20260428T110000
DTSTAMP:20260423T091958
CREATED:20260422T175622Z
LAST-MODIFIED:20260422T191951Z
UID:10001047-1777363200-1777374000@subcusa.com
SUMMARY:Houston\, TX- Greater Houston Procurement Forum "Doing Business within our Healthcare Industry"
DESCRIPTION:Please Join Us  \nTuesday\, April 28\, 2026 For the Greater Houston Business Procurement Forum (GHBPF) Breakfast Meeting is scheduled from 8:00 am to 11:00 am. Please remember to arrive before 8:00 a.m. for Breakfast and early Networking. We will start promptly at 8:05 a.m. with the Program ending at 9:45 a.m. to resume Networking until 11:00 a.m. \nThe ION Houston is located at 4201 Main Street at Wheeler Ave.\, Houston\, TX 77002. Parking is available at no cost for the first 3 Hours in the Red Lot across the street (Fannin Street side of The ION). \nWe are pleased to Announce our upcoming Forum as we host “Doing Business within our Healthcare Industry”\n\n\n\n\n\n\nThe Forum will feature some of the more active Hospitals and Healthcare Networks in the Houston area focusing on their upcoming Projects\, Initiatives and related business opportunities. \n  \n  \n  \n 
URL:https://subcusa.com/event/houston-tx-greater-houston-procurement-forum-doing-business-within-our-healthcare-industry/
LOCATION:The ION Houston\, 4201 Main Street\, Houston\, TX\, 77002\, United States
ATTACH;FMTTYPE=image/png:https://subcusa.com/wp-content/uploads/2026/04/Screenshot-2026-04-22-123004.png
END:VEVENT
BEGIN:VEVENT
DTSTART;TZID=UTC:20260506T110000
DTEND;TZID=UTC:20260506T123000
DTSTAMP:20260423T091958
CREATED:20260416T164812Z
LAST-MODIFIED:20260416T164812Z
UID:10001044-1778065200-1778070600@subcusa.com
SUMMARY:San Antonio\, TX- SoTX LUNCH & LEARN
DESCRIPTION:The SoTX Lunch & Learn event is a professional development and networking series designed to bring together partners\, business leaders\, and community stakeholders for meaningful conversation and shared learning. Held occasionally on the first Wednesday of the month\, this event provides attendees with valuable insights on relevant topics impacting our region\, while fostering collaboration and connection within the South Texas business community. \nEach session features a guest speaker or subject-matter expert\, offering practical knowledge and real-world perspectives in an engaging and interactive setting. Participants have the opportunity to expand their network\, exchange ideas\, and strengthen partnerships — all over lunch in a welcoming environment. \nDate/Time\nCheck-in starts at 11 AM\nFees/Admission\nFree to all partners and non-partners\nLocation\nSoTX Office | Conference Room \nRegister Here: SoTX Lunch and Learn – Event Registration
URL:https://subcusa.com/event/san-antonio-tx-sotx-lunch-learn/
LOCATION:South Texas Business Partnership\, 3128 Sidney Brooks\, San Antonio\, TX\, 78235\, United States
ATTACH;FMTTYPE=image/jpeg:https://subcusa.com/wp-content/uploads/2026/04/Screenshot-2026-04-16-112239.jpg
END:VEVENT
BEGIN:VEVENT
DTSTART;TZID=UTC:20260507T090000
DTEND;TZID=UTC:20260507T120000
DTSTAMP:20260423T091958
CREATED:20260310T162357Z
LAST-MODIFIED:20260310T162357Z
UID:10001027-1778144400-1778155200@subcusa.com
SUMMARY:Beaumont\, TX - Doing Business with TxDOT
DESCRIPTION:Attendees will have the opportunity to connect with: TxDOT representatives from Construction\, Maintenance\, and Professional Engineering Procurement Services (PEPS) Prime contractors and other small businesses Representatives from local support organizations and the Associated General Contractors of Texas \nFor more information\, contact the Civil Rights Division: Katrena.Plummer@txdot.gov
URL:https://subcusa.com/event/beaumont-tx-doing-business-with-txdot/
LOCATION:TxDOT Beaumont District\, 8350 Eastex Freeway\, Beaumont\, TX\, 77008\, United States
ATTACH;FMTTYPE=image/png:https://subcusa.com/wp-content/uploads/2026/03/Screenshot-2026-03-10-112158.png
END:VEVENT
BEGIN:VEVENT
DTSTART;TZID=UTC:20260511T080000
DTEND;TZID=UTC:20260512T170000
DTSTAMP:20260423T091958
CREATED:20260312T161513Z
LAST-MODIFIED:20260414T175034Z
UID:10001030-1778486400-1778605200@subcusa.com
SUMMARY:Dallas/Irving\, TX - DFW Business Council - Make Meaningful Connections at ACCESS 2026 Business Expo
DESCRIPTION:Event Information\nIt`s time for the premier business expo of the year:\nACCESS 2026!\nWe are back for 2026 to bring you opportunities to engage\, discover\, execute.\nWhether you’re a small business or a corporate entity\, this event must be on your calendar!\nWhy Attend?\n+ More than 2\,000 attendees\n+ State Senator Royce West Agency Fair ($5 million awarded during ACCESS 2025)\n+ Corporate Round Table Sessions\n+ BUY THOSE THAT BUY USTM Business Solutions Pavilion\n+ Opening and Closing Receptions\nREGISTER HERE
URL:https://subcusa.com/event/dallas-tx-dfw-business-council-make-meaningful-connections-at-access-2026-business-expo/
LOCATION:Dallas Fort Worth Business Council\, 8585 N. Stemmons Fwy.\, Dallas\, TX\, 75247\, United States
ATTACH;FMTTYPE=image/jpeg:https://subcusa.com/wp-content/uploads/2026/03/Screenshot-2026-04-14-124928.jpg
END:VEVENT
BEGIN:VEVENT
DTSTART;TZID=UTC:20260518T070000
DTEND;TZID=UTC:20260518T150000
DTSTAMP:20260423T091958
CREATED:20260413T173033Z
LAST-MODIFIED:20260413T173033Z
UID:10001041-1779087600-1779116400@subcusa.com
SUMMARY:Carrollton\, TX - RHCA GOLF CLASSIC 2026
DESCRIPTION:Register Here: 2026 RHCA Annual Golf Classic
URL:https://subcusa.com/event/carrollton-tx-rhca-golf-classic-2026/
LOCATION:Indian Creek Golf Club\, 1650 W. Frankford Rd.\, Carrollton\, TX\, 75007\, United States
ATTACH;FMTTYPE=image/png:https://subcusa.com/wp-content/uploads/2026/04/Screenshot-2026-04-13-104833.png
END:VEVENT
END:VCALENDAR