BEGIN:VCALENDAR
VERSION:2.0
PRODID:-//Subcontractors USA - ECPv6.15.20//NONSGML v1.0//EN
CALSCALE:GREGORIAN
METHOD:PUBLISH
X-ORIGINAL-URL:https://subcusa.com
X-WR-CALDESC:Events for Subcontractors USA
REFRESH-INTERVAL;VALUE=DURATION:PT1H
X-Robots-Tag:noindex
X-PUBLISHED-TTL:PT1H
BEGIN:VTIMEZONE
TZID:UTC
BEGIN:STANDARD
TZOFFSETFROM:+0000
TZOFFSETTO:+0000
TZNAME:UTC
DTSTART:20250101T000000
END:STANDARD
END:VTIMEZONE
BEGIN:VEVENT
DTSTART;TZID=UTC:20260518T070000
DTEND;TZID=UTC:20260518T150000
DTSTAMP:20260423T104159
CREATED:20260413T173033Z
LAST-MODIFIED:20260413T173033Z
UID:10001041-1779087600-1779116400@subcusa.com
SUMMARY:Carrollton\, TX - RHCA GOLF CLASSIC 2026
DESCRIPTION:Register Here: 2026 RHCA Annual Golf Classic
URL:https://subcusa.com/event/carrollton-tx-rhca-golf-classic-2026/
LOCATION:Indian Creek Golf Club\, 1650 W. Frankford Rd.\, Carrollton\, TX\, 75007\, United States
ATTACH;FMTTYPE=image/png:https://subcusa.com/wp-content/uploads/2026/04/Screenshot-2026-04-13-104833.png
END:VEVENT
END:VCALENDAR