BEGIN:VCALENDAR
VERSION:2.0
PRODID:-//Subcontractors USA - ECPv6.15.20//NONSGML v1.0//EN
CALSCALE:GREGORIAN
METHOD:PUBLISH
X-ORIGINAL-URL:https://subcusa.com
X-WR-CALDESC:Events for Subcontractors USA
REFRESH-INTERVAL;VALUE=DURATION:PT1H
X-Robots-Tag:noindex
X-PUBLISHED-TTL:PT1H
BEGIN:VTIMEZONE
TZID:UTC
BEGIN:STANDARD
TZOFFSETFROM:+0000
TZOFFSETTO:+0000
TZNAME:UTC
DTSTART:20240101T000000
END:STANDARD
END:VTIMEZONE
BEGIN:VEVENT
DTSTART;TZID=UTC:20251106T103000
DTEND;TZID=UTC:20251106T130000
DTSTAMP:20260423T105911
CREATED:20251007T160849Z
LAST-MODIFIED:20251007T160849Z
UID:10000917-1762425000-1762434000@subcusa.com
SUMMARY:Dallas\, TX - AACPA Annual Awards Gala Luncheon & Expo
DESCRIPTION:  \nREGISTRATION AND SPONSORSHIP
URL:https://subcusa.com/event/dallas-tx-aacpa-annual-awards-gala-luncheon-expo/
LOCATION:VOUV\, 4445 Sigma Rd\, Dallas\, TX\, United States
ATTACH;FMTTYPE=image/png:https://subcusa.com/wp-content/uploads/2025/10/Screenshot-2025-10-07-110454.png
END:VEVENT
BEGIN:VEVENT
DTSTART;TZID=UTC:20251106T113000
DTEND;TZID=UTC:20251106T133000
DTSTAMP:20260423T105911
CREATED:20250925T222853Z
LAST-MODIFIED:20250925T222853Z
UID:10000910-1762428600-1762435800@subcusa.com
SUMMARY:Houston\, TX - Houston Business Development\, Inc. - Business Growth Cohort Series
DESCRIPTION:Next Level 12 Accelerator Workshop Series\nMost businesses fail in 3–5 years not from lack of capital\, but mismanagement. In this three-month series HBDI offers expert advisory to help you grow\, scale\, and sustain success. Gain tools\, training programs\, capital access\, and new opportunities. Limited space—register now!\n  \nREGISTER HERE
URL:https://subcusa.com/event/houston-tx-houston-business-development-inc-business-growth-cohort-series-2/
LOCATION:Blessed Hope Fellowship Hall\, 3741 Colvin Street\, Houston\, TX\, 77013\, United States
ATTACH;FMTTYPE=image/jpeg:https://subcusa.com/wp-content/uploads/2025/09/Screenshot-2025-09-25-172020.jpg
END:VEVENT
BEGIN:VEVENT
DTSTART;TZID=UTC:20251107T090000
DTEND;TZID=UTC:20251107T120000
DTSTAMP:20260423T105911
CREATED:20251027T204640Z
LAST-MODIFIED:20251027T211033Z
UID:10000935-1762506000-1762516800@subcusa.com
SUMMARY:Houston\, TX - Beyond The Basics - AI for Small Businesses: Amplify Efficiency & Growth
DESCRIPTION:AI for Small Businesses: Amplify Efficiency & Growth \n\nUse data-driven insights to inform smarter decisions — from pricing to inventory management\nBoost productivity with AI tools for content generation\, design\, scheduling\, and more\nUnderstand ethical use\, data privacy\, and choosing the right AI tools for your budget\n\nWhether you’re just curious or ready to dive in\, this session arms you with practical steps and tool-ready tactics to start using AI today. \nUnlock AI’s potential for your business — smarter\, not harder. \nREGISTER HERE
URL:https://subcusa.com/event/beyond-the-basics-new-small-business-workshop-series-at-hcc/
LOCATION:West Houston Institute\, Room 206\, 2811 Hayes Rd.\, Houston\, TX\, 77082\, United States
ATTACH;FMTTYPE=image/png:https://subcusa.com/wp-content/uploads/2025/10/Screenshot-2025-10-27-155148.png
END:VEVENT
BEGIN:VEVENT
DTSTART;TZID=UTC:20251107T093000
DTEND;TZID=UTC:20251107T120000
DTSTAMP:20260423T105911
CREATED:20251031T220845Z
LAST-MODIFIED:20251031T221601Z
UID:10000941-1762507800-1762516800@subcusa.com
SUMMARY:Houston\, TX - RHCA Coffee with Contractors
DESCRIPTION:Join Council Member Joaquin Martinez and the City of Houston Office of Business Opportunity for “Coffee with Contractors!” Connect with primes and fellow City-contracted small businesses to network\, collaborate\, and explore partnership opportunities. \nREGISTER HERE
URL:https://subcusa.com/event/houston-tx-coffee-with-contractors/
LOCATION:HCC – Southeast – Learning HUB\, 6815 Rustic Street\, Houston\, TX\, 77087\, United States
ATTACH;FMTTYPE=image/jpeg:https://subcusa.com/wp-content/uploads/2025/10/Screenshot-2025-10-31-170856.jpg
END:VEVENT
BEGIN:VEVENT
DTSTART;TZID=UTC:20251110T070000
DTEND;TZID=UTC:20251110T130000
DTSTAMP:20260423T105911
CREATED:20250718T213324Z
LAST-MODIFIED:20250718T213324Z
UID:10000829-1762758000-1762779600@subcusa.com
SUMMARY:Sugar Land\, TX - RHCA Golf Classic Houston 2025
DESCRIPTION:The RHCA Golf Classic Houston 2025 \nProudly Supporting Construction Workforce & AEC Small Business Development \nMust follow course rules and dress code. \nRegister
URL:https://subcusa.com/event/sugar-land-tx-rhca-golf-classic-houston-2025/
LOCATION:Riverbend Country Club\, 1214 Dulles Avenue\, Sugar Land\, TX\, 77478\, United States
ATTACH;FMTTYPE=image/png:https://subcusa.com/wp-content/uploads/2025/07/Screenshot-2025-07-18-162555.png
END:VEVENT
BEGIN:VEVENT
DTSTART;TZID=UTC:20251111T140000
DTEND;TZID=UTC:20251111T190000
DTSTAMP:20260423T105911
CREATED:20251023T201853Z
LAST-MODIFIED:20251023T202325Z
UID:10000933-1762869600-1762887600@subcusa.com
SUMMARY:Houston\, TX - Veterans and Visionaries: Celebrating Military Entrepreneurship Event
DESCRIPTION:Houston’s biggest Veterans Day celebration — live music\, bold ideas\, craft beer & powerful connections. Don’t miss it at The Ion! \n2:00 – 3:30 PM Veteran Business Expo \n3:30 – 4:00 PM Opening Remarks \n4:00 – 5:00 PM Lessons from the Field \n5:00 – 7:00 Warrior Rising First Round at Second Drought \nREGISTER
URL:https://subcusa.com/event/houston-tx-veterans-and-visionaries-celebrating-military-entrepreneurship-event/
LOCATION:THE ION\, 4201 Main Street\, Houston\, TX\, United States
ATTACH;FMTTYPE=image/png:https://subcusa.com/wp-content/uploads/2025/10/Screenshot-2025-10-23-151154.png
END:VEVENT
BEGIN:VEVENT
DTSTART;TZID=UTC:20251112T100000
DTEND;TZID=UTC:20251112T113000
DTSTAMP:20260423T105911
CREATED:20251031T222153Z
LAST-MODIFIED:20251031T222153Z
UID:10000942-1762941600-1762947000@subcusa.com
SUMMARY:Virtual - METRO Business University - SBE Program DEI Impact!
DESCRIPTION:CLICK HERE TO RSVP!
URL:https://subcusa.com/event/virtual-metro-business-university-sbe-program-dei-impact/
LOCATION:TX
ATTACH;FMTTYPE=image/jpeg:https://subcusa.com/wp-content/uploads/2025/10/Screenshot-2025-10-31-172043.jpg
END:VEVENT
BEGIN:VEVENT
DTSTART;TZID=UTC:20251113T080000
DTEND;TZID=UTC:20251113T170000
DTSTAMP:20260423T105911
CREATED:20251113T222643Z
LAST-MODIFIED:20251113T222643Z
UID:10000950-1763020800-1763053200@subcusa.com
SUMMARY:Austin\, TX - RHCA Heavy Highway & Transportation Forum
DESCRIPTION:The RHCA invites consultants\, engineers\, and contractors\, as well as any professional services or construction services companies interested in or currently working in the Heavy Highway and Transportation industry. \nREGISTER HERE
URL:https://subcusa.com/event/austin-tx-rhca-heavy-highway-transportation-forum/
LOCATION:St. Edward’s University-Ragsdale Center\, 3001 S. Congress Avenue\, Austin\, TX\, 78704\, United States
ATTACH;FMTTYPE=image/jpeg:https://subcusa.com/wp-content/uploads/2025/11/Screenshot-2025-11-13-162220.jpg
END:VEVENT
BEGIN:VEVENT
DTSTART;TZID=UTC:20251113T100000
DTEND;TZID=UTC:20251113T113000
DTSTAMP:20260423T105911
CREATED:20251031T222743Z
LAST-MODIFIED:20251031T222743Z
UID:10000943-1763028000-1763033400@subcusa.com
SUMMARY:Virtual - METRO's Online SBE Certification Workshop
DESCRIPTION:CLICK HERE TO RSVP!
URL:https://subcusa.com/event/virtual-metros-online-sbe-certification-workshop-3/
LOCATION:TX
ATTACH;FMTTYPE=image/png:https://subcusa.com/wp-content/uploads/2025/10/Screenshot-2025-10-31-172333.png
END:VEVENT
BEGIN:VEVENT
DTSTART;TZID=UTC:20251113T100000
DTEND;TZID=UTC:20251113T120000
DTSTAMP:20260423T105911
CREATED:20251023T193917Z
LAST-MODIFIED:20251023T193917Z
UID:10000932-1763028000-1763035200@subcusa.com
SUMMARY:Houston\, TX - Harris Health Next Level Training Series VIII
DESCRIPTION:Next Level Training Series XIII:\nHow to Price Your Product/Services Successfully – Part 2– November 13th at Kashmere Multi-Service\n  \nREGISTER HERE
URL:https://subcusa.com/event/houston-tx-harris-health-next-level-training-series-viii/
LOCATION:Kashmere Multi Service Center\, 4802 Lockwood Drive\, Houston\, TX\, 77026\, United States
ATTACH;FMTTYPE=image/jpeg:https://subcusa.com/wp-content/uploads/2025/10/Screenshot-2025-10-23-143430.jpg
END:VEVENT
BEGIN:VEVENT
DTSTART;TZID=UTC:20251113T100000
DTEND;TZID=UTC:20251113T160000
DTSTAMP:20260423T105911
CREATED:20251104T165626Z
LAST-MODIFIED:20251104T165626Z
UID:10000945-1763028000-1763049600@subcusa.com
SUMMARY:Humble\, TX - City of Houston OBO Turning a New Chapter in Policy and Procedures
DESCRIPTION:Get ready to dive deep into the world of policy and procedures\, turning a new chapter with fresh perspectives and innovative approaches.\n\n\n\nWelcome to the Turning a New Chapter in Policy and Procedures event! Join us at the E.B. Cape Learning & Development Center on November 4\, 2025 at 10:00 AM-Noon or 2:00pm-4:00pm (Central Time) for an insightful discussion on the latest advancements in policy-making and procedural strategies. This event is perfect for professionals looking to stay ahead in their field. Don’t miss out on this opportunity to network and learn from industry experts. See you there! \n*Please note\, attendance at these trainings is mandatory to ensure we all share a consistent understanding of the new policies. Primes who miss training may continue to bid but will not have compliance access in B2GNow until training is completed.* \nIf you require a reasonable ADA accommodation\, please contact Norma Meadows at 832.393.0161 or via email at Norma.Meadows@houstontx.gov. To help us better meet your needs\, we ask that requests be submitted at least 72 hours in advance. \nRegister
URL:https://subcusa.com/event/humble-tx-city-of-houston-obo-turning-a-new-chapter-in-policy-and-procedures/
LOCATION:HAS-IDO\, 111 Standifer Drive\, Humble\, TX\, United States
ATTACH;FMTTYPE=image/jpeg:https://subcusa.com/wp-content/uploads/2025/11/Screenshot-2025-11-04-104214.jpg
END:VEVENT
BEGIN:VEVENT
DTSTART;TZID=UTC:20251113T113000
DTEND;TZID=UTC:20251113T130000
DTSTAMP:20260423T105911
CREATED:20251013T163158Z
LAST-MODIFIED:20251013T163158Z
UID:10000923-1763033400-1763038800@subcusa.com
SUMMARY:Fort Worth\, TX - NTTA Business Opportunities Stakeholders Session
DESCRIPTION:Discover upcoming contracting opportunities with NTTA\, connect with our leadership as well as industry peers and learn how to grow your business. You will also have the opportunity to network and gain valuable insights on how to do business with NTTA during this focused session. \nREGISTER
URL:https://subcusa.com/event/fort-worth-tx-ntta-business-opportunities-stakeholders-session/
LOCATION:Amon Carter Center at Lena Pope\, 3200 Sanguinet Street\, Fort Worth\, TX\, 76107\, United States
ATTACH;FMTTYPE=image/jpeg:https://subcusa.com/wp-content/uploads/2025/10/Screenshot-2025-10-13-112705.jpg
END:VEVENT
BEGIN:VEVENT
DTSTART;TZID=UTC:20251113T113000
DTEND;TZID=UTC:20251113T130000
DTSTAMP:20260423T105911
CREATED:20251031T211825Z
LAST-MODIFIED:20251031T211825Z
UID:10000940-1763033400-1763038800@subcusa.com
SUMMARY:Fort Worth\, TX - NTTA Business Opportunities Stakeholder Session
DESCRIPTION:Discover upcoming contracting opportunities with NTTA\, connect with our leadership as well as industry peers and learn how to grow your business. You will also have the opportunity to network and gain valuable insights on how to do business with NTTA during this focused session. \nLunch will be served. \nREGISTER HERE
URL:https://subcusa.com/event/fort-worth-tx-ntta-business-opportunities-stakeholder-session/
LOCATION:Amon Carter Center at Lena Pope\, 3200 Sanguinet Street\, Fort Worth\, TX\, 76107\, United States
ATTACH;FMTTYPE=image/jpeg:https://subcusa.com/wp-content/uploads/2025/10/Screenshot-2025-10-31-161535.jpg
END:VEVENT
BEGIN:VEVENT
DTSTART;TZID=UTC:20251114T090000
DTEND;TZID=UTC:20251114T120000
DTSTAMP:20260423T105911
CREATED:20251027T212014Z
LAST-MODIFIED:20251027T212209Z
UID:10000936-1763110800-1763121600@subcusa.com
SUMMARY:Houston\, TX - Mastering the Art and Science of Negotiation for Small Business Owners
DESCRIPTION:Master the Art of Negotiation for Small Business Owners \nUnlock the strategies that help you close better deals\, build lasting relationships\, and strengthen your bottom line. \nIn this practical workshop\, you’ll learn how to: \n\nPrepare thoroughly — define your goals\, know your “walk-away” point and research your counterpart\nBuild rapport and listen actively to understand the real needs behind positions\nUse strategic anchoring\, timing\, and concessions to shift leverage in your favor\nCreate win-win outcomes by uncovering shared interests and offering multiple option packages\nAvoid common pitfalls — from emotional reactions to underestimating the power of silence\n\nWhether you’re negotiating with vendors\, clients\, partners\, or your team\, this session gives you actionable tools to step into the negotiation room with confidence. \nTake control of your deals. Don’t just accept terms — craft them. \nREGISTER HERE
URL:https://subcusa.com/event/houston-tx-mastering-the-art-and-science-of-negotiation/
LOCATION:West Houston Institute\, Rm 206\, 2811 Hayes Rd\, Houston\, TX\, 77082\, United States
ATTACH;FMTTYPE=image/png:https://subcusa.com/wp-content/uploads/2025/10/Screenshot-2025-10-27-161548.png
END:VEVENT
BEGIN:VEVENT
DTSTART;TZID=UTC:20251115T100000
DTEND;TZID=UTC:20251115T120000
DTSTAMP:20260423T105911
CREATED:20251113T212814Z
LAST-MODIFIED:20251113T221843Z
UID:10000949-1763200800-1763208000@subcusa.com
SUMMARY:Houston\, TX - Houston City College - Goal -Driven RFIs: Scoring with Purpose
DESCRIPTION:In partnership with IEP + HEI in preparation for major events coming to Houston in 2026 and beyond … \nRFI & Proposal Workshop \nJoin us for a hands-on workshop designed to help local entrepreneurs and small business owners learn how to successfully apply to an RFI and create a wining proposal. \nThis workshop will be led by Julie Irvin Hartman\, MBA\, Co-Founder of B2G Victory. \nWe will discuss: \n\nHow to understand and respond to an RFI.\nWhat makes a proposal stand out.\nTips and strategies for getting the winning bid.\n\nFor any questions\, please contact: \nCarola Medina\, Office Manager \ncarola.medina@hccs.edu. \nREGISTER TODAY
URL:https://subcusa.com/event/houston-tx-houston-city-college-goal-driven-rfis/
LOCATION:HCC Felix Fraga Building\, Room 160\, 301 N. Drennan Street\, Houston\, TX\, 77003\, United States
ATTACH;FMTTYPE=image/jpeg:https://subcusa.com/wp-content/uploads/2025/11/Screenshot-2025-11-13-152642.jpg
END:VEVENT
BEGIN:VEVENT
DTSTART;TZID=UTC:20251117T090000
DTEND;TZID=UTC:20251117T100000
DTSTAMP:20260423T105911
CREATED:20251113T224915Z
LAST-MODIFIED:20251113T224915Z
UID:10000952-1763370000-1763373600@subcusa.com
SUMMARY:Virtual - Harris Health Coffee & Conversations
DESCRIPTION:Join us for a dynamic conversation on Contract Surety\nBonding—a critical tool for small businesses seeking to grow\nthrough government and commercial contracting. Learn how\nbonding builds trust\, opens doors and protects your business.\nKey Topics to Be Covered:\n• What is a Contract Surety Bond and why it matters\n• Types of bonds: Bid\, Performance and Payment\n• How bonding supports business growth and credibility\n• Common challenges and how to overcome them\n• Steps to become bond-ready\n• Understanding underwriting and financial requirements\n• Resources and support for small and minority-owned\nbusinesses \nREGISTER HERE
URL:https://subcusa.com/event/virtual-harris-health-coffee-conversations/
LOCATION:TX
ATTACH;FMTTYPE=image/jpeg:https://subcusa.com/wp-content/uploads/2025/11/Screenshot-2025-11-13-164730.jpg
END:VEVENT
BEGIN:VEVENT
DTSTART;TZID=UTC:20251118T080000
DTEND;TZID=UTC:20251118T120000
DTSTAMP:20260423T105911
CREATED:20250703T143804Z
LAST-MODIFIED:20250703T143804Z
UID:10000816-1763452800-1763467200@subcusa.com
SUMMARY:Pancakes with Primes
DESCRIPTION:Pancakes with Primes™ is an exclusive MD Anderson event designed exclusively to match Texas HUB Certified construction contractors with large prime contractors and exhibiting subcontractors. Ticket holders will have the opportunity to have 1-on-1 meetings with Estimators and Project Managers.
URL:https://subcusa.com/event/pancakes-with-primes/
LOCATION:Houston Community College – West Houston Institute\, 2811 Hayes Rd.\, Houston\, 77082\, United States
CATEGORIES:events
ATTACH;FMTTYPE=image/jpeg:https://subcusa.com/wp-content/uploads/2025/07/PWP-B2GVictory-3-660.jpg
END:VEVENT
BEGIN:VEVENT
DTSTART;TZID=UTC:20251118T080000
DTEND;TZID=UTC:20251118T120000
DTSTAMP:20260423T105911
CREATED:20250709T160741Z
LAST-MODIFIED:20250709T160741Z
UID:10000820-1763452800-1763467200@subcusa.com
SUMMARY:Houston\, TX - MD Anderson Presents Pancakes with Primes
DESCRIPTION:Pancakes with Primes™ is an exclusive MD Anderson event designed exclusively to match Texas HUB Certified construction contractors with large prime contractors and exhibiting subcontractors. Ticket holders will have the opportunity to have 1-on-1 meetings with Estimators and Project Managers. \nCLICK HERE TO REGISTER \n 
URL:https://subcusa.com/event/houston-tx-md-anderson-presents-pancakes-with-primes/
LOCATION:Houston Community College\, 2811 Hayes Road\, Houston\, TX\, 77082\, United States
ATTACH;FMTTYPE=image/png:https://subcusa.com/wp-content/uploads/2025/07/Screenshot-2025-07-09-110439.png
END:VEVENT
BEGIN:VEVENT
DTSTART;TZID=UTC:20251118T140000
DTEND;TZID=UTC:20251118T170000
DTSTAMP:20260423T105911
CREATED:20251111T000336Z
LAST-MODIFIED:20251111T000336Z
UID:10000947-1763474400-1763485200@subcusa.com
SUMMARY:Sugar Land\, TX - FBISD Small Business Enterprise Program Workshop
DESCRIPTION:The meeting will focus on doing business with the district and all vendors interested in doing business are encouraged to attend. This event will concentrate on the criteria for all vendors interested in doing business with Fort Bend ISD. \nThe Small Business Enterprise Program provides increased business opportunities for locally certified small/minority businesses to participate in contracting and procurement with the District. \nREGISTER
URL:https://subcusa.com/event/sugar-land-tx-fbisd-small-business-enterprise-program-workshop/
LOCATION:James Reese Center & Technical Center\, 12300 University Blvd.\, Sugar Land\, TX\, 77479\, United States
ATTACH;FMTTYPE=image/jpeg:https://subcusa.com/wp-content/uploads/2025/11/Screenshot-2025-11-10-175137.jpg
END:VEVENT
BEGIN:VEVENT
DTSTART;TZID=UTC:20251119T100000
DTEND;TZID=UTC:20251119T113000
DTSTAMP:20260423T105911
CREATED:20251103T171638Z
LAST-MODIFIED:20251103T171913Z
UID:10000944-1763546400-1763551800@subcusa.com
SUMMARY:Virtual - Learn about METRO's "New" Small Purchase Threshold
DESCRIPTION:Click Here to RSVP
URL:https://subcusa.com/event/virtual-learn-about-metros-new-small-purchase-threshold/
LOCATION:TX
ATTACH;FMTTYPE=image/jpeg:https://subcusa.com/wp-content/uploads/2025/11/Screenshot-2025-11-03-111304.jpg
END:VEVENT
BEGIN:VEVENT
DTSTART;TZID=UTC:20251120T080000
DTEND;TZID=UTC:20251120T110000
DTSTAMP:20260423T105911
CREATED:20251113T223730Z
LAST-MODIFIED:20251113T223730Z
UID:10000951-1763625600-1763636400@subcusa.com
SUMMARY:Houston\, TX - GHBPF Access to Capital - Financing Your Business
DESCRIPTION:Hear from Representatives of some\nof our more active Financial\nInstitutions as they discuss Financing\nOptions for your Business combined\nwith current and upcoming business\nopportunities from the public and\nprivate sectors.\nOpening Announcements:\nHCA Healthcare Network and\nJE DUNN Construction Co.\, General\nContractor\nOpening Remarks from Moderator:\nMarlon Mitchell\, Executive Director\,\nHouston Business Development\, Inc. \nREGISTER HERE \n 
URL:https://subcusa.com/event/houston-tx-ghbpf-access-to-capital-financing-your-business/
LOCATION:The United Way of Greater Houston\, 50 Waugh Drive\, Houston\, TX\, 77007\, United States
ATTACH;FMTTYPE=image/jpeg:https://subcusa.com/wp-content/uploads/2025/11/Screenshot-2025-11-13-163240.jpg
END:VEVENT
BEGIN:VEVENT
DTSTART;TZID=UTC:20251121T080000
DTEND;TZID=UTC:20251121T140000
DTSTAMP:20260423T105911
CREATED:20251013T163748Z
LAST-MODIFIED:20251013T163748Z
UID:10000924-1763712000-1763733600@subcusa.com
SUMMARY:Houston\, TX - RHCA Heavy Highway & Transportation Forum
DESCRIPTION:The RHCA Heavy Highway Forum is a major industry event hosted by the Regional Hispanic Contractors Association. It is designed to bring together professionals from across the heavy highway and transportation sectors\, including engineers\, contractors\, architects\, and public agencies\, for a full day of updates\, networking\, and insights into future infrastructure opportunities. Key segments on the agenda include updates from TxDOT District Engineers for the Houston and Beaumont districts\, breakout sessions on PEPS and district-level construction opportunities\, and a briefing on alternative delivery methods and upcoming projects.\n\nThe forum serves as a key entry point for firms looking to build stronger relationships with TxDOT\, toll authorities\, and local city and county agencies\, offering direct access to upcoming opportunities in Texas’s transportation infrastructure sector.\n\nREGISTER HERE
URL:https://subcusa.com/event/houston-tx-rhca-heavy-highway-transportation-forum/
LOCATION:HCC Southeast\, 6815 Rustic St Bldg. D\, Houston\, TX\, 77087\, United States
ATTACH;FMTTYPE=image/png:https://subcusa.com/wp-content/uploads/2025/10/Screenshot-2025-10-13-113418.png
END:VEVENT
BEGIN:VEVENT
DTSTART;TZID=UTC:20251121T100000
DTEND;TZID=UTC:20251121T160000
DTSTAMP:20260423T105911
CREATED:20251111T211112Z
LAST-MODIFIED:20251111T211112Z
UID:10000948-1763719200-1763740800@subcusa.com
SUMMARY:Dallas\, TX - Trade Partner Outreach Event
DESCRIPTION:PROJECT MEADOW\nA 450\,000 SF high-end interior build-out within a commercial office\ntower in Dallas\, TX (floors 3–14). The project will deliver a fully\ncoordinated\, high-quality interior environment that aligns with the client’s\ndesign intent\, performance standards\, and schedule goals.\nCONSTRUCTION START: September 2026\nSUBSTANTIAL COMPLETION: June 2027 \nCLICK TO RSVP
URL:https://subcusa.com/event/dallas-tx-trade-partner-outreach-event/
LOCATION:Structure Tone Southwest\, 3500 Maple Avenue\, Dallas\, TX\, 75219\, United States
ATTACH;FMTTYPE=image/jpeg:https://subcusa.com/wp-content/uploads/2025/11/Screenshot-2025-11-11-150947.jpg
END:VEVENT
BEGIN:VEVENT
DTSTART;TZID=UTC:20251121T113000
DTEND;TZID=UTC:20251121T133000
DTSTAMP:20260423T105911
CREATED:20250929T193507Z
LAST-MODIFIED:20250929T193507Z
UID:10000914-1763724600-1763731800@subcusa.com
SUMMARY:Houston\, TX - Get to Know HBDI Orientation Workshop Series
DESCRIPTION:At HBDi\, we are dedicated to empowering small businesses\, and our success stories speak volumes about the transformative impact of our products and services. Entrepreneurs just like you have harnessed our resources to elevate their businesses and achieve remarkable growth. We invite you to discover the wealth of opportunities that await you by exploring how our tailored resources and personalized coaching can pave your path to success. Think of HBDi as your trusted help desk for all things business—your go-to partner for navigating the complexities of starting and growing your venture in Houston. Don’t miss out on the chance to join a community of thriving business owners; let us guide you toward your own success story! \nReserve Your Seat
URL:https://subcusa.com/event/houston-tx-get-to-know-hbdi-orientation-workshop-series-2/
LOCATION:The Palm Center\, 5330 Griggs Rd.\, Houston\, TX\, 77021\, United States
ATTACH;FMTTYPE=image/jpeg:https://subcusa.com/wp-content/uploads/2025/09/Screenshot-2025-09-29-141916.jpg
END:VEVENT
END:VCALENDAR