BEGIN:VCALENDAR
VERSION:2.0
PRODID:-//Subcontractors USA - ECPv6.15.20//NONSGML v1.0//EN
CALSCALE:GREGORIAN
METHOD:PUBLISH
X-ORIGINAL-URL:https://subcusa.com
X-WR-CALDESC:Events for Subcontractors USA
REFRESH-INTERVAL;VALUE=DURATION:PT1H
X-Robots-Tag:noindex
X-PUBLISHED-TTL:PT1H
BEGIN:VTIMEZONE
TZID:UTC
BEGIN:STANDARD
TZOFFSETFROM:+0000
TZOFFSETTO:+0000
TZNAME:UTC
DTSTART:20250101T000000
END:STANDARD
END:VTIMEZONE
BEGIN:VEVENT
DTSTART;TZID=UTC:20260203T150000
DTEND;TZID=UTC:20260203T170000
DTSTAMP:20260423T070344
CREATED:20260112T162459Z
LAST-MODIFIED:20260112T162459Z
UID:10001000-1770130800-1770138000@subcusa.com
SUMMARY:Houston\, TX - JE Dunn Project Award Announcement Trade Partner Outreach
DESCRIPTION:Log in to prequalify as a trade partner
URL:https://subcusa.com/event/houston-tx-je-dunn-project-award-announcement-trade-partner-outreach/
LOCATION:JE Dunn Houston Office\, 675 Bering Drive\, Houston\, TX\, 77057\, United States
ATTACH;FMTTYPE=image/jpeg:https://subcusa.com/wp-content/uploads/2026/01/Screenshot-2026-01-12-091653.jpg
END:VEVENT
BEGIN:VEVENT
DTSTART;TZID=UTC:20260204T100000
DTEND;TZID=UTC:20260204T120000
DTSTAMP:20260423T070344
CREATED:20260122T195123Z
LAST-MODIFIED:20260122T195123Z
UID:10001010-1770199200-1770206400@subcusa.com
SUMMARY:Houston\, TX - Houston City College Certification & Procurement Opportunities & Workshop
DESCRIPTION:Join us for an empowering workshop designed to help you understand how to get certified\, stay compliant\, and leverage your certification for contracting and procurement opportunities. It’s your time to get certified – and get noticed! \nRegister Here
URL:https://subcusa.com/event/houston-tx-houston-city-college-certification-procurement-opportunities-workshop/
LOCATION:HCC District Office\, Seminar Room B\, 3100 Main Street\, Houston\, TX\, 77002\, United States
ATTACH;FMTTYPE=image/jpeg:https://subcusa.com/wp-content/uploads/2026/01/Screenshot-2026-01-22-134657.jpg
END:VEVENT
BEGIN:VEVENT
DTSTART;TZID=UTC:20260204T140000
DTEND;TZID=UTC:20260204T160000
DTSTAMP:20260423T070344
CREATED:20260128T224450Z
LAST-MODIFIED:20260128T224450Z
UID:10001015-1770213600-1770220800@subcusa.com
SUMMARY:Edinburg\, TX - Clark Construction Trade Contractor Outreach Event
DESCRIPTION:Parking is free and information to bid will be plentiful! Our trade managers will be onsite to answer any specific scope questions and we highly encourage small businesses to participate\, including woman owned\, HUBZone\, small disadvantaged\, veteran and service disabled veteran owned business enterprises. Find out first hand how to get involved in this exciting opportunity! \nREGISTER \n 
URL:https://subcusa.com/event/edinburg-tx-clark-construction-trade-contractor-outreach-event/
LOCATION:University of Texas at Rio Grande Valley\, 1407 E. Freddy Gonzalez Drive\, Edinburg\, TX\, United States
ATTACH;FMTTYPE=image/jpeg:https://subcusa.com/wp-content/uploads/2026/01/Screenshot-2026-01-28-163525.jpg
END:VEVENT
BEGIN:VEVENT
DTSTART;TZID=UTC:20260205T133000
DTEND;TZID=UTC:20260205T143000
DTSTAMP:20260423T070344
CREATED:20260128T222619Z
LAST-MODIFIED:20260128T222619Z
UID:10001014-1770298200-1770301800@subcusa.com
SUMMARY:Irving\, TX - DFW Business Council 2026 Economic Outlook
DESCRIPTION:Attend the 2026 Economic Outlook conference hosted by the DFW Business Council to learn future business outcomes\, as well as networking and learning advice to apply to your business to help succeed through the new year. \nREGISTER
URL:https://subcusa.com/event/irving-tx-dfw-business-council-2026-economic-outlook/
LOCATION:Vistra Conference Center\, 1925 W. John Carpenter Frwy.\, Irving\, TX\, 75039\, United States
ATTACH;FMTTYPE=image/jpeg:https://subcusa.com/wp-content/uploads/2026/01/Screenshot-2026-01-28-162329.jpg
END:VEVENT
BEGIN:VEVENT
DTSTART;TZID=UTC:20260206T090000
DTEND;TZID=UTC:20260206T150000
DTSTAMP:20260423T070344
CREATED:20251204T223719Z
LAST-MODIFIED:20251204T223719Z
UID:10000975-1770368400-1770390000@subcusa.com
SUMMARY:Houston\, TX - HCC Small Business Success Series - Financials for Small Business
DESCRIPTION:Developed by the Glenda & David Regenbaum Center for Entrepreneurship – HCC Northwest\, the HCC Small Business Success Series is a 5-Module program that offers an opportunity for hands-on learning and interaction with faculty\, guest entrepreneurs\, business experts\, and peer delegates. \nThis series is specifically developed for proposed\, startup and existing entrepreneurs who are actively pursuing launch and growth of your specific business concept. \nA Certificate of Completion will be awarded to those students who fully attend all 5 modules to graduate from the series. \nRegister Here
URL:https://subcusa.com/event/houston-tx-hcc-small-business-success-series-financials-for-small-business/
LOCATION:HCC South Campus\, 1990 Airport Blvd.\, Houston\, TX\, 7705\, United States
ATTACH;FMTTYPE=image/jpeg:https://subcusa.com/wp-content/uploads/2025/12/Screenshot-2025-12-04-153800-3.jpg
END:VEVENT
BEGIN:VEVENT
DTSTART;TZID=UTC:20260207T100000
DTEND;TZID=UTC:20260207T120000
DTSTAMP:20260423T070344
CREATED:20260128T220835Z
LAST-MODIFIED:20260128T220835Z
UID:10001012-1770458400-1770465600@subcusa.com
SUMMARY:Dallas\, TX - Asian American Contractors & Professionals Association Homeless Outreach
DESCRIPTION:South Downtown\, Dallas (Location provided on registration) \nSign Up \n 
URL:https://subcusa.com/event/dallas-tx-asian-american-contractors-professionals-association-homeless-outreach/
LOCATION:TX
ATTACH;FMTTYPE=image/jpeg:https://subcusa.com/wp-content/uploads/2026/01/Screenshot-2026-01-28-160600.jpg
END:VEVENT
BEGIN:VEVENT
DTSTART;TZID=UTC:20260210T110000
DTEND;TZID=UTC:20260210T133000
DTSTAMP:20260423T070344
CREATED:20260122T193832Z
LAST-MODIFIED:20260122T193832Z
UID:10001009-1770721200-1770730200@subcusa.com
SUMMARY:Houston\, TX - RHCA Building Blocks of Success
DESCRIPTION:The RHCA Houston office invites you to join the Building Blocks of Success seminars. \nThese seminars are tailored for small business owners and are designed to equip them with essential tools and strategies for growth and success in the market. \nRegister Here
URL:https://subcusa.com/event/houston-tx-rhca-building-blocks-of-success-2/
LOCATION:RHCA Houston HQ & Training Center\, 7047 Harrisburg Blvd.\, Houston\, TX\, 77011\, United States
ATTACH;FMTTYPE=image/jpeg:https://subcusa.com/wp-content/uploads/2026/01/Screenshot-2026-01-22-133400.jpg
END:VEVENT
BEGIN:VEVENT
DTSTART;TZID=UTC:20260211T090000
DTEND;TZID=UTC:20260211T110000
DTSTAMP:20260423T070344
CREATED:20251229T202257Z
LAST-MODIFIED:20251229T202257Z
UID:10000993-1770800400-1770807600@subcusa.com
SUMMARY:Virtual - Joint Ventures: Teaming Agreements & Partnerships
DESCRIPTION:In this workshop you will learn the differences between joint ventures\, teaming agreements\, and partnerships; when and why companies form them; how they function in government contracting projects; resource sharing; building trust; defining clear objectives; and ensuring mutual benefits. \nNOTE: You must be registered in order to attend. \nREGISTER NOW
URL:https://subcusa.com/event/virtual-joint-ventures-teaming-agreements-partnerships/
LOCATION:TX
END:VEVENT
BEGIN:VEVENT
DTSTART;TZID=UTC:20260211T100000
DTEND;TZID=UTC:20260211T111500
DTSTAMP:20260423T070344
CREATED:20260128T222100Z
LAST-MODIFIED:20260128T222100Z
UID:10001013-1770804000-1770808500@subcusa.com
SUMMARY:Plano\, TX - NTTA Second-Wednesday Business Chats
DESCRIPTION:Register for the Second-Wednesday Business Chat hosted by the NTTA to connect with advocacy partners\, contractor associations and certifying agencies. \nRegister \n 
URL:https://subcusa.com/event/plano-tx-ntta-second-wednesday-business-chats-2/
LOCATION:NTTA Boardroom\, 5900 W. Plano Pkwy. Suite 200\, Plano\, TX\, 75093\, United States
ATTACH;FMTTYPE=image/png:https://subcusa.com/wp-content/uploads/2026/01/Screenshot-2026-01-28-162016.png
END:VEVENT
BEGIN:VEVENT
DTSTART;TZID=UTC:20260212T180000
DTEND;TZID=UTC:20260212T193000
DTSTAMP:20260423T070344
CREATED:20260128T220159Z
LAST-MODIFIED:20260128T220159Z
UID:10001011-1770919200-1770924600@subcusa.com
SUMMARY:Dallas\, TX - Asian American Contractors & Professionals Association Lunar New Year Networking & Celebration
DESCRIPTION:Register for our New Year networking event to kick off 2026! Featuring a special Lion Dance performance\, live music\, refreshments\, and door prizes. \nRSVP
URL:https://subcusa.com/event/dallas-tx-asian-american-contractors-professionals-association-lunar-new-year-networking-celebration/
LOCATION:Venture X Dallas\, 7701 Lemmon Avenue\, Dallas\, TX\, United States
ATTACH;FMTTYPE=image/jpeg:https://subcusa.com/wp-content/uploads/2026/01/Screenshot-2026-01-28-154828.jpg
END:VEVENT
BEGIN:VEVENT
DTSTART;TZID=UTC:20260213T090000
DTEND;TZID=UTC:20260213T150000
DTSTAMP:20260423T070344
CREATED:20251204T224100Z
LAST-MODIFIED:20251204T224100Z
UID:10000976-1770973200-1770994800@subcusa.com
SUMMARY:Houston\, TX - HCC Small Business - Managing Risk
DESCRIPTION:Developed by the Glenda & David Regenbaum Center for Entrepreneurship – HCC Northwest\, the HCC Small Business Success Series is a 5-Module program that offers an opportunity for hands-on learning and interaction with faculty\, guest entrepreneurs\, business experts\, and peer delegates. \nThis series is specifically developed for proposed\, startup and existing entrepreneurs who are actively pursuing launch and growth of your specific business concept. \nA Certificate of Completion will be awarded to those students who fully attend all 5 modules to graduate from the series. \nRegister Here
URL:https://subcusa.com/event/houston-tx-hcc-small-business-managing-risk/
LOCATION:HCC South Campus\, 1990 Airport Blvd.\, Houston\, TX\, 7705\, United States
ATTACH;FMTTYPE=image/jpeg:https://subcusa.com/wp-content/uploads/2025/12/Screenshot-2025-12-04-153800-4.jpg
END:VEVENT
BEGIN:VEVENT
DTSTART;TZID=UTC:20260218T090000
DTEND;TZID=UTC:20260218T110000
DTSTAMP:20260423T070344
CREATED:20251229T202441Z
LAST-MODIFIED:20251229T202441Z
UID:10000994-1771405200-1771412400@subcusa.com
SUMMARY:Virtual - METRO's Pricing Your Proposal/Product
DESCRIPTION:In this workshop you will learn what separates winning bids from losing ones. The presenter will unpack the secrets of proposal structure\, pricing strategy and post-bid follow-up. \nNOTE: You must be registered in order to attend \nREGISTER NOW
URL:https://subcusa.com/event/virtual-metros-pricing-your-proposal-product/
LOCATION:TX
END:VEVENT
BEGIN:VEVENT
DTSTART;TZID=UTC:20260218T143000
DTEND;TZID=UTC:20260218T200000
DTSTAMP:20260423T070344
CREATED:20251222T225843Z
LAST-MODIFIED:20251222T225843Z
UID:10000983-1771425000-1771444800@subcusa.com
SUMMARY:Arlington\, TX - DFW Minority Supplier - Register Now! 2026 Hard Hat Construction Expo
DESCRIPTION:REGISTER HERE
URL:https://subcusa.com/event/arlington-tx-dfw-minority-supplier-register-now-2026-hard-hat-construction-expo/
LOCATION:Globe Life Field\, 734 Stadium Drive\, Arlington\, TX\, 76011\, United States
ATTACH;FMTTYPE=image/jpeg:https://subcusa.com/wp-content/uploads/2025/12/Screenshot-2025-12-22-165413.jpg
END:VEVENT
BEGIN:VEVENT
DTSTART;TZID=UTC:20260224T080000
DTEND;TZID=UTC:20260224T110000
DTSTAMP:20260423T070344
CREATED:20260217T172943Z
LAST-MODIFIED:20260217T172943Z
UID:10001016-1771920000-1771930800@subcusa.com
SUMMARY:Houston\, TX - GHBPF - Opportunities Abound in the Houston area in 2026
DESCRIPTION:Join Us! Hear from Representatives of some of our most active Agencies\, Institutions and Prime Contractors as they discuss new Projects and Initiatives while outlining Budgets and related business opportunities. \nNO COST TO ATTEND! NO PRE-REGISTRATION REQUIRED
URL:https://subcusa.com/event/houston-tx-ghbpf-opportunities-abound-in-the-houston-area-in-2026/
LOCATION:Houston City College\, 3100 Main Street\, Houston\, TX\, 77002\, United States
ATTACH;FMTTYPE=image/jpeg:https://subcusa.com/wp-content/uploads/2026/02/Screenshot-2026-02-17-112212.jpg
END:VEVENT
BEGIN:VEVENT
DTSTART;TZID=UTC:20260226T140000
DTEND;TZID=UTC:20260226T150000
DTSTAMP:20260423T070344
CREATED:20260114T192140Z
LAST-MODIFIED:20260114T192140Z
UID:10001005-1772114400-1772118000@subcusa.com
SUMMARY:Virtual - PPG Global - The Community Internship\, Apprenticeship & Workforce Development Program is Seeking Applicants
DESCRIPTION:Overview\n\n\n\n\n\nThis onboarding session is designed for Contractors/Project Team Leadership to gain insights into the community.\n\n\n\n\n\nRegister for this FREE Now!
URL:https://subcusa.com/event/virtual-ppg-global-the-community-internship-apprenticeship-workforce-development-program-is-seeking-applicants/
LOCATION:TX
ATTACH;FMTTYPE=image/jpeg:https://subcusa.com/wp-content/uploads/2026/01/Screenshot-2026-01-14-132033.jpg
END:VEVENT
END:VCALENDAR