BEGIN:VCALENDAR
VERSION:2.0
PRODID:-//Subcontractors USA - ECPv6.15.20//NONSGML v1.0//EN
CALSCALE:GREGORIAN
METHOD:PUBLISH
X-ORIGINAL-URL:https://subcusa.com
X-WR-CALDESC:Events for Subcontractors USA
REFRESH-INTERVAL;VALUE=DURATION:PT1H
X-Robots-Tag:noindex
X-PUBLISHED-TTL:PT1H
BEGIN:VTIMEZONE
TZID:UTC
BEGIN:STANDARD
TZOFFSETFROM:+0000
TZOFFSETTO:+0000
TZNAME:UTC
DTSTART:20250101T000000
END:STANDARD
END:VTIMEZONE
BEGIN:VEVENT
DTSTART;TZID=UTC:20260303T140000
DTEND;TZID=UTC:20260303T160000
DTSTAMP:20260423T054135
CREATED:20260217T195825Z
LAST-MODIFIED:20260217T195825Z
UID:10001018-1772546400-1772553600@subcusa.com
SUMMARY:Houston\, TX - Houston City College - Procurement Month FlavorFest
DESCRIPTION:REGISTER HERE
URL:https://subcusa.com/event/houston-tx-houston-city-college-procurement-month-flavorfest/
LOCATION:Houston City College\, 3100 Main Street\, Houston\, TX\, 77002\, United States
ATTACH;FMTTYPE=image/jpeg:https://subcusa.com/wp-content/uploads/2026/02/Screenshot-2026-02-17-135410.jpg
END:VEVENT
BEGIN:VEVENT
DTSTART;TZID=UTC:20260304T083000
DTEND;TZID=UTC:20260304T113000
DTSTAMP:20260423T054135
CREATED:20260224T185306Z
LAST-MODIFIED:20260224T185306Z
UID:10001020-1772613000-1772623800@subcusa.com
SUMMARY:Houston\, TX - METRO's Office of Economic Business Opportunity - Meet The Buyer
DESCRIPTION:FACE-TO-MEETING \nIf you’re interested in doing business with METRO\, this is a great opportunity to interact directly with METRO’s buyers\, project managers and other key personnel. This event is for all firms: certified and non-certified Primes\, Subcontractors\, and Suppliers. Be sure to bring your business cards and capability statements. \nREGISTER HERE
URL:https://subcusa.com/event/houston-tx-metros-office-of-economic-business-opportunity-meet-the-buyer/
LOCATION:METRO Administration Building\, 1900 Main Street\, Houston\, TX\, United States
ATTACH;FMTTYPE=image/jpeg:https://subcusa.com/wp-content/uploads/2026/02/Screenshot-2026-02-24-124658.jpg
END:VEVENT
BEGIN:VEVENT
DTSTART;TZID=UTC:20260306T084500
DTEND;TZID=UTC:20260306T153000
DTSTAMP:20260423T054135
CREATED:20260217T201002Z
LAST-MODIFIED:20260217T201002Z
UID:10001019-1772786700-1772811000@subcusa.com
SUMMARY:Virtual - 7th Annual Houston Business Matchmaker
DESCRIPTION:General Information \nThis virtual event will provide small business owners (Suppliers) from all industries the opportunity to connect with prime contractors\, large businesses\, and local\, state and federal agencies (Buyers). Suppliers must have operated their business for a minimum of two years to qualify. Mates are NOT guaranteed. \nREGISTRATION $40 \nREGISTER NOW
URL:https://subcusa.com/event/virtual-7th-annual-houston-business-matchmaker/
LOCATION:TX
ATTACH;FMTTYPE=image/jpeg:https://subcusa.com/wp-content/uploads/2026/02/Screenshot-2026-02-17-140857.jpg
END:VEVENT
BEGIN:VEVENT
DTSTART;TZID=UTC:20260310T110000
DTEND;TZID=UTC:20260310T133000
DTSTAMP:20260423T054135
CREATED:20260224T201831Z
LAST-MODIFIED:20260224T201831Z
UID:10001021-1773140400-1773149400@subcusa.com
SUMMARY:Houston\, TX - RHCA Business Blocks of Business Success
DESCRIPTION:  \n  \nRegister Here
URL:https://subcusa.com/event/houston-tx-rhca-business-blocks-of-business-success/
LOCATION:RHCA Headquarters\, 7047 Harrisburg Blvd.\, Houston\, TX\, United States
ATTACH;FMTTYPE=image/png:https://subcusa.com/wp-content/uploads/2026/02/Screenshot-2026-02-24-141454.png
END:VEVENT
BEGIN:VEVENT
DTSTART;TZID=UTC:20260310T170000
DTEND;TZID=UTC:20260310T200000
DTSTAMP:20260423T054135
CREATED:20260305T154853Z
LAST-MODIFIED:20260305T154853Z
UID:10001023-1773162000-1773172800@subcusa.com
SUMMARY:Houston\, TX - NAMC MWH Baker Calling All Subcontractors & Suppliers
DESCRIPTION:CONTACT Darryl Samuels at 713-870-2459 \nMWH/Baker is assembling a team to respond to the City’s Request for Proposals for Construction Manager at Risk (CMAR) services for the EWPP Enhancement Project No. 2. Be a part of our team! Join us and learn more.
URL:https://subcusa.com/event/houston-tx-namc-mwh-baker-calling-all-subcontractors-suppliers/
LOCATION:THE ION\, 4201 Main Street\, Houston\, TX\, United States
ATTACH;FMTTYPE=image/jpeg:https://subcusa.com/wp-content/uploads/2026/03/Screenshot-2026-03-05-093357.jpg
END:VEVENT
BEGIN:VEVENT
DTSTART;TZID=UTC:20260316T090000
DTEND;TZID=UTC:20260316T100000
DTSTAMP:20260423T054135
CREATED:20260303T155340Z
LAST-MODIFIED:20260303T155340Z
UID:10001022-1773651600-1773655200@subcusa.com
SUMMARY:Virtual - Harris Health Contractor Diversity Program
DESCRIPTION:  \nJOIN MEETING
URL:https://subcusa.com/event/virtual-harris-health-contractor-diversity-program/
LOCATION:TX
ATTACH;FMTTYPE=image/png:https://subcusa.com/wp-content/uploads/2026/03/Screenshot-2026-03-03-095225.png
END:VEVENT
BEGIN:VEVENT
DTSTART;TZID=UTC:20260324T080000
DTEND;TZID=UTC:20260324T110000
DTSTAMP:20260423T054135
CREATED:20260310T144239Z
LAST-MODIFIED:20260310T144239Z
UID:10001025-1774339200-1774350000@subcusa.com
SUMMARY:Houston\, TX - The GHBPF presents Doing Business with our State of Texas' Agencies and Institutions
DESCRIPTION:Join Us! \nHear from Representatives of some of our most active State of Texas’ Agencies and Institutions as they discuss new Projects\, Initiatives and related business opportunities.
URL:https://subcusa.com/event/houston-tx-the-ghbpf-presents-doing-business-with-our-state-of-texas-agencies-and-institutions/
LOCATION:Houston City College’s West Loop Campus Auditorium\, 5601 West Loop South\, Houston\, TX\, 77081\, United States
ATTACH;FMTTYPE=image/jpeg:https://subcusa.com/wp-content/uploads/2026/03/Screenshot-2026-03-10-093256.jpg
END:VEVENT
BEGIN:VEVENT
DTSTART;TZID=UTC:20260324T100000
DTEND;TZID=UTC:20260324T113000
DTSTAMP:20260423T054135
CREATED:20260305T232151Z
LAST-MODIFIED:20260305T232151Z
UID:10001024-1774346400-1774351800@subcusa.com
SUMMARY:Plano\, TX - NTTA Cooperative Inclusion Plan (CIP)
DESCRIPTION:This event is designed for Small Businesses interested in learning more about procurement processes\, opportunities\, and resources available with NTTA and TxDOT in the area of Heavy Highway Professional Services in the metroplex. \nREGISTER HERE
URL:https://subcusa.com/event/plano-tx-ntta-cooperative-inclusion-plan-cip/
LOCATION:NTTA Boardroom\, 5900 W. Plano Pkwy. Suite 200\, Plano\, TX\, 75093\, United States
ATTACH;FMTTYPE=image/jpeg:https://subcusa.com/wp-content/uploads/2026/03/Screenshot-2026-03-05-170816.jpg
END:VEVENT
BEGIN:VEVENT
DTSTART;TZID=UTC:20260325T090000
DTEND;TZID=UTC:20260325T120000
DTSTAMP:20260423T054135
CREATED:20260217T192452Z
LAST-MODIFIED:20260217T192452Z
UID:10001017-1774429200-1774440000@subcusa.com
SUMMARY:Houston\, TX - METRO & Port Houston Bankers' Fair
DESCRIPTION:REGISTER
URL:https://subcusa.com/event/houston-tx-metro-port-houston-bankers-fair/
LOCATION:United Way of Greater Houston\, 50 Waugh Drive\, Houston\, TX\, 77007\, United States
ATTACH;FMTTYPE=image/jpeg:https://subcusa.com/wp-content/uploads/2026/02/Screenshot-2026-02-17-132102.jpg
END:VEVENT
BEGIN:VEVENT
DTSTART;TZID=UTC:20260325T090000
DTEND;TZID=UTC:20260325T130000
DTSTAMP:20260423T054135
CREATED:20260310T170943Z
LAST-MODIFIED:20260310T184129Z
UID:10001028-1774429200-1774443600@subcusa.com
SUMMARY:Houston\, TX - SER Jobs Construction & Trades Hiring Event for Employers
DESCRIPTION:Why should you attend?\n🔨\nConnect directly with recent graduates actively seeking employment opportunities\n👷\nMeet candidates who have earned industry-recognized credentials and licenses\n🤝\nNetwork with other businesses\, unions\, and trade organizations\n📋\nExplore opportunities related to grant-funded initiatives in construction and the trades. \nREGISTRATION
URL:https://subcusa.com/event/houston-tx-ser-jobs-construction-trades-hiring-event/
LOCATION:Sunnyside Health and Multi-Service Center\, 4410 Reed Road\, Houston\, TX\, 77051\, United States
ATTACH;FMTTYPE=image/jpeg:https://subcusa.com/wp-content/uploads/2026/03/Screenshot-2026-03-10-115720-2.jpg
END:VEVENT
BEGIN:VEVENT
DTSTART;TZID=UTC:20260325T100000
DTEND;TZID=UTC:20260325T130000
DTSTAMP:20260423T054135
CREATED:20260310T190041Z
LAST-MODIFIED:20260310T190041Z
UID:10001029-1774432800-1774443600@subcusa.com
SUMMARY:Houston\, TX - SER Jobs Construction & Trades Hiring Event for Participants
DESCRIPTION:Why should you attend?\n🔨\nConnect directly with construction employers who are actively hiring\n🤝\nMeet face-to-face with industry professionals and make a strong first impression\n📋\nLearn about open roles\, required skills\, and career pathways in the trades\n💼\nExplore opportunities for entry-level and skilled positions\n⚖\nAccess supportive resources on-site\, like on-site legal assistance\, food\nassistance\, and childcare services\n🌱\nTake the next step toward stable employment and long-term career growth \nREGISTRATION
URL:https://subcusa.com/event/houston-tx-ser-jobs-construction-trades-hiring-event-for-participants/
LOCATION:Sunnyside Health and Multi-Service Center\, 4410 Reed Road\, Houston\, TX\, 77051\, United States
ATTACH;FMTTYPE=image/jpeg:https://subcusa.com/wp-content/uploads/2026/03/Screenshot-2026-03-10-135809-1.jpg
END:VEVENT
BEGIN:VEVENT
DTSTART;TZID=UTC:20260328T100000
DTEND;TZID=UTC:20260328T140000
DTSTAMP:20260423T054135
CREATED:20260326T173657Z
LAST-MODIFIED:20260326T173657Z
UID:10001033-1774692000-1774706400@subcusa.com
SUMMARY:Houston\, TX- HBDI PRESENTS BUSINESS FUNDING SATURDAY
DESCRIPTION:Unlock the secret to securing funding for your business and stop getting rejected. Our expert guidance and support will help you understand investor psychology\, access new capital streams\, and build a winning pitch. With our help\, you can unlock your business potential and achieve financial stability. You will learn what investors care about\, how to craft a compelling story\, and how to deploy capital to grow and dominate the market. Our goal is to empower entrepreneurs and help them secure the funding they deserve. \nREGISTER HERE
URL:https://subcusa.com/event/houston-tx-hbdi-presents-business-funding-saturday/
LOCATION:Houston Business Development\, Inc.\, 5330 Griggs Rd.\, Houston\, TX\, 77021\, United States
ATTACH;FMTTYPE=image/png:https://subcusa.com/wp-content/uploads/2026/03/Screenshot-2026-03-26-122720.png
END:VEVENT
BEGIN:VEVENT
DTSTART;TZID=UTC:20260331T140000
DTEND;TZID=UTC:20260331T150000
DTSTAMP:20260423T054135
CREATED:20260114T192757Z
LAST-MODIFIED:20260114T192757Z
UID:10001006-1774965600-1774969200@subcusa.com
SUMMARY:Virtual - PPG Global - The Community Internship\, Apprenticeship & Workforce Development Program is Seeking Applicants
DESCRIPTION:Overview\n\n\n\n\n\nThis onboarding session is designed for Contractors/Project Team Leadership to gain insights into the community.\n\n\n\n\n  \nRegister for this FREE event now.
URL:https://subcusa.com/event/virtual-ppg-global-the-community-internship-apprenticeship-workforce-development-program-is-seeking-applicants-2/
LOCATION:TX
ATTACH;FMTTYPE=image/jpeg:https://subcusa.com/wp-content/uploads/2026/01/Screenshot-2026-01-14-132636.jpg
END:VEVENT
END:VCALENDAR