BEGIN:VCALENDAR
VERSION:2.0
PRODID:-//Subcontractors USA - ECPv6.15.20//NONSGML v1.0//EN
CALSCALE:GREGORIAN
METHOD:PUBLISH
X-ORIGINAL-URL:https://subcusa.com
X-WR-CALDESC:Events for Subcontractors USA
REFRESH-INTERVAL;VALUE=DURATION:PT1H
X-Robots-Tag:noindex
X-PUBLISHED-TTL:PT1H
BEGIN:VTIMEZONE
TZID:UTC
BEGIN:STANDARD
TZOFFSETFROM:+0000
TZOFFSETTO:+0000
TZNAME:UTC
DTSTART:20250101T000000
END:STANDARD
END:VTIMEZONE
BEGIN:VEVENT
DTSTART;TZID=UTC:20260423T100000
DTEND;TZID=UTC:20260423T113000
DTSTAMP:20260423T042655
CREATED:20260416T203308Z
LAST-MODIFIED:20260416T203308Z
UID:10001046-1776938400-1776943800@subcusa.com
SUMMARY:Virtual- METRO's Online SBE Certification Workshop
DESCRIPTION:Register Here: METRO’s Online SBE Certification Workshop – 4/23/26 \n 
URL:https://subcusa.com/event/virtual-metros-online-sbe-certification-workshop-6/
LOCATION:TX
ATTACH;FMTTYPE=image/png:https://subcusa.com/wp-content/uploads/2026/04/Screenshot-2026-04-16-123539.png
END:VEVENT
BEGIN:VEVENT
DTSTART;TZID=UTC:20260423T100000
DTEND;TZID=UTC:20260423T130000
DTSTAMP:20260423T042655
CREATED:20260406T223600Z
LAST-MODIFIED:20260406T224020Z
UID:10001036-1776938400-1776949200@subcusa.com
SUMMARY:Houston\, TX - 2nd Annual Community Internship & Workforce Development Fair
DESCRIPTION:At PPG Global\, we believe that building a stronger community starts with providing a clear pathway to professional success. We are proud to invite you to the Second Annual Community Internship & Workforce Development Fair. \nJoin us for a collaboration meeting designed to meet the community exactly where they are. Whether you are seeking a career in construction\, IT\, healthcare\, or culinary arts\, this event connects you directly with the firms and agencies ready to hire. \n\nWhen: Thursday\, April 23rd | 10:00 AM – 1:00 PM\n\n\nWhere: Carl Walker Jr. Multi Service Center | 4300 Noble St\, Houston\, TX\n\n\nValue: Apprenticeships\, Direct Hiring\, and Internship Programs.\n\nLunch will be served for registered participants. \n📞 866-463-9525 \n🌐 www.nextlevelharrishealth.org/lbj \nRegister Here: Second Annual Community Internship Workforce Development Fair Tickets\, Thursday\, Apr 23 from 10 am to 1 pm | Eventbrite
URL:https://subcusa.com/event/houston-tx-2nd-annual-community-internship-workforce-development-fair/
LOCATION:Carl Walker Jr. Multi-Purpose Center\, 4300 Noble Street #B\, Houston\, TX\, 77020\, United States
ATTACH;FMTTYPE=image/jpeg:https://subcusa.com/wp-content/uploads/2026/04/Screenshot-2026-04-06-172954.jpg
END:VEVENT
BEGIN:VEVENT
DTSTART;TZID=UTC:20260427T080000
DTEND;TZID=UTC:20260427T150000
DTSTAMP:20260423T042655
CREATED:20260413T193901Z
LAST-MODIFIED:20260413T193901Z
UID:10001042-1777276800-1777302000@subcusa.com
SUMMARY:Houston\,TX - NAMC 6th Annual Golf Classic
DESCRIPTION:Monday\, April 27\, 2026\nRiverbend Country Club \nThis highly anticipated event brings together contractors\, developers\, corporate partners\, and construction industry leaders for a day of golf\, networking\, and relationship building. \nParticipants will enjoy a full day of activities including golf\, breakfast\, lunch\, and an awards networking reception. \nPlayer Registration \nIndividual Player – $250\nIncludes tournament participation\, golfer cooler gift\, breakfast\, lunch\, and networking reception. \nFoursome Team – $1\,000\nIncludes four players\, golfer coolers\, breakfast\, lunch\, and networking opportunities. \nSponsorship Opportunities \nPresenting Sponsor – $15\,000\nTitle Sponsor – $10\,000\nPlatinum Sponsor – $7\,500\nGold Sponsor – $5\,000\nBronze Sponsor – $2\,000 \n⭐ Golfer Cooler Sponsor – $3\,000Exclusive branding opportunity with your company logo prominently displayed on 150 official golfer coolers provided to all participants. \nIncludes:\n• High-visibility brand placement throughout the tournament• Recognition in event materials and announcements• Opportunity to include a promotional item inside each cooler \nThis is a premium\, take-home branding opportunity that keeps your company top-of-mind well beyond the event. \nAdditional sponsorship opportunities include golf carts\, beverage stations\, breakfast\, lunch\, golfer coolers\, contest sponsorships\, and hole signage. \nCompanies may also participate through corporate networking tables\, awards luncheon tickets\, or promotional items placed inside golfer coolers distributed to all players. \nGolfer Cooler Marketing Insert – $50 \nCompanies may place a promotional item or marketing material inside the official golfer coolers distributed to all participants\, providing direct exposure to approximately 150–200 construction industry professionals and decision-makers. \nSponsors must provide 150–200 items by April 22\, 2026. \nTo view full details and register\, please visit: \nhttps://members.namctexas.org/ap/Events/Register/DgFjVgQC1CQCW \nSpots for teams and sponsorships are limited\, so early registration is encouraged. \nWe look forward to seeing you on the course for a great day of golf\, networking\, and supporting the mission of NAMC. \nRegister Here: NAMC 6th Annual Golf Classic – Event Registration
URL:https://subcusa.com/event/houstontx-namc-6th-annual-golf-classic/
LOCATION:Riverbend Country Club\, 1214 Dulles Avenue\, Sugar Land\, TX\, 77478\, United States
ATTACH;FMTTYPE=image/jpeg:https://subcusa.com/wp-content/uploads/2026/04/Screenshot-2026-04-13-143051.jpg
END:VEVENT
BEGIN:VEVENT
DTSTART;TZID=UTC:20260428T080000
DTEND;TZID=UTC:20260428T110000
DTSTAMP:20260423T042655
CREATED:20260422T175622Z
LAST-MODIFIED:20260422T191951Z
UID:10001047-1777363200-1777374000@subcusa.com
SUMMARY:Houston\, TX- Greater Houston Procurement Forum "Doing Business within our Healthcare Industry"
DESCRIPTION:Please Join Us  \nTuesday\, April 28\, 2026 For the Greater Houston Business Procurement Forum (GHBPF) Breakfast Meeting is scheduled from 8:00 am to 11:00 am. Please remember to arrive before 8:00 a.m. for Breakfast and early Networking. We will start promptly at 8:05 a.m. with the Program ending at 9:45 a.m. to resume Networking until 11:00 a.m. \nThe ION Houston is located at 4201 Main Street at Wheeler Ave.\, Houston\, TX 77002. Parking is available at no cost for the first 3 Hours in the Red Lot across the street (Fannin Street side of The ION). \nWe are pleased to Announce our upcoming Forum as we host “Doing Business within our Healthcare Industry”\n\n\n\n\n\n\nThe Forum will feature some of the more active Hospitals and Healthcare Networks in the Houston area focusing on their upcoming Projects\, Initiatives and related business opportunities. \n  \n  \n  \n 
URL:https://subcusa.com/event/houston-tx-greater-houston-procurement-forum-doing-business-within-our-healthcare-industry/
LOCATION:The ION Houston\, 4201 Main Street\, Houston\, TX\, 77002\, United States
ATTACH;FMTTYPE=image/png:https://subcusa.com/wp-content/uploads/2026/04/Screenshot-2026-04-22-123004.png
END:VEVENT
END:VCALENDAR