BEGIN:VCALENDAR
VERSION:2.0
PRODID:-//Subcontractors USA - ECPv6.15.20//NONSGML v1.0//EN
CALSCALE:GREGORIAN
METHOD:PUBLISH
X-WR-CALNAME:Subcontractors USA
X-ORIGINAL-URL:https://subcusa.com
X-WR-CALDESC:Events for Subcontractors USA
REFRESH-INTERVAL;VALUE=DURATION:PT1H
X-Robots-Tag:noindex
X-PUBLISHED-TTL:PT1H
BEGIN:VTIMEZONE
TZID:UTC
BEGIN:STANDARD
TZOFFSETFROM:+0000
TZOFFSETTO:+0000
TZNAME:UTC
DTSTART:20240101T000000
END:STANDARD
END:VTIMEZONE
BEGIN:VEVENT
DTSTART;TZID=UTC:20251028T090000
DTEND;TZID=UTC:20251028T120000
DTSTAMP:20260423T235354
CREATED:20251027T203740Z
LAST-MODIFIED:20251027T203740Z
UID:10000934-1761642000-1761652800@subcusa.com
SUMMARY:Virtual - 2025 Economic Briefing Update
DESCRIPTION:Hear from William Adams\, senior vice president and chief economist at Comerica Bank\, as he gives an insightful economic briefing tailored for today’s business leaders. Adams will share his expert perspective on the current U.S. economy\, regional trends that directly impact businesses in North Texas and beyond\, and key indicators business owners should watch as they plan for growth. Drawing on years of experience as one of the nation’s most accurate economic forecasters\, he will provide clarity on market shifts\, inflation\, interest rates\, and other forces shaping opportunities and challenges for businesses. This timely update will help business owners better understand the economic landscape and position their companies for success.\n\n\nREGISTER HERE
URL:https://subcusa.com/event/virtual-2025-economic-briefing-update/
ATTACH;FMTTYPE=image/jpeg:https://subcusa.com/wp-content/uploads/2025/10/Screenshot-2025-10-27-153514.jpg
END:VEVENT
END:VCALENDAR