BEGIN:VCALENDAR
VERSION:2.0
PRODID:-//Subcontractors USA - ECPv6.15.20//NONSGML v1.0//EN
CALSCALE:GREGORIAN
METHOD:PUBLISH
X-ORIGINAL-URL:https://subcusa.com
X-WR-CALDESC:Events for Subcontractors USA
REFRESH-INTERVAL;VALUE=DURATION:PT1H
X-Robots-Tag:noindex
X-PUBLISHED-TTL:PT1H
BEGIN:VTIMEZONE
TZID:UTC
BEGIN:STANDARD
TZOFFSETFROM:+0000
TZOFFSETTO:+0000
TZNAME:UTC
DTSTART:20240101T000000
END:STANDARD
END:VTIMEZONE
BEGIN:VEVENT
DTSTART;TZID=UTC:20250918T080000
DTEND;TZID=UTC:20250918T170000
DTSTAMP:20260423T212532
CREATED:20250909T190014Z
LAST-MODIFIED:20250909T190014Z
UID:10000872-1758182400-1758214800@subcusa.com
SUMMARY:Dallas\, TX - North Texas Giving Day with DFW MSDC
DESCRIPTION:It’s the Dallas Fort Worth Minority Supplier Development Council’s first year participating in North Texas Giving Day! \nThe Dallas/Fort Worth Minority Supplier Development Council (DFW MSDC) is committed to expanding opportunity\, removing barriers\, and fostering growth for certified Minority Business Enterprises (MBEs). Every dollar you give helps us strengthen supplier diversity\, build capacity\, and create meaningful economic impact across North Texas. Our goal is to raise $150\,000\, ensuring that minority-owned businesses gain access to the resources\, contracts\, and networks they need to thrive. \n  \n 
URL:https://subcusa.com/event/dallas-tx-north-texas-giving-day-with-dfw-msdc/
ATTACH;FMTTYPE=image/jpeg:https://subcusa.com/wp-content/uploads/2025/09/Screenshot-2025-09-09-135535.jpg
END:VEVENT
BEGIN:VEVENT
DTSTART;TZID=UTC:20250924T113000
DTEND;TZID=UTC:20250924T130000
DTSTAMP:20260423T212532
CREATED:20250909T185039Z
LAST-MODIFIED:20250909T185039Z
UID:10000871-1758713400-1758718800@subcusa.com
SUMMARY:Dallas\, TX - Quarterly Supply Chain Professionals Luncheon
DESCRIPTION:Supply Chain as a Competitive Advantage. Leveraging Digitalization\, Automation\, and Artificial Intelligence to Strengthen Resilience and Differentiate Performance. \nREGISTER HERE
URL:https://subcusa.com/event/dallas-tx-quarterly-supply-chain-professionals-luncheon/
LOCATION:Hilton Dallas Lincoln Centre\, 5410 Lyndon B Johnson Fwy\, Dallas\, TX\, 75240\, United States
ATTACH;FMTTYPE=image/jpeg:https://subcusa.com/wp-content/uploads/2025/09/Screenshot-2025-09-09-134336.jpg
END:VEVENT
END:VCALENDAR