BEGIN:VCALENDAR
VERSION:2.0
PRODID:-//Subcontractors USA - ECPv6.15.20//NONSGML v1.0//EN
CALSCALE:GREGORIAN
METHOD:PUBLISH
X-ORIGINAL-URL:https://subcusa.com
X-WR-CALDESC:Events for Subcontractors USA
REFRESH-INTERVAL;VALUE=DURATION:PT1H
X-Robots-Tag:noindex
X-PUBLISHED-TTL:PT1H
BEGIN:VTIMEZONE
TZID:UTC
BEGIN:STANDARD
TZOFFSETFROM:+0000
TZOFFSETTO:+0000
TZNAME:UTC
DTSTART:20240101T000000
END:STANDARD
END:VTIMEZONE
BEGIN:VEVENT
DTSTART;TZID=UTC:20250916T140000
DTEND;TZID=UTC:20250927T150000
DTSTAMP:20260423T214747
CREATED:20250916T171720Z
LAST-MODIFIED:20250916T171720Z
UID:10000881-1758031200-1758985200@subcusa.com
SUMMARY:Virtual Event - HarrisHealth - Kickstart Your Career: Internships & Apprenticeships That Open Doors
DESCRIPTION:The Community Internship\, Apprenticeship & Workforce Development Program is looking for applicants seeking career changes. \nREGISTER TODAY
URL:https://subcusa.com/event/virtual-event-harrishealth-kickstart-your-career-internships-apprenticeships-that-open-doors-3/
ATTACH;FMTTYPE=image/jpeg:https://subcusa.com/wp-content/uploads/2025/09/Screenshot-2025-09-16-111840.jpg
END:VEVENT
END:VCALENDAR