BEGIN:VCALENDAR
VERSION:2.0
PRODID:-//Subcontractors USA - ECPv6.15.20//NONSGML v1.0//EN
CALSCALE:GREGORIAN
METHOD:PUBLISH
X-WR-CALNAME:Subcontractors USA
X-ORIGINAL-URL:https://subcusa.com
X-WR-CALDESC:Events for Subcontractors USA
REFRESH-INTERVAL;VALUE=DURATION:PT1H
X-Robots-Tag:noindex
X-PUBLISHED-TTL:PT1H
BEGIN:VTIMEZONE
TZID:UTC
BEGIN:STANDARD
TZOFFSETFROM:+0000
TZOFFSETTO:+0000
TZNAME:UTC
DTSTART:20240101T000000
END:STANDARD
END:VTIMEZONE
BEGIN:VEVENT
DTSTART;TZID=UTC:20251016T100000
DTEND;TZID=UTC:20251016T120000
DTSTAMP:20260423T201849
CREATED:20251007T163714Z
LAST-MODIFIED:20251007T165039Z
UID:10000919-1760608800-1760616000@subcusa.com
SUMMARY:Houston\, TX - How to Effectively Manage Your Company's Business Transactions
DESCRIPTION:Next Level Training Series XI: How to Effectively Manage Your Company’s Business Transactions \nDesigned for MWBEs\, Entrepreneurs\, Small Businesses and Community Members interested in improving their business and technical skills. \nRegister
URL:https://subcusa.com/event/houston-tx-master-your-business-transactions-join-our-live-workshop/
LOCATION:Kashmere\, 4802 Lockwood Drive\, Houston\, 77026\, United States
ATTACH;FMTTYPE=image/jpeg:https://subcusa.com/wp-content/uploads/2025/10/Screenshot-2025-10-07-113749.jpg
END:VEVENT
END:VCALENDAR