BEGIN:VCALENDAR
VERSION:2.0
PRODID:-//Subcontractors USA - ECPv6.15.20//NONSGML v1.0//EN
CALSCALE:GREGORIAN
METHOD:PUBLISH
X-WR-CALNAME:Subcontractors USA
X-ORIGINAL-URL:https://subcusa.com
X-WR-CALDESC:Events for Subcontractors USA
REFRESH-INTERVAL;VALUE=DURATION:PT1H
X-Robots-Tag:noindex
X-PUBLISHED-TTL:PT1H
BEGIN:VTIMEZONE
TZID:UTC
BEGIN:STANDARD
TZOFFSETFROM:+0000
TZOFFSETTO:+0000
TZNAME:UTC
DTSTART:20240101T000000
END:STANDARD
END:VTIMEZONE
BEGIN:VEVENT
DTSTART;TZID=UTC:20251020T090000
DTEND;TZID=UTC:20251020T100000
DTSTAMP:20260423T201404
CREATED:20251003T150005Z
LAST-MODIFIED:20251003T150005Z
UID:10000916-1760950800-1760954400@subcusa.com
SUMMARY:VIRTUAL - October Coffee & Conversations - Doing Business with Harris Health
DESCRIPTION:Join us for the kickoff of Harris Health’s Coffee &\nConversations series — a virtual event designed to keep\nyou connected and informed.\nOur Contractor Diversity team will share what to expect\,\nhighlight upcoming events and provide ways to stay\nengaged with Harris Health.\nWe’ll also feature key updates from our Compliance\nteam\, including:\n• Setting MWBE goals\n• Compliance expectations\n• Major projects planned for 2026\nDon’t miss this opportunity to gain valuable insights\nand prepare for the year ahead! \nREGISTER HERE \n 
URL:https://subcusa.com/event/virtual-october-coffee-conversations-doing-business-with-harris-health/
ATTACH;FMTTYPE=image/jpeg:https://subcusa.com/wp-content/uploads/2025/10/Screenshot-2025-10-03-092407.jpg
END:VEVENT
END:VCALENDAR