BEGIN:VCALENDAR
VERSION:2.0
PRODID:-//Subcontractors USA - ECPv6.15.20//NONSGML v1.0//EN
CALSCALE:GREGORIAN
METHOD:PUBLISH
X-ORIGINAL-URL:https://subcusa.com
X-WR-CALDESC:Events for Subcontractors USA
REFRESH-INTERVAL;VALUE=DURATION:PT1H
X-Robots-Tag:noindex
X-PUBLISHED-TTL:PT1H
BEGIN:VTIMEZONE
TZID:UTC
BEGIN:STANDARD
TZOFFSETFROM:+0000
TZOFFSETTO:+0000
TZNAME:UTC
DTSTART:20240101T000000
END:STANDARD
END:VTIMEZONE
BEGIN:VEVENT
DTSTART;TZID=UTC:20251204T113000
DTEND;TZID=UTC:20251204T133000
DTSTAMP:20260423T204009
CREATED:20250925T222928Z
LAST-MODIFIED:20250925T222928Z
UID:10000911-1764847800-1764855000@subcusa.com
SUMMARY:Houston\, TX - Houston Business Development\, Inc. - Business Growth Cohort Series
DESCRIPTION:Next Level 12 Accelerator Workshop Series\nMost businesses fail in 3–5 years not from lack of capital\, but mismanagement. In this three-month series HBDI offers expert advisory to help you grow\, scale\, and sustain success. Gain tools\, training programs\, capital access\, and new opportunities. Limited space—register now!\n  \nREGISTER HERE
URL:https://subcusa.com/event/houston-tx-houston-business-development-inc-business-growth-cohort-series-3/
LOCATION:Blessed Hope Fellowship Hall\, 3741 Colvin Street\, Houston\, TX\, 77013\, United States
ATTACH;FMTTYPE=image/jpeg:https://subcusa.com/wp-content/uploads/2025/09/Screenshot-2025-09-25-172020.jpg
END:VEVENT
END:VCALENDAR