BEGIN:VCALENDAR
VERSION:2.0
PRODID:-//Subcontractors USA - ECPv6.15.20//NONSGML v1.0//EN
CALSCALE:GREGORIAN
METHOD:PUBLISH
X-ORIGINAL-URL:https://subcusa.com
X-WR-CALDESC:Events for Subcontractors USA
REFRESH-INTERVAL;VALUE=DURATION:PT1H
X-Robots-Tag:noindex
X-PUBLISHED-TTL:PT1H
BEGIN:VTIMEZONE
TZID:UTC
BEGIN:STANDARD
TZOFFSETFROM:+0000
TZOFFSETTO:+0000
TZNAME:UTC
DTSTART:20240101T000000
END:STANDARD
END:VTIMEZONE
BEGIN:VEVENT
DTSTART;TZID=UTC:20250917T100000
DTEND;TZID=UTC:20250917T113000
DTSTAMP:20260423T213912
CREATED:20250912T154717Z
LAST-MODIFIED:20250912T154717Z
UID:10000873-1758103200-1758108600@subcusa.com
SUMMARY:Virtual - METRO's Online SBE Certification Workshop
DESCRIPTION:Learn the Following: \nThe Importance of Certification! \nMETRO’s Certification Requirements \nHow To Apply for METRO’s Certification \nAgencies that Accepts METRO’s Certifications \nHow To Access METRO’s Certification Portal \nCLICK HERE TO RSVP
URL:https://subcusa.com/event/virtual-metros-online-sbe-certification-workshop/
ATTACH;FMTTYPE=image/png:https://subcusa.com/wp-content/uploads/2025/09/Screenshot-2025-09-12-103932.png
END:VEVENT
END:VCALENDAR