BEGIN:VCALENDAR
VERSION:2.0
PRODID:-//Subcontractors USA - ECPv6.15.20//NONSGML v1.0//EN
CALSCALE:GREGORIAN
METHOD:PUBLISH
X-WR-CALNAME:Subcontractors USA
X-ORIGINAL-URL:https://subcusa.com
X-WR-CALDESC:Events for Subcontractors USA
REFRESH-INTERVAL;VALUE=DURATION:PT1H
X-Robots-Tag:noindex
X-PUBLISHED-TTL:PT1H
BEGIN:VTIMEZONE
TZID:UTC
BEGIN:STANDARD
TZOFFSETFROM:+0000
TZOFFSETTO:+0000
TZNAME:UTC
DTSTART:20240101T000000
END:STANDARD
END:VTIMEZONE
BEGIN:VEVENT
DTSTART;TZID=UTC:20250917T180000
DTEND;TZID=UTC:20250917T210000
DTSTAMP:20260423T184618
CREATED:20250917T180248Z
LAST-MODIFIED:20250917T194045Z
UID:10000886-1758132000-1758142800@subcusa.com
SUMMARY:Houston\, TX - NAMC Women in Construction (Cowgirls and Cocktails)
DESCRIPTION:NAMC Women in Construction presents:✨ Cowgirls & Cocktails – End of Summer Social ✨ \nGrab your boots\, your bling\, and join us for an unforgettable evening of Texas-style networking\, cocktails\, and connections as we celebrate and support the incredible women shaping our construction industry! \nWhat to Expect:🤠 Fun Vibes & Great Company🍴 Light Bites & Signature Cocktails🎶 Music & Mingling🎁 Exclusive VIP Experience – Take home a custom Texas-style hat with your VIP ticket! \n  \nGRAB YOUR TICKETS NOW \n 
URL:https://subcusa.com/event/houston-tx-namc-women-in-construction-cowgirls-and-cocktails/
LOCATION:El Pari\, 4712 Airline Drive\, Houston\, TX\, 77022\, United States
ATTACH;FMTTYPE=image/jpeg:https://subcusa.com/wp-content/uploads/2025/09/Screenshot-2025-09-17-144013.jpg
END:VEVENT
BEGIN:VEVENT
DTSTART;TZID=UTC:20250924T173000
DTEND;TZID=UTC:20250924T203000
DTSTAMP:20260423T184618
CREATED:20250917T180937Z
LAST-MODIFIED:20250917T180937Z
UID:10000887-1758735000-1758745800@subcusa.com
SUMMARY:Houston\, TX - NAMC VIP Mixer
DESCRIPTION:Provoke Luck with NAMC Houston! 🌟 \nJoin us for an evening designed to Provoke Luck — where preparation meets opportunity. This is your chance to connect with industry leaders\, exchange ideas\, and build meaningful relationships within the construction community. \nWhether you are a member\, prospective member\, or guest\, this event provides the perfect platform to share insights\, explore collaborations\, and expand your network. \nREGISTER
URL:https://subcusa.com/event/houston-tx-namc-vip-mixer/
LOCATION:Cadillac Bar\, 1802 Shepherd Drive\, Houston\, TX\, 77007\, United States
ATTACH;FMTTYPE=image/jpeg:https://subcusa.com/wp-content/uploads/2025/09/Screenshot-2025-09-17-130459.jpg
END:VEVENT
END:VCALENDAR