BEGIN:VCALENDAR
VERSION:2.0
PRODID:-//Subcontractors USA - ECPv6.15.20//NONSGML v1.0//EN
CALSCALE:GREGORIAN
METHOD:PUBLISH
X-ORIGINAL-URL:https://subcusa.com
X-WR-CALDESC:Events for Subcontractors USA
REFRESH-INTERVAL;VALUE=DURATION:PT1H
X-Robots-Tag:noindex
X-PUBLISHED-TTL:PT1H
BEGIN:VTIMEZONE
TZID:UTC
BEGIN:STANDARD
TZOFFSETFROM:+0000
TZOFFSETTO:+0000
TZNAME:UTC
DTSTART:20250101T000000
END:STANDARD
END:VTIMEZONE
BEGIN:VEVENT
DTSTART;TZID=UTC:20260116T080000
DTEND;TZID=UTC:20260116T170000
DTSTAMP:20260423T140730
CREATED:20260114T195103Z
LAST-MODIFIED:20260114T195103Z
UID:10001007-1768550400-1768582800@subcusa.com
SUMMARY:Houston\, TX - Women In Construction (WIC) Week - 2026 Shoot for NAWIC
DESCRIPTION:REGISTER
URL:https://subcusa.com/event/houston-tx-women-in-construction-wic-week-2026-shoot-for-nawic/
LOCATION:Greater Houston Sports Club\, 6700 McHard Rd.\, Houston\, TX\, 77053\, United States
ATTACH;FMTTYPE=image/jpeg:https://subcusa.com/wp-content/uploads/2026/01/Screenshot-2026-01-14-134922.jpg
END:VEVENT
END:VCALENDAR