BEGIN:VCALENDAR
VERSION:2.0
PRODID:-//Subcontractors USA - ECPv6.15.20//NONSGML v1.0//EN
CALSCALE:GREGORIAN
METHOD:PUBLISH
X-WR-CALNAME:Subcontractors USA
X-ORIGINAL-URL:https://subcusa.com
X-WR-CALDESC:Events for Subcontractors USA
REFRESH-INTERVAL;VALUE=DURATION:PT1H
X-Robots-Tag:noindex
X-PUBLISHED-TTL:PT1H
BEGIN:VTIMEZONE
TZID:UTC
BEGIN:STANDARD
TZOFFSETFROM:+0000
TZOFFSETTO:+0000
TZNAME:UTC
DTSTART:20250101T000000
END:STANDARD
END:VTIMEZONE
BEGIN:VEVENT
DTSTART;TZID=UTC:20260122T160000
DTEND;TZID=UTC:20260122T170000
DTSTAMP:20260423T172017
CREATED:20260114T190106Z
LAST-MODIFIED:20260114T190106Z
UID:10001003-1769097600-1769101200@subcusa.com
SUMMARY:San Antonio\, TX - Layton Construction Trade Partner Outreach Event
DESCRIPTION:University Hospital Medical Office Space Build-Out \nRSVP \nClick here to prequalify
URL:https://subcusa.com/event/san-antonio-tx-layton-construction-trade-partner-outreach-event/
LOCATION:Medical Office Space Build Out at Two University Health Community Hospitals\, 11102 S. Zarzamora Street\, San Antonio\, TX\, 78224\, United States
ATTACH;FMTTYPE=image/jpeg:https://subcusa.com/wp-content/uploads/2026/01/Screenshot-2026-01-14-125222.jpg
END:VEVENT
END:VCALENDAR