BEGIN:VCALENDAR
VERSION:2.0
PRODID:-//Subcontractors USA - ECPv6.15.20//NONSGML v1.0//EN
CALSCALE:GREGORIAN
METHOD:PUBLISH
X-WR-CALNAME:Subcontractors USA
X-ORIGINAL-URL:https://subcusa.com
X-WR-CALDESC:Events for Subcontractors USA
REFRESH-INTERVAL;VALUE=DURATION:PT1H
X-Robots-Tag:noindex
X-PUBLISHED-TTL:PT1H
BEGIN:VTIMEZONE
TZID:UTC
BEGIN:STANDARD
TZOFFSETFROM:+0000
TZOFFSETTO:+0000
TZNAME:UTC
DTSTART:20240101T000000
END:STANDARD
END:VTIMEZONE
BEGIN:VEVENT
DTSTART;TZID=UTC:20250818T180000
DTEND;TZID=UTC:20250818T200000
DTSTAMP:20260423T200740
CREATED:20250814T175934Z
LAST-MODIFIED:20250814T175934Z
UID:10000856-1755540000-1755547200@subcusa.com
SUMMARY:Houston\, TX - City of Houston Office of OBO - Disparity Study Community Engagement Session
DESCRIPTION:Join us for a Community Engagement Session hosted\nby the Office of Business Opportunity with District H\nCouncil Member Mario Castillo.\nShare your insights on upcoming changes from the 2023\nDisparity Study and learn how they will enhance opportunities\nfor underrepresented groups. Your participation is vital for\ncreating a more equitable business environment! \nREGISTER HERE \n 
URL:https://subcusa.com/event/houston-tx-city-of-houston-office-of-obo-disparity-study-community-engagement-session/
LOCATION:Alamo Tamales La Maison\, 809 Berry Road\, Houston\, TX\, 77022\, United States
ATTACH;FMTTYPE=image/png:https://subcusa.com/wp-content/uploads/2025/08/Screenshot-2025-08-14-125423.png
END:VEVENT
END:VCALENDAR