BEGIN:VCALENDAR
VERSION:2.0
PRODID:-//Subcontractors USA - ECPv6.15.20//NONSGML v1.0//EN
CALSCALE:GREGORIAN
METHOD:PUBLISH
X-WR-CALNAME:Subcontractors USA
X-ORIGINAL-URL:https://subcusa.com
X-WR-CALDESC:Events for Subcontractors USA
REFRESH-INTERVAL;VALUE=DURATION:PT1H
X-Robots-Tag:noindex
X-PUBLISHED-TTL:PT1H
BEGIN:VTIMEZONE
TZID:UTC
BEGIN:STANDARD
TZOFFSETFROM:+0000
TZOFFSETTO:+0000
TZNAME:UTC
DTSTART:20240101T000000
END:STANDARD
END:VTIMEZONE
BEGIN:VEVENT
DTSTART;TZID=UTC:20251022T180000
DTEND;TZID=UTC:20251022T200000
DTSTAMP:20260423T123124
CREATED:20251016T155440Z
LAST-MODIFIED:20251016T155440Z
UID:10000926-1761156000-1761163200@subcusa.com
SUMMARY:Houston\, TX - Build Your First AI Employee (No Tech Experience Needed!)
DESCRIPTION:Hire Your First AI Employee: Learn how to design\, train\, and put an AI employee to work—no tech background required \nReady to see how AI can work for you instead of against you? Join us for an exciting\, hands-on workshop where you’ll learn how to design\, train\, and deploy your very own AI Employee—no technical expertise needed. \nIn this free event\, part of our monthly tech series\, you’ll discover: \n\nHow to properly prompt AI so you can get consistent\, reliable results instead of random responses.\nAI and Cybersecurity insights every business owner should know to protect themselves in today’s digital world.\nStep-by-step guidance to build your AI Employee\, designed to handle real tasks and free up your time.\n\nThis isn’t a lecture—it’s an interactive workshop where you’ll follow along and create your AI Employee in real time. \nWhat you’ll need to participate: \n\nAn active ChatGPT Plus subscription\nA laptop for the hands-on portion\n\nWhether you’re a business owner\, entrepreneur\, or simply curious about how AI can transform the way you work\, this workshop will give you practical skills you can put to use right away. \nREGISTER  NOW
URL:https://subcusa.com/event/houston-tx-build-your-first-ai-employee-no-tech-experience-needed/
LOCATION:Crystal Coworks\, 363 N Sam Houston Parkway E\, Houston\, TX\, United States
ATTACH;FMTTYPE=image/jpeg:https://subcusa.com/wp-content/uploads/2025/10/Screenshot-2025-10-16-104046.jpg
END:VEVENT
END:VCALENDAR