BEGIN:VCALENDAR
VERSION:2.0
PRODID:-//Subcontractors USA - ECPv6.15.20//NONSGML v1.0//EN
CALSCALE:GREGORIAN
METHOD:PUBLISH
X-ORIGINAL-URL:https://subcusa.com
X-WR-CALDESC:Events for Subcontractors USA
REFRESH-INTERVAL;VALUE=DURATION:PT1H
X-Robots-Tag:noindex
X-PUBLISHED-TTL:PT1H
BEGIN:VTIMEZONE
TZID:UTC
BEGIN:STANDARD
TZOFFSETFROM:+0000
TZOFFSETTO:+0000
TZNAME:UTC
DTSTART:20240101T000000
END:STANDARD
END:VTIMEZONE
BEGIN:VEVENT
DTSTART;TZID=UTC:20251007T100000
DTEND;TZID=UTC:20251007T140000
DTSTAMP:20260423T122628
CREATED:20250925T210442Z
LAST-MODIFIED:20250925T210442Z
UID:10000905-1759831200-1759845600@subcusa.com
SUMMARY:Houston\, TX - City of Houston OBO - Turning a New Chapter in Policy and Procedures
DESCRIPTION:We are excited to invite you to the “Turning a New Chapter in Policy and Procedures” event\, a pivotal gathering designed to align with OBO’s mission of empowering small businesses through relevant knowledge and networking opportunities. \nIt promises to be an enriching day filled with insightful discussions led by industry leaders\, offering valuable insights into the latest trends and best practices in policy and procedures. \nWhether you are a seasoned professional or new to the field\, this event is crafted to be inclusive\, providing a platform for all attendees to connect with like-minded individuals and expand their professional network. We encourage you to mark your calendars and actively participate in this opportunity for growth and community engagement. Don’t forget to register at the link below to secure your spot!\n\n\n\n\n\n\n\n\nREGISTER HERE
URL:https://subcusa.com/event/houston-tx-city-of-houston-obo-turning-a-new-chapter-in-policy-and-procedures/
LOCATION:E.B. Cape Learning Center\, 4501 Leeland\, Houston\, TX\, 77023\, United States
ATTACH;FMTTYPE=image/jpeg:https://subcusa.com/wp-content/uploads/2025/09/Screenshot-2025-09-25-155859.jpg
END:VEVENT
END:VCALENDAR