BEGIN:VCALENDAR
VERSION:2.0
PRODID:-//Subcontractors USA - ECPv6.15.20//NONSGML v1.0//EN
CALSCALE:GREGORIAN
METHOD:PUBLISH
X-WR-CALNAME:Subcontractors USA
X-ORIGINAL-URL:https://subcusa.com
X-WR-CALDESC:Events for Subcontractors USA
REFRESH-INTERVAL;VALUE=DURATION:PT1H
X-Robots-Tag:noindex
X-PUBLISHED-TTL:PT1H
BEGIN:VTIMEZONE
TZID:UTC
BEGIN:STANDARD
TZOFFSETFROM:+0000
TZOFFSETTO:+0000
TZNAME:UTC
DTSTART:20240101T000000
END:STANDARD
END:VTIMEZONE
BEGIN:VEVENT
DTSTART;TZID=UTC:20251210T070000
DTEND;TZID=UTC:20251210T150000
DTSTAMP:20260423T095103
CREATED:20251120T221208Z
LAST-MODIFIED:20251120T221208Z
UID:10000953-1765350000-1765378800@subcusa.com
SUMMARY:San Antonio\, TX - Join us at the 2025 Bexar County Business Conference
DESCRIPTION:2025 BEXAR COUNTY BUSINESS CONFERENCE \n\n\n\n\nThe primary focus of this conference is how to effectively use technology while conducting business with public and private sector organizations\, featuring workshops\, vendor education\, and access to the CPS Energy Veterans Business & Resource Center. Over the past 24 years\, exhibitors have provided tremendous opportunities for vendors and buyers to connect. \n\n\n\n\n\n\n\n\nWHO SHOULD ATTEND\n\nBusiness owners ready and equipped to work with the public and private sectors.\nBusiness owners seeking help to build capacity for public and private sector work.\nEntrepreneurs in need of technical or financial assistance to grow or sustain their business.\nAspiring business owners\, including those currently employed\, looking to prepare\, connect\, and explore future opportunities.\nBuyers seeking to expand their supplier bases.\nPrime vendors looking for subcontractors/ subconsultants/ sub-suppliers.\nPublic Agencies & Organizations.\n\n\n\n\n\nREGISTER NOW
URL:https://subcusa.com/event/san-antonio-tx-join-us-at-the-2025-bexar-county-business-conference/
LOCATION:Freeman Expo Hall\, 3201 E. Houston Street\, San Antonio\, TX\, 78219\, United States
ATTACH;FMTTYPE=image/jpeg:https://subcusa.com/wp-content/uploads/2025/11/Screenshot-2025-11-20-161002.jpg
END:VEVENT
BEGIN:VEVENT
DTSTART;TZID=UTC:20250929T080000
DTEND;TZID=UTC:20250929T170000
DTSTAMP:20260423T095103
CREATED:20250925T203228Z
LAST-MODIFIED:20250925T203228Z
UID:10000904-1759132800-1759165200@subcusa.com
SUMMARY:San Antonio\, TX - 2025 Bexar County Business Conference: Registration NOW OPEN!
DESCRIPTION:The Bexar County Business Conference is a forum to develop relationships\, acquire knowledge\, and access opportunities that exist with public and private sector entities for the procurement of goods and services. A forum to further enhance the knowledge of procurement staff of the availability and ability of local firms with the desire to do business.  \nThis event is free to the public thanks to the tremendous contribution of Bexar County and our sponsors. \nWE CONTINUE TO STRIVE TO PROVIDE THIS FORUM TO CONNECT OUR ENTREPRENEURS. \nCLICK HERE TO REGISTER TODAY!
URL:https://subcusa.com/event/san-antonio-tx-2025-bexar-county-business-conference-registration-now-open/
LOCATION:Freeman Expo Hall\, 3201 E. Houston Street\, San Antonio\, TX\, 78219\, United States
ATTACH;FMTTYPE=image/jpeg:https://subcusa.com/wp-content/uploads/2025/09/Screenshot-2025-09-25-152238.jpg
END:VEVENT
END:VCALENDAR