BEGIN:VCALENDAR
VERSION:2.0
PRODID:-//Subcontractors USA - ECPv6.15.20//NONSGML v1.0//EN
CALSCALE:GREGORIAN
METHOD:PUBLISH
X-WR-CALNAME:Subcontractors USA
X-ORIGINAL-URL:https://subcusa.com
X-WR-CALDESC:Events for Subcontractors USA
REFRESH-INTERVAL;VALUE=DURATION:PT1H
X-Robots-Tag:noindex
X-PUBLISHED-TTL:PT1H
BEGIN:VTIMEZONE
TZID:UTC
BEGIN:STANDARD
TZOFFSETFROM:+0000
TZOFFSETTO:+0000
TZNAME:UTC
DTSTART:20240101T000000
END:STANDARD
END:VTIMEZONE
BEGIN:VEVENT
DTSTART;TZID=UTC:20251211T090000
DTEND;TZID=UTC:20251211T140000
DTSTAMP:20260423T140546
CREATED:20251107T163314Z
LAST-MODIFIED:20251107T163314Z
UID:10000946-1765443600-1765461600@subcusa.com
SUMMARY:Houston\, TX - Calling All Prime Contractors: Exhibit at Meet the Buyer 2025!
DESCRIPTION:Join the City of Houston Office of Business Opportunity for the 2025 Meet the Buyer Procurement Forum & Business Expo on Thursday\, December 11\, 2025\, at the George R. Brown Convention Center. This annual event connects small and certified firms with procurement agents\, prime contractors\, and resource partners to explore contracting and networking opportunities. \nREGISTER HERE
URL:https://subcusa.com/event/houston-tx-calling-all-prime-contractors-exhibit-at-meet-the-buyer-2025/
LOCATION:George R. Brown\, 1001 Avenida De Las Americas\, Houston\, TX\, 77010\, United States
ATTACH;FMTTYPE=image/jpeg:https://subcusa.com/wp-content/uploads/2025/11/Screenshot-2025-11-07-102930.jpg
END:VEVENT
END:VCALENDAR