BEGIN:VCALENDAR
VERSION:2.0
PRODID:-//Subcontractors USA - ECPv6.15.20//NONSGML v1.0//EN
CALSCALE:GREGORIAN
METHOD:PUBLISH
X-WR-CALNAME:Subcontractors USA
X-ORIGINAL-URL:https://subcusa.com
X-WR-CALDESC:Events for Subcontractors USA
REFRESH-INTERVAL;VALUE=DURATION:PT1H
X-Robots-Tag:noindex
X-PUBLISHED-TTL:PT1H
BEGIN:VTIMEZONE
TZID:UTC
BEGIN:STANDARD
TZOFFSETFROM:+0000
TZOFFSETTO:+0000
TZNAME:UTC
DTSTART:20240101T000000
END:STANDARD
END:VTIMEZONE
BEGIN:VEVENT
DTSTART;TZID=UTC:20251008T113000
DTEND;TZID=UTC:20251008T130000
DTSTAMP:20260423T095116
CREATED:20251007T162401Z
LAST-MODIFIED:20251007T162401Z
UID:10000918-1759923000-1759928400@subcusa.com
SUMMARY:Houston\, TX - NAMC Lunch & Learn
DESCRIPTION:Turning a New Chapter in Policy and Procedures: Chapter 15 Ordinance Update \n Don’t miss this opportunity to gain insights directly from the City of Houston OBO team and strengthen your business readiness. \n🎤 Featured Speakers: \n– Jamie Childress – Senior Procurement Specialist \n– Tifney Scott – Procurement Specialist \n🎯 Why Attend? \n• Stay informed on the latest policy and procedure updates \n• Learn how changes impact procurement and contracting opportunities \n• Network with industry peers\, City representatives\, and NAMC members \nREGISTER
URL:https://subcusa.com/event/houston-tx-namc-lunch-learn/
LOCATION:HCC Southeast Center\, 6815 Rustic Street\, Houston\, TX\, United States
END:VEVENT
END:VCALENDAR