BEGIN:VCALENDAR
VERSION:2.0
PRODID:-//Subcontractors USA - ECPv6.15.20//NONSGML v1.0//EN
CALSCALE:GREGORIAN
METHOD:PUBLISH
X-ORIGINAL-URL:https://subcusa.com
X-WR-CALDESC:Events for Subcontractors USA
REFRESH-INTERVAL;VALUE=DURATION:PT1H
X-Robots-Tag:noindex
X-PUBLISHED-TTL:PT1H
BEGIN:VTIMEZONE
TZID:UTC
BEGIN:STANDARD
TZOFFSETFROM:+0000
TZOFFSETTO:+0000
TZNAME:UTC
DTSTART:20240101T000000
END:STANDARD
END:VTIMEZONE
BEGIN:VEVENT
DTSTART;TZID=UTC:20251118T140000
DTEND;TZID=UTC:20251118T170000
DTSTAMP:20260423T153438
CREATED:20251111T000336Z
LAST-MODIFIED:20251111T000336Z
UID:10000947-1763474400-1763485200@subcusa.com
SUMMARY:Sugar Land\, TX - FBISD Small Business Enterprise Program Workshop
DESCRIPTION:The meeting will focus on doing business with the district and all vendors interested in doing business are encouraged to attend. This event will concentrate on the criteria for all vendors interested in doing business with Fort Bend ISD. \nThe Small Business Enterprise Program provides increased business opportunities for locally certified small/minority businesses to participate in contracting and procurement with the District. \nREGISTER
URL:https://subcusa.com/event/sugar-land-tx-fbisd-small-business-enterprise-program-workshop/
LOCATION:James Reese Center & Technical Center\, 12300 University Blvd.\, Sugar Land\, TX\, 77479\, United States
ATTACH;FMTTYPE=image/jpeg:https://subcusa.com/wp-content/uploads/2025/11/Screenshot-2025-11-10-175137.jpg
END:VEVENT
END:VCALENDAR