BEGIN:VCALENDAR
VERSION:2.0
PRODID:-//Subcontractors USA - ECPv6.15.20//NONSGML v1.0//EN
CALSCALE:GREGORIAN
METHOD:PUBLISH
X-WR-CALNAME:Subcontractors USA
X-ORIGINAL-URL:https://subcusa.com
X-WR-CALDESC:Events for Subcontractors USA
REFRESH-INTERVAL;VALUE=DURATION:PT1H
X-Robots-Tag:noindex
X-PUBLISHED-TTL:PT1H
BEGIN:VTIMEZONE
TZID:UTC
BEGIN:STANDARD
TZOFFSETFROM:+0000
TZOFFSETTO:+0000
TZNAME:UTC
DTSTART:20240101T000000
END:STANDARD
END:VTIMEZONE
BEGIN:VEVENT
DTSTART;TZID=UTC:20250919T130000
DTEND;TZID=UTC:20250919T150000
DTSTAMP:20260423T142314
CREATED:20250915T192127Z
LAST-MODIFIED:20250916T184358Z
UID:10000875-1758286800-1758294000@subcusa.com
SUMMARY:BEAUMONT\, TX – TRANSIT CONTRACTING FORUM
DESCRIPTION:Who’s Participating \n\nCity of Beaumont – Beaumont Transit\nCity of Port Arthur – Port Arthur Transit\nSouth East Texas Regional Planning Commission (SETRPC)\nOther agencies invited\n\nWho should attend \n\nCertified DBEs and small businesses ready to prime or subcontract\nFirms exploring DBE certification (TUCP) and vendor registration\nPrime contractors seeking qualified DBE partners and suppliers\n\nREGISTER HERE
URL:https://subcusa.com/event/beaumont-tx-transit-contracting-forum/
LOCATION:Lakeside Center Meeting Room\, 150 Magnolia Street\, Beaumont\, 77701\, United States
ATTACH;FMTTYPE=image/jpeg:https://subcusa.com/wp-content/uploads/2025/09/Screenshot-2025-09-16-133830.jpg
END:VEVENT
END:VCALENDAR