BEGIN:VCALENDAR
VERSION:2.0
PRODID:-//Subcontractors USA - ECPv6.15.20//NONSGML v1.0//EN
CALSCALE:GREGORIAN
METHOD:PUBLISH
X-ORIGINAL-URL:https://subcusa.com
X-WR-CALDESC:Events for Subcontractors USA
REFRESH-INTERVAL;VALUE=DURATION:PT1H
X-Robots-Tag:noindex
X-PUBLISHED-TTL:PT1H
BEGIN:VTIMEZONE
TZID:UTC
BEGIN:STANDARD
TZOFFSETFROM:+0000
TZOFFSETTO:+0000
TZNAME:UTC
DTSTART:20240101T000000
END:STANDARD
END:VTIMEZONE
BEGIN:VEVENT
DTSTART;TZID=UTC:20250924T100000
DTEND;TZID=UTC:20250924T113000
DTSTAMP:20260423T122740
CREATED:20250919T155148Z
LAST-MODIFIED:20250919T155148Z
UID:10000890-1758708000-1758713400@subcusa.com
SUMMARY:Dallas\, TX - McCarthy Vaughn Pathway to Partnership Outreach Event
DESCRIPTION:Join McCarthy Vaughn Partnership (MVP) for our Pathway to Partnership Outreach event for the New Pediatric Campus which will focus on Work Package #14. Attendees will get a chance to meet the project team and learn about opportunities on the project. Please fill out this registration form to hold your spot. \nRegister
URL:https://subcusa.com/event/dallas-tx-mccarthy-vaughn-pathway-to-partnership-outreach-event/
LOCATION:Pegasus Park\, 3000 Pegasus Park Drive\, Dallas\, TX\, 75247\, United States
ATTACH;FMTTYPE=image/jpeg:https://subcusa.com/wp-content/uploads/2025/09/Screenshot-2025-09-19-104634.jpg
END:VEVENT
END:VCALENDAR