BEGIN:VCALENDAR
VERSION:2.0
PRODID:-//Subcontractors USA - ECPv6.15.20//NONSGML v1.0//EN
CALSCALE:GREGORIAN
METHOD:PUBLISH
X-ORIGINAL-URL:https://subcusa.com
X-WR-CALDESC:Events for Subcontractors USA
REFRESH-INTERVAL;VALUE=DURATION:PT1H
X-Robots-Tag:noindex
X-PUBLISHED-TTL:PT1H
BEGIN:VTIMEZONE
TZID:UTC
BEGIN:STANDARD
TZOFFSETFROM:+0000
TZOFFSETTO:+0000
TZNAME:UTC
DTSTART:20240101T000000
END:STANDARD
END:VTIMEZONE
BEGIN:VEVENT
DTSTART;TZID=UTC:20251215T100000
DTEND;TZID=UTC:20251215T140000
DTSTAMP:20260423T140729
CREATED:20251124T185305Z
LAST-MODIFIED:20251124T185305Z
UID:10000956-1765792800-1765807200@subcusa.com
SUMMARY:Missouri City\, TX - Career Fair & Education Expo - Employers & Job Seekers Welcome
DESCRIPTION:Are you hiring or recruiting for training programs in 2025—or do you know someone looking for a new opportunity? Join us for the Missouri City Chamber Career Fair & Continuing Education Expo and help connect our community to real jobs\, training\, and next steps. \n\n\n\n\nFor Employers & Education Vendors \n\n\n\n\nWe’re inviting: \n·         Businesses currently hiring (full-time\, part-time\, seasonal\, internships) \n·         Colleges\, trade schools\, and training providers with certification or degree programs \n·         Community organizations that support employment\, skills training\, or career readiness \n\n\n\n\nThere is no vendor fee. We simply ask that vendors: \n·         Bring their own table and chairs \n·         Provide any signage\, table coverings\, handouts\, or giveaways \n·         Arrive between 8:30–9:45 AM for check-in and setup \n  \nREGISTER AS EMPLOYER/EDUCATION PARTNER
URL:https://subcusa.com/event/missouri-city-tx-career-fair-education-expo-employers-job-seekers-welcome/
LOCATION:Shell Hebert Career & Technical Academy\, 2714 Cypress Point Drive\, Missouri City\, TX\, 77459\, United States
ATTACH;FMTTYPE=image/jpeg:https://subcusa.com/wp-content/uploads/2025/11/Screenshot-2025-11-24-125100.jpg
END:VEVENT
END:VCALENDAR