BEGIN:VCALENDAR
VERSION:2.0
PRODID:-//Subcontractors USA - ECPv6.15.20//NONSGML v1.0//EN
CALSCALE:GREGORIAN
METHOD:PUBLISH
X-ORIGINAL-URL:https://subcusa.com
X-WR-CALDESC:Events for Subcontractors USA
REFRESH-INTERVAL;VALUE=DURATION:PT1H
X-Robots-Tag:noindex
X-PUBLISHED-TTL:PT1H
BEGIN:VTIMEZONE
TZID:UTC
BEGIN:STANDARD
TZOFFSETFROM:+0000
TZOFFSETTO:+0000
TZNAME:UTC
DTSTART:20240101T000000
END:STANDARD
END:VTIMEZONE
BEGIN:VEVENT
DTSTART;TZID=UTC:20250925T180000
DTEND;TZID=UTC:20250925T210000
DTSTAMP:20260423T111323
CREATED:20250801T213200Z
LAST-MODIFIED:20250801T213200Z
UID:10000839-1758823200-1758834000@subcusa.com
SUMMARY:Mansfield\, TX - NAMC 5th Annual Golden Shovel Awards
DESCRIPTION:Join NAMC DFW for its 5th Annual Golden Shovel Awards. With the support of our Major Corporate Partners\, we will showcase local construction projects and businesses that build them. We will recognize the accomplishments of project owners\, prime general contractors\, trade contractors and suppliers. Registration is now open on our website and sponsorship opportunities are available. \nREGISTER HERE 
URL:https://subcusa.com/event/mansfield-tx-namc-5th-annual-golden-shovel-awards/
LOCATION:The Grand View\, 2201 Heritage Parkway\, Mansfield\, TX 76063\, TX\, 76063\, United States
ATTACH;FMTTYPE=image/jpeg:https://subcusa.com/wp-content/uploads/2025/08/Screenshot-2025-08-01-162525.jpg
END:VEVENT
END:VCALENDAR