BEGIN:VCALENDAR
VERSION:2.0
PRODID:-//Subcontractors USA - ECPv6.15.20//NONSGML v1.0//EN
CALSCALE:GREGORIAN
METHOD:PUBLISH
X-WR-CALNAME:Subcontractors USA
X-ORIGINAL-URL:https://subcusa.com
X-WR-CALDESC:Events for Subcontractors USA
REFRESH-INTERVAL;VALUE=DURATION:PT1H
X-Robots-Tag:noindex
X-PUBLISHED-TTL:PT1H
BEGIN:VTIMEZONE
TZID:UTC
BEGIN:STANDARD
TZOFFSETFROM:+0000
TZOFFSETTO:+0000
TZNAME:UTC
DTSTART:20240101T000000
END:STANDARD
END:VTIMEZONE
BEGIN:VEVENT
DTSTART;TZID=UTC:20250813T090000
DTEND;TZID=UTC:20250813T120000
DTSTAMP:20260423T200654
CREATED:20250709T182619Z
LAST-MODIFIED:20250709T184901Z
UID:10000821-1755075600-1755086400@subcusa.com
SUMMARY:Houston\, TX - FREE UHS HUB Large Construction Meeting
DESCRIPTION:The University of Houston System (UHS) HUB Program invites prime contractors\, subcontractors\, and HUB-certified firms to attend our FREE Large Construction Meeting focused on expanding opportunities and collaboration in higher education construction. \nRegister Today  \n  \n  \n 
URL:https://subcusa.com/event/houston-tx-free-uhs-hub-large-construction-meeting/
LOCATION:UH Welcome Center Parking Garage\, 4434 University Drive\, Houston\, TX\, 77204\, United States
ATTACH;FMTTYPE=image/jpeg:https://subcusa.com/wp-content/uploads/2025/07/Screenshot-2025-07-09-132430.jpg
END:VEVENT
END:VCALENDAR